BEGIN:VCALENDAR
VERSION:2.0
PRODID:-//DIE GLOCKE | Das Bremer Konzerthaus - ECPv6.6.3//NONSGML v1.0//EN
CALSCALE:GREGORIAN
METHOD:PUBLISH
X-WR-CALNAME:DIE GLOCKE | Das Bremer Konzerthaus
X-ORIGINAL-URL:https://glocke.whitebox-dev.de
X-WR-CALDESC:Veranstaltungen für DIE GLOCKE | Das Bremer Konzerthaus
REFRESH-INTERVAL;VALUE=DURATION:PT1H
X-Robots-Tag:noindex
X-PUBLISHED-TTL:PT1H
BEGIN:VTIMEZONE
TZID:Europe/Berlin
BEGIN:DAYLIGHT
TZOFFSETFROM:+0100
TZOFFSETTO:+0200
TZNAME:CEST
DTSTART:20210328T010000
END:DAYLIGHT
BEGIN:STANDARD
TZOFFSETFROM:+0200
TZOFFSETTO:+0100
TZNAME:CET
DTSTART:20211031T010000
END:STANDARD
END:VTIMEZONE
BEGIN:VEVENT
DTSTART;TZID=Europe/Berlin:20210917T200000
DTEND;TZID=Europe/Berlin:20210917T220000
DTSTAMP:20260425T205206
CREATED:20210729T083500Z
LAST-MODIFIED:20221027T101641Z
UID:10001063-1631908800-1631916000@glocke.whitebox-dev.de
SUMMARY:32. Musikfest Bremen »»Currentzis & Prokofjew««
DESCRIPTION:
URL:https://glocke.whitebox-dev.de/event/32-musikfest-bremen-currentzis-prokofjew/
LOCATION:Großer Saal\, Germany
CATEGORIES:Allgemeine
ATTACH;FMTTYPE=image/jpeg:https://glocke.whitebox-dev.de/wp-content/uploads/2021/07/swr-currentzis21_460.jpeg
ORGANIZER;CN="Musikfest Bremen gGmbH":MAILTO:info@musikfest-bremen.de
END:VEVENT
END:VCALENDAR