BEGIN:VCALENDAR
VERSION:2.0
PRODID:-//DIE GLOCKE | Das Bremer Konzerthaus - ECPv6.6.3//NONSGML v1.0//EN
CALSCALE:GREGORIAN
METHOD:PUBLISH
X-WR-CALNAME:DIE GLOCKE | Das Bremer Konzerthaus
X-ORIGINAL-URL:https://glocke.whitebox-dev.de
X-WR-CALDESC:Veranstaltungen für DIE GLOCKE | Das Bremer Konzerthaus
REFRESH-INTERVAL;VALUE=DURATION:PT1H
X-Robots-Tag:noindex
X-PUBLISHED-TTL:PT1H
BEGIN:VTIMEZONE
TZID:Europe/Berlin
BEGIN:DAYLIGHT
TZOFFSETFROM:+0100
TZOFFSETTO:+0200
TZNAME:CEST
DTSTART:20210328T010000
END:DAYLIGHT
BEGIN:STANDARD
TZOFFSETFROM:+0200
TZOFFSETTO:+0100
TZNAME:CET
DTSTART:20211031T010000
END:STANDARD
END:VTIMEZONE
BEGIN:VEVENT
DTSTART;TZID=Europe/Berlin:20210926T110000
DTEND;TZID=Europe/Berlin:20210926T130000
DTSTAMP:20260425T205306
CREATED:20211212T133525Z
LAST-MODIFIED:20221027T101641Z
UID:10001224-1632654000-1632661200@glocke.whitebox-dev.de
SUMMARY:Bremer Philharmoniker »»Von Welterfolgen und schweren Geburten«« 1. Philharmonisches Konzert
DESCRIPTION:
URL:https://glocke.whitebox-dev.de/event/bremer-philharmoniker-von-welterfolgen-und-schweren-geburten-1-philharmonisches-konzert/
LOCATION:Großer Saal\, Germany
CATEGORIES:Allgemeine
ORGANIZER;CN="Bremer Philharmoniker GmbH":MAILTO:info@bremerphilharmoniker.de
END:VEVENT
BEGIN:VEVENT
DTSTART;TZID=Europe/Berlin:20210926T153000
DTEND;TZID=Europe/Berlin:20210926T173000
DTSTAMP:20260425T205306
CREATED:20220131T155530Z
LAST-MODIFIED:20221027T101641Z
UID:10001363-1632670200-1632677400@glocke.whitebox-dev.de
SUMMARY:Bremer Kaffeehaus-Orchester »Herbstkonzert«
DESCRIPTION:
URL:https://glocke.whitebox-dev.de/event/bremer-kaffeehaus-orchester-herbstkonzert/
LOCATION:Kleiner Saal\, Germany
CATEGORIES:Allgemeine
ORGANIZER;CN="Bremer Kaffeehaus-Orchester GbR":MAILTO:info@bremerkaffeehausorchester.de
END:VEVENT
END:VCALENDAR