BEGIN:VCALENDAR
VERSION:2.0
PRODID:-//DIE GLOCKE | Das Bremer Konzerthaus - ECPv6.6.3//NONSGML v1.0//EN
CALSCALE:GREGORIAN
METHOD:PUBLISH
X-WR-CALNAME:DIE GLOCKE | Das Bremer Konzerthaus
X-ORIGINAL-URL:https://glocke.whitebox-dev.de
X-WR-CALDESC:Veranstaltungen für DIE GLOCKE | Das Bremer Konzerthaus
REFRESH-INTERVAL;VALUE=DURATION:PT1H
X-Robots-Tag:noindex
X-PUBLISHED-TTL:PT1H
BEGIN:VTIMEZONE
TZID:Europe/Berlin
BEGIN:DAYLIGHT
TZOFFSETFROM:+0100
TZOFFSETTO:+0200
TZNAME:CEST
DTSTART:20210328T010000
END:DAYLIGHT
BEGIN:STANDARD
TZOFFSETFROM:+0200
TZOFFSETTO:+0100
TZNAME:CET
DTSTART:20211031T010000
END:STANDARD
END:VTIMEZONE
BEGIN:VEVENT
DTSTART;TZID=Europe/Berlin:20211003T180000
DTEND;TZID=Europe/Berlin:20211003T200000
DTSTAMP:20260425T184847
CREATED:20210729T141812Z
LAST-MODIFIED:20221027T101641Z
UID:10001070-1633284000-1633291200@glocke.whitebox-dev.de
SUMMARY:KARAT akustisch '45
DESCRIPTION:Tickets\nBei Fragen stehen wir Ihnen unter Tel. 0421-33 66 99 gerne zur Verfügung. \nEs gibt keine Ermäßigungen.
URL:https://glocke.whitebox-dev.de/event/karat-akustisch-45/
LOCATION:Großer Saal\, Germany
CATEGORIES:Allgemeine
ATTACH;FMTTYPE=image/jpeg:https://glocke.whitebox-dev.de/wp-content/uploads/2021/07/karat-presse_460.jpeg
ORGANIZER;CN="MB-Konzerte":MAILTO:office@mb-konzerte.de
END:VEVENT
END:VCALENDAR