BEGIN:VCALENDAR
VERSION:2.0
PRODID:-//DIE GLOCKE | Das Bremer Konzerthaus - ECPv6.6.3//NONSGML v1.0//EN
CALSCALE:GREGORIAN
METHOD:PUBLISH
X-WR-CALNAME:DIE GLOCKE | Das Bremer Konzerthaus
X-ORIGINAL-URL:https://glocke.whitebox-dev.de
X-WR-CALDESC:Veranstaltungen für DIE GLOCKE | Das Bremer Konzerthaus
REFRESH-INTERVAL;VALUE=DURATION:PT1H
X-Robots-Tag:noindex
X-PUBLISHED-TTL:PT1H
BEGIN:VTIMEZONE
TZID:Europe/Berlin
BEGIN:DAYLIGHT
TZOFFSETFROM:+0100
TZOFFSETTO:+0200
TZNAME:CEST
DTSTART:20210328T010000
END:DAYLIGHT
BEGIN:STANDARD
TZOFFSETFROM:+0200
TZOFFSETTO:+0100
TZNAME:CET
DTSTART:20211031T010000
END:STANDARD
END:VTIMEZONE
BEGIN:VEVENT
DTSTART;TZID=Europe/Berlin:20211021T190000
DTEND;TZID=Europe/Berlin:20211021T210000
DTSTAMP:20260425T184840
CREATED:20220105T141721Z
LAST-MODIFIED:20221027T101640Z
UID:10001109-1634842800-1634850000@glocke.whitebox-dev.de
SUMMARY:Festkonzert »Bremer Philharmoniker« »1700 Jahre jüdisches Leben in Deutschland«
DESCRIPTION:
URL:https://glocke.whitebox-dev.de/event/festkonzert-bremer-philharmoniker-1700-jahre-juedisches-leben-in-deutschland/
LOCATION:Großer Saal\, Germany
CATEGORIES:Allgemeine
ATTACH;FMTTYPE=image/jpeg:https://glocke.whitebox-dev.de/wp-content/uploads/2022/01/monica-ramon21_460.jpg
END:VEVENT
END:VCALENDAR