BEGIN:VCALENDAR
VERSION:2.0
PRODID:-//DIE GLOCKE | Das Bremer Konzerthaus - ECPv6.6.3//NONSGML v1.0//EN
CALSCALE:GREGORIAN
METHOD:PUBLISH
X-WR-CALNAME:DIE GLOCKE | Das Bremer Konzerthaus
X-ORIGINAL-URL:https://glocke.whitebox-dev.de
X-WR-CALDESC:Veranstaltungen für DIE GLOCKE | Das Bremer Konzerthaus
REFRESH-INTERVAL;VALUE=DURATION:PT1H
X-Robots-Tag:noindex
X-PUBLISHED-TTL:PT1H
BEGIN:VTIMEZONE
TZID:Europe/Berlin
BEGIN:DAYLIGHT
TZOFFSETFROM:+0100
TZOFFSETTO:+0200
TZNAME:CEST
DTSTART:20210328T010000
END:DAYLIGHT
BEGIN:STANDARD
TZOFFSETFROM:+0200
TZOFFSETTO:+0100
TZNAME:CET
DTSTART:20211031T010000
END:STANDARD
END:VTIMEZONE
BEGIN:VEVENT
DTSTART;TZID=Europe/Berlin:20211031T200000
DTEND;TZID=Europe/Berlin:20211031T220000
DTSTAMP:20260425T184522
CREATED:20220929T112853Z
LAST-MODIFIED:20221027T101640Z
UID:10001599-1635710400-1635717600@glocke.whitebox-dev.de
SUMMARY:Patricia Kelly »One More Year«-Tour 2021
DESCRIPTION:
URL:https://glocke.whitebox-dev.de/event/patricia-kelly-one-more-year-tour-2021/
LOCATION:Großer Saal\, Germany
CATEGORIES:Allgemeine
ORGANIZER;CN="MSK Events GmbH":MAILTO:info@msk-live.de
END:VEVENT
END:VCALENDAR