BEGIN:VCALENDAR
VERSION:2.0
PRODID:-//DIE GLOCKE | Das Bremer Konzerthaus - ECPv6.6.3//NONSGML v1.0//EN
CALSCALE:GREGORIAN
METHOD:PUBLISH
X-ORIGINAL-URL:https://glocke.whitebox-dev.de
X-WR-CALDESC:Veranstaltungen für DIE GLOCKE | Das Bremer Konzerthaus
REFRESH-INTERVAL;VALUE=DURATION:PT1H
X-Robots-Tag:noindex
X-PUBLISHED-TTL:PT1H
BEGIN:VTIMEZONE
TZID:Europe/Berlin
BEGIN:DAYLIGHT
TZOFFSETFROM:+0100
TZOFFSETTO:+0200
TZNAME:CEST
DTSTART:20210328T010000
END:DAYLIGHT
BEGIN:STANDARD
TZOFFSETFROM:+0200
TZOFFSETTO:+0100
TZNAME:CET
DTSTART:20211031T010000
END:STANDARD
END:VTIMEZONE
BEGIN:VEVENT
DTSTART;TZID=Europe/Berlin:20211105T160000
DTEND;TZID=Europe/Berlin:20211105T180000
DTSTAMP:20260425T195025
CREATED:20220929T112437Z
LAST-MODIFIED:20221027T101640Z
UID:10001598-1636128000-1636135200@glocke.whitebox-dev.de
SUMMARY:»We are the World!« Hunderte Schüler singen mit bekannten Stars
DESCRIPTION:
URL:https://glocke.whitebox-dev.de/event/we-are-the-world-hunderte-schueler-singen-mit-bekannten-stars-4/
LOCATION:Großer Saal\, Germany
CATEGORIES:Allgemeine
ORGANIZER;CN="AfroGospel / Praise Avenue":MAILTO:office@watw-musik.de
END:VEVENT
END:VCALENDAR