BEGIN:VCALENDAR
VERSION:2.0
PRODID:-//DIE GLOCKE | Das Bremer Konzerthaus - ECPv6.6.3//NONSGML v1.0//EN
CALSCALE:GREGORIAN
METHOD:PUBLISH
X-ORIGINAL-URL:https://glocke.whitebox-dev.de
X-WR-CALDESC:Veranstaltungen für DIE GLOCKE | Das Bremer Konzerthaus
REFRESH-INTERVAL;VALUE=DURATION:PT1H
X-Robots-Tag:noindex
X-PUBLISHED-TTL:PT1H
BEGIN:VTIMEZONE
TZID:Europe/Berlin
BEGIN:DAYLIGHT
TZOFFSETFROM:+0100
TZOFFSETTO:+0200
TZNAME:CEST
DTSTART:20210328T010000
END:DAYLIGHT
BEGIN:STANDARD
TZOFFSETFROM:+0200
TZOFFSETTO:+0100
TZNAME:CET
DTSTART:20211031T010000
END:STANDARD
END:VTIMEZONE
BEGIN:VEVENT
DTSTART;TZID=Europe/Berlin:20211107T170000
DTEND;TZID=Europe/Berlin:20211107T190000
DTSTAMP:20260425T185030
CREATED:20220106T102936Z
LAST-MODIFIED:20221027T101640Z
UID:10001299-1636304400-1636311600@glocke.whitebox-dev.de
SUMMARY:»Auf WiederHören!« »Sauer trifft Kuhn - romantische Fantasien für Posaune und Orgel«
DESCRIPTION:
URL:https://glocke.whitebox-dev.de/event/auf-wiederhoeren-sauer-trifft-kuhn-romantische-fantasien-fuer-posaune-und-orgel/
LOCATION:Großer Saal\, Germany
CATEGORIES:GLOCKE ImPuls
ATTACH;FMTTYPE=image/jpeg:https://glocke.whitebox-dev.de/wp-content/uploads/2022/01/ImPuls_21-09-20_GlossArte_cDuo-GlossArte-scaled.jpg
ORGANIZER;CN="Glocke Veranstaltungs-GmbH":MAILTO:info@glocke.de
END:VEVENT
END:VCALENDAR