BEGIN:VCALENDAR
VERSION:2.0
PRODID:-//DIE GLOCKE | Das Bremer Konzerthaus - ECPv6.6.3//NONSGML v1.0//EN
CALSCALE:GREGORIAN
METHOD:PUBLISH
X-ORIGINAL-URL:https://glocke.whitebox-dev.de
X-WR-CALDESC:Veranstaltungen für DIE GLOCKE | Das Bremer Konzerthaus
REFRESH-INTERVAL;VALUE=DURATION:PT1H
X-Robots-Tag:noindex
X-PUBLISHED-TTL:PT1H
BEGIN:VTIMEZONE
TZID:Europe/Berlin
BEGIN:DAYLIGHT
TZOFFSETFROM:+0100
TZOFFSETTO:+0200
TZNAME:CEST
DTSTART:20210328T010000
END:DAYLIGHT
BEGIN:STANDARD
TZOFFSETFROM:+0200
TZOFFSETTO:+0100
TZNAME:CET
DTSTART:20211031T010000
END:STANDARD
END:VTIMEZONE
BEGIN:VEVENT
DTSTART;TZID=Europe/Berlin:20211108T200000
DTEND;TZID=Europe/Berlin:20211108T220000
DTSTAMP:20260425T183938
CREATED:20210804T100107Z
LAST-MODIFIED:20221027T101640Z
UID:10001082-1636401600-1636408800@glocke.whitebox-dev.de
SUMMARY:Klaus Maria Brandauer »»Eine Pilgerfahrt zu Beethoven«« Eine musikalische Lesung
DESCRIPTION:
URL:https://glocke.whitebox-dev.de/event/klaus-maria-brandauer-eine-pilgerfahrt-zu-beethoven-eine-musikalische-lesung/
LOCATION:Großer Saal\, Germany
CATEGORIES:Allgemeine
ATTACH;FMTTYPE=image/jpeg:https://glocke.whitebox-dev.de/wp-content/uploads/2021/08/brandauer20_460.jpeg
ORGANIZER;CN="PromEvent & Media KG":MAILTO:info@promevent.de
END:VEVENT
END:VCALENDAR