BEGIN:VCALENDAR
VERSION:2.0
PRODID:-//DIE GLOCKE | Das Bremer Konzerthaus - ECPv6.6.3//NONSGML v1.0//EN
CALSCALE:GREGORIAN
METHOD:PUBLISH
X-ORIGINAL-URL:https://glocke.whitebox-dev.de
X-WR-CALDESC:Veranstaltungen für DIE GLOCKE | Das Bremer Konzerthaus
REFRESH-INTERVAL;VALUE=DURATION:PT1H
X-Robots-Tag:noindex
X-PUBLISHED-TTL:PT1H
BEGIN:VTIMEZONE
TZID:Europe/Berlin
BEGIN:DAYLIGHT
TZOFFSETFROM:+0100
TZOFFSETTO:+0200
TZNAME:CEST
DTSTART:20210328T010000
END:DAYLIGHT
BEGIN:STANDARD
TZOFFSETFROM:+0200
TZOFFSETTO:+0100
TZNAME:CET
DTSTART:20211031T010000
END:STANDARD
END:VTIMEZONE
BEGIN:VEVENT
DTSTART;TZID=Europe/Berlin:20211127T200000
DTEND;TZID=Europe/Berlin:20211127T220000
DTSTAMP:20260425T205539
CREATED:20220929T110654Z
LAST-MODIFIED:20221027T102744Z
UID:10001314-1638043200-1638050400@glocke.whitebox-dev.de
SUMMARY:THE MOTOWN SOUL SYMPHONY »Michael Jackson – The Symphony Experience«
DESCRIPTION:
URL:https://glocke.whitebox-dev.de/event/the-motown-soul-symphony-michael-jackson-the-symphony-experience/
LOCATION:Großer Saal\, Germany
CATEGORIES:Allgemeine
ORGANIZER;CN="LUV%C2%B4N MUSIQ Entertainment GmbH":MAILTO:sebastiao@luvnmusiq.com
END:VEVENT
END:VCALENDAR