BEGIN:VCALENDAR
VERSION:2.0
PRODID:-//DIE GLOCKE | Das Bremer Konzerthaus - ECPv6.6.3//NONSGML v1.0//EN
CALSCALE:GREGORIAN
METHOD:PUBLISH
X-ORIGINAL-URL:https://glocke.whitebox-dev.de
X-WR-CALDESC:Veranstaltungen für DIE GLOCKE | Das Bremer Konzerthaus
REFRESH-INTERVAL;VALUE=DURATION:PT1H
X-Robots-Tag:noindex
X-PUBLISHED-TTL:PT1H
BEGIN:VTIMEZONE
TZID:Europe/Berlin
BEGIN:DAYLIGHT
TZOFFSETFROM:+0100
TZOFFSETTO:+0200
TZNAME:CEST
DTSTART:20210328T010000
END:DAYLIGHT
BEGIN:STANDARD
TZOFFSETFROM:+0200
TZOFFSETTO:+0100
TZNAME:CET
DTSTART:20211031T010000
END:STANDARD
END:VTIMEZONE
BEGIN:VEVENT
DTSTART;TZID=Europe/Berlin:20211205T110000
DTEND;TZID=Europe/Berlin:20211205T170000
DTSTAMP:20260425T185015
CREATED:20220110T140348Z
LAST-MODIFIED:20221027T102744Z
UID:10001132-1638702000-1638723600@glocke.whitebox-dev.de
SUMMARY:Barbara Robinson: »Hilfe\, die Herdmanns kommen!«
DESCRIPTION:
URL:https://glocke.whitebox-dev.de/event/barbara-robinson-hilfe-die-herdmanns-kommen/
LOCATION:Kleiner Saal\, Germany
CATEGORIES:GLOCKE Lesung mit Musik
ATTACH;FMTTYPE=image/jpeg:https://glocke.whitebox-dev.de/wp-content/uploads/2022/01/Lesung_Herdmanns_Illustration©Wilhelm-Schlote-©-Auffuehrungsrechte-Verlag-fuer-Kindertheater-Weitendorf-GmbH-Hamburg-deutsche-Buchausgabe-erschienen-beim-Verlag-Friedrich-Oetinger-Hamburg-e1641823354690.jpg
ORGANIZER;CN="Glocke Veranstaltungs-GmbH":MAILTO:info@glocke.de
END:VEVENT
BEGIN:VEVENT
DTSTART;TZID=Europe/Berlin:20211205T150000
DTEND;TZID=Europe/Berlin:20211205T213000
DTSTAMP:20260425T185015
CREATED:20220110T112330Z
LAST-MODIFIED:20221027T102743Z
UID:10001121-1638716400-1638739800@glocke.whitebox-dev.de
SUMMARY:musica viva »Festliches Weihnachtskonzert«
DESCRIPTION:
URL:https://glocke.whitebox-dev.de/event/musica-viva-festliches-weihnachtskonzert-3/
LOCATION:Großer Saal\, Germany
CATEGORIES:Allgemeine
ORGANIZER;CN="Nicolas Hrudnik Konzertveranstaltungen":MAILTO:info@musicaviva.de
END:VEVENT
END:VCALENDAR