BEGIN:VCALENDAR
VERSION:2.0
PRODID:-//DIE GLOCKE | Das Bremer Konzerthaus - ECPv6.6.3//NONSGML v1.0//EN
CALSCALE:GREGORIAN
METHOD:PUBLISH
X-ORIGINAL-URL:https://glocke.whitebox-dev.de
X-WR-CALDESC:Veranstaltungen für DIE GLOCKE | Das Bremer Konzerthaus
REFRESH-INTERVAL;VALUE=DURATION:PT1H
X-Robots-Tag:noindex
X-PUBLISHED-TTL:PT1H
BEGIN:VTIMEZONE
TZID:Europe/Berlin
BEGIN:DAYLIGHT
TZOFFSETFROM:+0100
TZOFFSETTO:+0200
TZNAME:CEST
DTSTART:20210328T010000
END:DAYLIGHT
BEGIN:STANDARD
TZOFFSETFROM:+0200
TZOFFSETTO:+0100
TZNAME:CET
DTSTART:20211031T010000
END:STANDARD
END:VTIMEZONE
BEGIN:VEVENT
DTSTART;TZID=Europe/Berlin:20211208T200000
DTEND;TZID=Europe/Berlin:20211208T220000
DTSTAMP:20260425T173839
CREATED:20220929T104650Z
LAST-MODIFIED:20221027T102743Z
UID:10001308-1638993600-1639000800@glocke.whitebox-dev.de
SUMMARY:Till Brönner (2G)
DESCRIPTION:
URL:https://glocke.whitebox-dev.de/event/till-broenner-2g/
LOCATION:Großer Saal\, Germany
CATEGORIES:Allgemeine
ATTACH;FMTTYPE=image/jpeg:https://glocke.whitebox-dev.de/wp-content/uploads/2022/01/Till-Broenner_Pressebild_Credit-Robert-Eikelpoth-e1642495797197.jpg
ORGANIZER;CN="River Concerts GmbH":MAILTO:k.winter@riverconcerts.de
END:VEVENT
END:VCALENDAR