BEGIN:VCALENDAR
VERSION:2.0
PRODID:-//DIE GLOCKE | Das Bremer Konzerthaus - ECPv6.6.3//NONSGML v1.0//EN
CALSCALE:GREGORIAN
METHOD:PUBLISH
X-ORIGINAL-URL:https://glocke.whitebox-dev.de
X-WR-CALDESC:Veranstaltungen für DIE GLOCKE | Das Bremer Konzerthaus
REFRESH-INTERVAL;VALUE=DURATION:PT1H
X-Robots-Tag:noindex
X-PUBLISHED-TTL:PT1H
BEGIN:VTIMEZONE
TZID:Europe/Berlin
BEGIN:DAYLIGHT
TZOFFSETFROM:+0100
TZOFFSETTO:+0200
TZNAME:CEST
DTSTART:20210328T010000
END:DAYLIGHT
BEGIN:STANDARD
TZOFFSETFROM:+0200
TZOFFSETTO:+0100
TZNAME:CET
DTSTART:20211031T010000
END:STANDARD
END:VTIMEZONE
BEGIN:VEVENT
DTSTART;TZID=Europe/Berlin:20211226T170000
DTEND;TZID=Europe/Berlin:20211226T190000
DTSTAMP:20260425T162124
CREATED:20220922T102657Z
LAST-MODIFIED:20221027T102736Z
UID:10001594-1640538000-1640545200@glocke.whitebox-dev.de
SUMMARY:Vladimir Mogilevsky »Best of Chopin« Klavierabend
DESCRIPTION:
URL:https://glocke.whitebox-dev.de/event/vladimir-mogilevsky-best-of-chopin-klavierabend/
LOCATION:Kleiner Saal\, Germany
CATEGORIES:Allgemeine
ATTACH;FMTTYPE=image/jpeg:https://glocke.whitebox-dev.de/wp-content/uploads/2021/12/mogilevsky-foto9-2-2336x3504-11-scaled-e1639584165282.jpg
ORGANIZER;CN="WORLDofDINNER":MAILTO:info@worldofdinner.de
END:VEVENT
END:VCALENDAR