BEGIN:VCALENDAR
VERSION:2.0
PRODID:-//DIE GLOCKE | Das Bremer Konzerthaus - ECPv6.6.3//NONSGML v1.0//EN
CALSCALE:GREGORIAN
METHOD:PUBLISH
X-ORIGINAL-URL:https://glocke.whitebox-dev.de
X-WR-CALDESC:Veranstaltungen für DIE GLOCKE | Das Bremer Konzerthaus
REFRESH-INTERVAL;VALUE=DURATION:PT1H
X-Robots-Tag:noindex
X-PUBLISHED-TTL:PT1H
BEGIN:VTIMEZONE
TZID:Europe/Berlin
BEGIN:DAYLIGHT
TZOFFSETFROM:+0100
TZOFFSETTO:+0200
TZNAME:CEST
DTSTART:20210328T010000
END:DAYLIGHT
BEGIN:STANDARD
TZOFFSETFROM:+0200
TZOFFSETTO:+0100
TZNAME:CET
DTSTART:20211031T010000
END:STANDARD
END:VTIMEZONE
BEGIN:VEVENT
DTSTART;TZID=Europe/Berlin:20211231T170000
DTEND;TZID=Europe/Berlin:20211231T190000
DTSTAMP:20260425T150537
CREATED:20220922T102005Z
LAST-MODIFIED:20221027T102736Z
UID:10001593-1640970000-1640977200@glocke.whitebox-dev.de
SUMMARY:Klassische Philharmonie NordWest - Festliches Silvesterkonzert (2G)
DESCRIPTION:
URL:https://glocke.whitebox-dev.de/event/klassische-philharmonie-nordwest-festliches-silvesterkonzert-2g/
LOCATION:Kleiner Saal\, Germany
CATEGORIES:Allgemeine
END:VEVENT
BEGIN:VEVENT
DTSTART;TZID=Europe/Berlin:20211231T180000
DTEND;TZID=Europe/Berlin:20211231T200000
DTSTAMP:20260425T150537
CREATED:20220922T101616Z
LAST-MODIFIED:20221027T102736Z
UID:10001592-1640973600-1640980800@glocke.whitebox-dev.de
SUMMARY:Silvesterkonzert (2G)
DESCRIPTION:
URL:https://glocke.whitebox-dev.de/event/silvesterkonzert-2g/
LOCATION:Großer Saal\, Germany
CATEGORIES:Allgemeine
ORGANIZER;CN="KPS Concertb%C3%BCro GmbH":MAILTO:julia.baumann@kps.de
END:VEVENT
END:VCALENDAR