BEGIN:VCALENDAR
VERSION:2.0
PRODID:-//DIE GLOCKE | Das Bremer Konzerthaus - ECPv6.6.3//NONSGML v1.0//EN
CALSCALE:GREGORIAN
METHOD:PUBLISH
X-ORIGINAL-URL:https://glocke.whitebox-dev.de
X-WR-CALDESC:Veranstaltungen für DIE GLOCKE | Das Bremer Konzerthaus
REFRESH-INTERVAL;VALUE=DURATION:PT1H
X-Robots-Tag:noindex
X-PUBLISHED-TTL:PT1H
BEGIN:VTIMEZONE
TZID:Europe/Berlin
BEGIN:DAYLIGHT
TZOFFSETFROM:+0100
TZOFFSETTO:+0200
TZNAME:CEST
DTSTART:20220327T010000
END:DAYLIGHT
BEGIN:STANDARD
TZOFFSETFROM:+0200
TZOFFSETTO:+0100
TZNAME:CET
DTSTART:20221030T010000
END:STANDARD
END:VTIMEZONE
BEGIN:VEVENT
DTSTART;TZID=Europe/Berlin:20220102T153000
DTEND;TZID=Europe/Berlin:20220102T170000
DTSTAMP:20260425T150516
CREATED:20211118T114135Z
LAST-MODIFIED:20221027T102735Z
UID:10001019-1641137400-1641142800@glocke.whitebox-dev.de
SUMMARY:Bremer Kaffeehaus-Orchester »Neujahrskonzert: Champagnerlaune!«
DESCRIPTION:
URL:https://glocke.whitebox-dev.de/event/bremer-kaffeehaus-orchester-neujahrskonzert-champagnerlaune/
LOCATION:Kleiner Saal\, Germany
CATEGORIES:Allgemeine
ORGANIZER;CN="Bremer Kaffeehaus-Orchester GbR":MAILTO:info@bremerkaffeehausorchester.de
END:VEVENT
BEGIN:VEVENT
DTSTART;TZID=Europe/Berlin:20220102T190000
DTEND;TZID=Europe/Berlin:20220102T213000
DTSTAMP:20260425T150516
CREATED:20211123T163619Z
LAST-MODIFIED:20221027T102735Z
UID:10001131-1641150000-1641159000@glocke.whitebox-dev.de
SUMMARY:Musical »Ewig jung«\nRock’n’Roll bis du stirbst!
DESCRIPTION:
URL:https://glocke.whitebox-dev.de/event/musical-ewig-jungrocknroll-bis-du-stirbst/
LOCATION:Großer Saal\, Germany
CATEGORIES:Allgemeine
ATTACH;FMTTYPE=image/jpeg:https://glocke.whitebox-dev.de/wp-content/uploads/2021/11/EwigJung_30.04.2020_Pressebild.jpg
END:VEVENT
END:VCALENDAR