BEGIN:VCALENDAR
VERSION:2.0
PRODID:-//DIE GLOCKE | Das Bremer Konzerthaus - ECPv6.6.3//NONSGML v1.0//EN
CALSCALE:GREGORIAN
METHOD:PUBLISH
X-ORIGINAL-URL:https://glocke.whitebox-dev.de
X-WR-CALDESC:Veranstaltungen für DIE GLOCKE | Das Bremer Konzerthaus
REFRESH-INTERVAL;VALUE=DURATION:PT1H
X-Robots-Tag:noindex
X-PUBLISHED-TTL:PT1H
BEGIN:VTIMEZONE
TZID:Europe/Berlin
BEGIN:DAYLIGHT
TZOFFSETFROM:+0100
TZOFFSETTO:+0200
TZNAME:CEST
DTSTART:20220327T010000
END:DAYLIGHT
BEGIN:STANDARD
TZOFFSETFROM:+0200
TZOFFSETTO:+0100
TZNAME:CET
DTSTART:20221030T010000
END:STANDARD
END:VTIMEZONE
BEGIN:VEVENT
DTSTART;TZID=Europe/Berlin:20220107T200000
DTEND;TZID=Europe/Berlin:20220107T223000
DTSTAMP:20260425T185020
CREATED:20211123T174344Z
LAST-MODIFIED:20221027T102735Z
UID:10001134-1641585600-1641594600@glocke.whitebox-dev.de
SUMMARY:Ein Abend mit Robert Kreis
DESCRIPTION:
URL:https://glocke.whitebox-dev.de/event/ein-abend-mit-robert-kreis-2/
LOCATION:Kleiner Saal\, Germany
CATEGORIES:Allgemeine
ATTACH;FMTTYPE=image/jpeg:https://glocke.whitebox-dev.de/wp-content/uploads/2021/11/Robert-Kreis-scaled.jpg
ORGANIZER;CN="Tourneetheater Ruge":MAILTO:rugeudo@gmail.com
END:VEVENT
END:VCALENDAR