BEGIN:VCALENDAR
VERSION:2.0
PRODID:-//DIE GLOCKE | Das Bremer Konzerthaus - ECPv6.6.3//NONSGML v1.0//EN
CALSCALE:GREGORIAN
METHOD:PUBLISH
X-ORIGINAL-URL:https://glocke.whitebox-dev.de
X-WR-CALDESC:Veranstaltungen für DIE GLOCKE | Das Bremer Konzerthaus
REFRESH-INTERVAL;VALUE=DURATION:PT1H
X-Robots-Tag:noindex
X-PUBLISHED-TTL:PT1H
BEGIN:VTIMEZONE
TZID:Europe/Berlin
BEGIN:DAYLIGHT
TZOFFSETFROM:+0100
TZOFFSETTO:+0200
TZNAME:CEST
DTSTART:20220327T010000
END:DAYLIGHT
BEGIN:STANDARD
TZOFFSETFROM:+0200
TZOFFSETTO:+0100
TZNAME:CET
DTSTART:20221030T010000
END:STANDARD
END:VTIMEZONE
BEGIN:VEVENT
DTSTART;TZID=Europe/Berlin:20220115T200000
DTEND;TZID=Europe/Berlin:20220115T220000
DTSTAMP:20260425T150543
CREATED:20211124T180528Z
LAST-MODIFIED:20221027T102734Z
UID:10001137-1642276800-1642284000@glocke.whitebox-dev.de
SUMMARY:FLAMENCO y TANGO PASIÓN La vida es bailar!
DESCRIPTION:
URL:https://glocke.whitebox-dev.de/event/flamenco-y-tango-pasion-la-vida-es-bailar/
LOCATION:Kleiner Saal\, Germany
CATEGORIES:Allgemeine
ATTACH;FMTTYPE=image/jpeg:https://glocke.whitebox-dev.de/wp-content/uploads/2021/11/FLAMENCO-y-TANGO-PASION.jpg
ORGANIZER;CN="Blanca Nieves":MAILTO:info@blancanieves.de
END:VEVENT
BEGIN:VEVENT
DTSTART;TZID=Europe/Berlin:20220115T200000
DTEND;TZID=Europe/Berlin:20220115T223000
DTSTAMP:20260425T150543
CREATED:20211124T175632Z
LAST-MODIFIED:20221027T102734Z
UID:10001135-1642276800-1642285800@glocke.whitebox-dev.de
SUMMARY:Die Nacht der 5 Tenöre Musica del mondo
DESCRIPTION:
URL:https://glocke.whitebox-dev.de/event/die-nacht-der-5-tenoere-musica-del-mondo/
LOCATION:Großer Saal\, Germany
CATEGORIES:Allgemeine
ATTACH;FMTTYPE=image/jpeg:https://glocke.whitebox-dev.de/wp-content/uploads/2021/11/Tenoere-Live-2-e1637776525396.jpg
END:VEVENT
END:VCALENDAR