BEGIN:VCALENDAR
VERSION:2.0
PRODID:-//DIE GLOCKE | Das Bremer Konzerthaus - ECPv6.6.3//NONSGML v1.0//EN
CALSCALE:GREGORIAN
METHOD:PUBLISH
X-WR-CALNAME:DIE GLOCKE | Das Bremer Konzerthaus
X-ORIGINAL-URL:https://glocke.whitebox-dev.de
X-WR-CALDESC:Veranstaltungen für DIE GLOCKE | Das Bremer Konzerthaus
REFRESH-INTERVAL;VALUE=DURATION:PT1H
X-Robots-Tag:noindex
X-PUBLISHED-TTL:PT1H
BEGIN:VTIMEZONE
TZID:Europe/Berlin
BEGIN:DAYLIGHT
TZOFFSETFROM:+0100
TZOFFSETTO:+0200
TZNAME:CEST
DTSTART:20220327T010000
END:DAYLIGHT
BEGIN:STANDARD
TZOFFSETFROM:+0200
TZOFFSETTO:+0100
TZNAME:CET
DTSTART:20221030T010000
END:STANDARD
END:VTIMEZONE
BEGIN:VEVENT
DTSTART;TZID=Europe/Berlin:20220130T133000
DTEND;TZID=Europe/Berlin:20220130T150000
DTSTAMP:20260425T151657
CREATED:20211125T164300Z
LAST-MODIFIED:20221027T102732Z
UID:10001023-1643549400-1643554800@glocke.whitebox-dev.de
SUMMARY:Kammerensemble Konsonanz Konzerte in Bewegung
DESCRIPTION:
URL:https://glocke.whitebox-dev.de/event/kammerensemble-konsonanz-konzerte-in-bewegung/
LOCATION:Kleiner Saal\, Germany
CATEGORIES:GLOCKE ImPuls
ATTACH;FMTTYPE=image/jpeg:https://glocke.whitebox-dev.de/wp-content/uploads/2021/11/ImPuls_22-01-30_Konzerte-in-BewegungcEfrain-Oscher.jpg
ORGANIZER;CN="Glocke Veranstaltungs-GmbH":MAILTO:info@glocke.de
END:VEVENT
BEGIN:VEVENT
DTSTART;TZID=Europe/Berlin:20220130T160000
DTEND;TZID=Europe/Berlin:20220130T173000
DTSTAMP:20260425T151657
CREATED:20211125T164421Z
LAST-MODIFIED:20221027T102732Z
UID:10001024-1643558400-1643563800@glocke.whitebox-dev.de
SUMMARY:Kammerensemble Konsonanz Konzerte in Bewegung
DESCRIPTION:
URL:https://glocke.whitebox-dev.de/event/kammerensemble-konsonanz-konzerte-in-bewegung-2/
LOCATION:Kleiner Saal\, Germany
CATEGORIES:GLOCKE ImPuls
ATTACH;FMTTYPE=image/jpeg:https://glocke.whitebox-dev.de/wp-content/uploads/2021/11/ImPuls_22-01-30_Konzerte-in-BewegungcEfrain-Oscher.jpg
ORGANIZER;CN="Glocke Veranstaltungs-GmbH":MAILTO:info@glocke.de
END:VEVENT
END:VCALENDAR