BEGIN:VCALENDAR
VERSION:2.0
PRODID:-//DIE GLOCKE | Das Bremer Konzerthaus - ECPv6.6.3//NONSGML v1.0//EN
CALSCALE:GREGORIAN
METHOD:PUBLISH
X-ORIGINAL-URL:https://glocke.whitebox-dev.de
X-WR-CALDESC:Veranstaltungen für DIE GLOCKE | Das Bremer Konzerthaus
REFRESH-INTERVAL;VALUE=DURATION:PT1H
X-Robots-Tag:noindex
X-PUBLISHED-TTL:PT1H
BEGIN:VTIMEZONE
TZID:Europe/Berlin
BEGIN:DAYLIGHT
TZOFFSETFROM:+0100
TZOFFSETTO:+0200
TZNAME:CEST
DTSTART:20220327T010000
END:DAYLIGHT
BEGIN:STANDARD
TZOFFSETFROM:+0200
TZOFFSETTO:+0100
TZNAME:CET
DTSTART:20221030T010000
END:STANDARD
END:VTIMEZONE
BEGIN:VEVENT
DTSTART;TZID=Europe/Berlin:20220319T200000
DTEND;TZID=Europe/Berlin:20220319T223000
DTSTAMP:20260425T124454
CREATED:20211130T181825Z
LAST-MODIFIED:20221027T102724Z
UID:10001047-1647720000-1647729000@glocke.whitebox-dev.de
SUMMARY:Klaus Hoffmann & Band »Septemberherz«-Tour 2021
DESCRIPTION:
URL:https://glocke.whitebox-dev.de/event/klaus-hoffmann-band-septemberherz-tour-2021/
LOCATION:Großer Saal\, Germany
CATEGORIES:Allgemeine
END:VEVENT
END:VCALENDAR