BEGIN:VCALENDAR
VERSION:2.0
PRODID:-//DIE GLOCKE | Das Bremer Konzerthaus - ECPv6.6.3//NONSGML v1.0//EN
CALSCALE:GREGORIAN
METHOD:PUBLISH
X-WR-CALNAME:DIE GLOCKE | Das Bremer Konzerthaus
X-ORIGINAL-URL:https://glocke.whitebox-dev.de
X-WR-CALDESC:Veranstaltungen für DIE GLOCKE | Das Bremer Konzerthaus
REFRESH-INTERVAL;VALUE=DURATION:PT1H
X-Robots-Tag:noindex
X-PUBLISHED-TTL:PT1H
BEGIN:VTIMEZONE
TZID:Europe/Berlin
BEGIN:DAYLIGHT
TZOFFSETFROM:+0100
TZOFFSETTO:+0200
TZNAME:CEST
DTSTART:20220327T010000
END:DAYLIGHT
BEGIN:STANDARD
TZOFFSETFROM:+0200
TZOFFSETTO:+0100
TZNAME:CET
DTSTART:20221030T010000
END:STANDARD
END:VTIMEZONE
BEGIN:VEVENT
DTSTART;TZID=Europe/Berlin:20220424T180000
DTEND;TZID=Europe/Berlin:20220424T200000
DTSTAMP:20260423T112716
CREATED:20211202T155524Z
LAST-MODIFIED:20221027T102719Z
UID:10001206-1650823200-1650830400@glocke.whitebox-dev.de
SUMMARY:»Auf WiederHören!« »Verrucht & modern - Sarabande\, Ciacona\, Tango. Ein absolut verbotenes Programm!«
DESCRIPTION:
URL:https://glocke.whitebox-dev.de/event/auf-wiederhoeren-verrucht-modern-sarabande-ciacona-tango-ein-absolut-verbotenes-programm/
LOCATION:Großer Saal\, Germany
CATEGORIES:GLOCKE ImPuls
ATTACH;FMTTYPE=image/jpeg:https://glocke.whitebox-dev.de/wp-content/uploads/2021/12/ImPuls_22-04-24_La-Ninfea_cTobias-Hentze-scaled.jpg
ORGANIZER;CN="Glocke Veranstaltungs-GmbH":MAILTO:info@glocke.de
END:VEVENT
END:VCALENDAR