BEGIN:VCALENDAR
VERSION:2.0
PRODID:-//DIE GLOCKE | Das Bremer Konzerthaus - ECPv6.6.3//NONSGML v1.0//EN
CALSCALE:GREGORIAN
METHOD:PUBLISH
X-ORIGINAL-URL:https://glocke.whitebox-dev.de
X-WR-CALDESC:Veranstaltungen für DIE GLOCKE | Das Bremer Konzerthaus
REFRESH-INTERVAL;VALUE=DURATION:PT1H
X-Robots-Tag:noindex
X-PUBLISHED-TTL:PT1H
BEGIN:VTIMEZONE
TZID:Europe/Berlin
BEGIN:DAYLIGHT
TZOFFSETFROM:+0100
TZOFFSETTO:+0200
TZNAME:CEST
DTSTART:20220327T010000
END:DAYLIGHT
BEGIN:STANDARD
TZOFFSETFROM:+0200
TZOFFSETTO:+0100
TZNAME:CET
DTSTART:20221030T010000
END:STANDARD
END:VTIMEZONE
BEGIN:VEVENT
DTSTART;TZID=Europe/Berlin:20220426T193000
DTEND;TZID=Europe/Berlin:20220426T213000
DTSTAMP:20260423T124242
CREATED:20211202T161108Z
LAST-MODIFIED:20221027T102719Z
UID:10001210-1651001400-1651008600@glocke.whitebox-dev.de
SUMMARY:Bremer Philharmoniker »Kollektives Abheben« 9. Philharmonisches Konzert (2G)
DESCRIPTION:
URL:https://glocke.whitebox-dev.de/event/bremer-philharmoniker-kollektives-abheben-9-philharmonisches-konzert-2g/
LOCATION:Großer Saal\, Germany
CATEGORIES:Allgemeine
ATTACH;FMTTYPE=image/jpeg:https://glocke.whitebox-dev.de/wp-content/uploads/2021/12/Marko_Letonja_Maerz_2020_Credits_Gregory_Massat_DSC2900_3-scaled-e1638461385205.jpg
ORGANIZER;CN="Bremer Philharmoniker GmbH":MAILTO:info@bremerphilharmoniker.de
END:VEVENT
END:VCALENDAR