BEGIN:VCALENDAR
VERSION:2.0
PRODID:-//DIE GLOCKE | Das Bremer Konzerthaus - ECPv6.6.3//NONSGML v1.0//EN
CALSCALE:GREGORIAN
METHOD:PUBLISH
X-ORIGINAL-URL:https://glocke.whitebox-dev.de
X-WR-CALDESC:Veranstaltungen für DIE GLOCKE | Das Bremer Konzerthaus
REFRESH-INTERVAL;VALUE=DURATION:PT1H
X-Robots-Tag:noindex
X-PUBLISHED-TTL:PT1H
BEGIN:VTIMEZONE
TZID:Europe/Berlin
BEGIN:DAYLIGHT
TZOFFSETFROM:+0100
TZOFFSETTO:+0200
TZNAME:CEST
DTSTART:20220327T010000
END:DAYLIGHT
BEGIN:STANDARD
TZOFFSETFROM:+0200
TZOFFSETTO:+0100
TZNAME:CET
DTSTART:20221030T010000
END:STANDARD
END:VTIMEZONE
BEGIN:VEVENT
DTSTART;TZID=Europe/Berlin:20220427T180500
DTEND;TZID=Europe/Berlin:20220427T193000
DTSTAMP:20260423T124238
CREATED:20211202T161635Z
LAST-MODIFIED:20221027T102718Z
UID:10001058-1651082700-1651087800@glocke.whitebox-dev.de
SUMMARY:Bremer Philharmoniker »Applaus für's Publikum«  5nachsechs Afterwork-Konzert (2G)
DESCRIPTION:
URL:https://glocke.whitebox-dev.de/event/bremer-philharmoniker-applaus-fuers-publikum-5nachsechs-afterwork-konzert-2g/
LOCATION:Großer Saal\, Germany
CATEGORIES:Allgemeine
ATTACH;FMTTYPE=image/jpeg:https://glocke.whitebox-dev.de/wp-content/uploads/2021/12/Klingele_Stephan.jpg
ORGANIZER;CN="Bremer Philharmoniker GmbH":MAILTO:info@bremerphilharmoniker.de
END:VEVENT
BEGIN:VEVENT
DTSTART;TZID=Europe/Berlin:20220427T193000
DTEND;TZID=Europe/Berlin:20220427T213000
DTSTAMP:20260423T124238
CREATED:20211202T163049Z
LAST-MODIFIED:20221027T102718Z
UID:10001060-1651087800-1651095000@glocke.whitebox-dev.de
SUMMARY:Runge & Ammon Präsentation des neuen Albums  9. Philharmonisches Kammerkonzert
DESCRIPTION:
URL:https://glocke.whitebox-dev.de/event/runge-ammon-praesentation-des-neuen-albums-9-philharmonisches-kammerkonzert/
LOCATION:Kleiner Saal\, Germany
CATEGORIES:Allgemeine
ATTACH;FMTTYPE=image/jpeg:https://glocke.whitebox-dev.de/wp-content/uploads/2021/12/csm_Runge_Ammon_3__c__Nikolaj_Lund_b10567520f.jpg
ORGANIZER;CN="Philharmonische Gesellschaft Bremen":MAILTO:info@phg-bremen.de
END:VEVENT
END:VCALENDAR