BEGIN:VCALENDAR
VERSION:2.0
PRODID:-//DIE GLOCKE | Das Bremer Konzerthaus - ECPv6.6.3//NONSGML v1.0//EN
CALSCALE:GREGORIAN
METHOD:PUBLISH
X-ORIGINAL-URL:https://glocke.whitebox-dev.de
X-WR-CALDESC:Veranstaltungen für DIE GLOCKE | Das Bremer Konzerthaus
REFRESH-INTERVAL;VALUE=DURATION:PT1H
X-Robots-Tag:noindex
X-PUBLISHED-TTL:PT1H
BEGIN:VTIMEZONE
TZID:Europe/Berlin
BEGIN:DAYLIGHT
TZOFFSETFROM:+0100
TZOFFSETTO:+0200
TZNAME:CEST
DTSTART:20220327T010000
END:DAYLIGHT
BEGIN:STANDARD
TZOFFSETFROM:+0200
TZOFFSETTO:+0100
TZNAME:CET
DTSTART:20221030T010000
END:STANDARD
END:VTIMEZONE
BEGIN:VEVENT
DTSTART;TZID=Europe/Berlin:20220529T113000
DTEND;TZID=Europe/Berlin:20220529T133000
DTSTAMP:20260423T135934
CREATED:20220922T082812Z
LAST-MODIFIED:20221027T102714Z
UID:10001582-1653823800-1653831000@glocke.whitebox-dev.de
SUMMARY:Ehemalige des Jugendsinfonieorchesters Bremen der Musikschule Bremen Orchesterkonzert
DESCRIPTION:
URL:https://glocke.whitebox-dev.de/event/ehemalige-des-jugendsinfonieorchesters-bremen-der-musikschule-bremen-orchesterkonzert/
LOCATION:Großer Saal\, Germany
CATEGORIES:Allgemeine
ORGANIZER;CN="Heiner Buhlmann":MAILTO:heibuhb@online.de
END:VEVENT
BEGIN:VEVENT
DTSTART;TZID=Europe/Berlin:20220529T153000
DTEND;TZID=Europe/Berlin:20220529T173000
DTSTAMP:20260423T135934
CREATED:20220117T131936Z
LAST-MODIFIED:20221125T111620Z
UID:10001323-1653838200-1653845400@glocke.whitebox-dev.de
SUMMARY:Bremer Kaffeehaus-Orchester »Frühlingskonzert: Frisch aufgeblüht!«
DESCRIPTION:
URL:https://glocke.whitebox-dev.de/event/bremer-kaffeehaus-orchester-fruehlingskonzert-frisch-aufgeblueht/
LOCATION:Kleiner Saal\, Germany
CATEGORIES:Allgemeine
ATTACH;FMTTYPE=image/jpeg:https://glocke.whitebox-dev.de/wp-content/uploads/2022/01/BKO-Fruehling.jpg
ORGANIZER;CN="Bremer Kaffeehaus-Orchester GbR":MAILTO:info@bremerkaffeehausorchester.de
END:VEVENT
END:VCALENDAR