BEGIN:VCALENDAR
VERSION:2.0
PRODID:-//DIE GLOCKE | Das Bremer Konzerthaus - ECPv6.6.3//NONSGML v1.0//EN
CALSCALE:GREGORIAN
METHOD:PUBLISH
X-WR-CALNAME:DIE GLOCKE | Das Bremer Konzerthaus
X-ORIGINAL-URL:https://glocke.whitebox-dev.de
X-WR-CALDESC:Veranstaltungen für DIE GLOCKE | Das Bremer Konzerthaus
REFRESH-INTERVAL;VALUE=DURATION:PT1H
X-Robots-Tag:noindex
X-PUBLISHED-TTL:PT1H
BEGIN:VTIMEZONE
TZID:Europe/Berlin
BEGIN:DAYLIGHT
TZOFFSETFROM:+0100
TZOFFSETTO:+0200
TZNAME:CEST
DTSTART:20220327T010000
END:DAYLIGHT
BEGIN:STANDARD
TZOFFSETFROM:+0200
TZOFFSETTO:+0100
TZNAME:CET
DTSTART:20221030T010000
END:STANDARD
END:VTIMEZONE
BEGIN:VEVENT
DTSTART;TZID=Europe/Berlin:20220609T093000
DTEND;TZID=Europe/Berlin:20220609T110000
DTSTAMP:20260421T194349
CREATED:20211214T155502Z
LAST-MODIFIED:20221027T102712Z
UID:10001230-1654767000-1654772400@glocke.whitebox-dev.de
SUMMARY:Kammerensemble Konsonanz
DESCRIPTION:
URL:https://glocke.whitebox-dev.de/event/kammerensemble-konsonanz/
LOCATION:Kleiner Saal\, Germany
CATEGORIES:GLOCKE Sitzkissenkonzert
ATTACH;FMTTYPE=image/jpeg:https://glocke.whitebox-dev.de/wp-content/uploads/2021/12/SiKiKo_Konsonanz_cClaudiaBeisswanger-e1639497240869.jpg
ORGANIZER;CN="Glocke Veranstaltungs-GmbH":MAILTO:info@glocke.de
END:VEVENT
BEGIN:VEVENT
DTSTART;TZID=Europe/Berlin:20220609T113000
DTEND;TZID=Europe/Berlin:20220609T130000
DTSTAMP:20260421T194349
CREATED:20211214T155839Z
LAST-MODIFIED:20221027T102712Z
UID:10001232-1654774200-1654779600@glocke.whitebox-dev.de
SUMMARY:Kammerensemble Konsonanz
DESCRIPTION:
URL:https://glocke.whitebox-dev.de/event/kammerensemble-konsonanz-2/
LOCATION:Kleiner Saal\, Germany
CATEGORIES:GLOCKE Sitzkissenkonzert
ATTACH;FMTTYPE=image/jpeg:https://glocke.whitebox-dev.de/wp-content/uploads/2021/12/SiKiKo_Konsonanz_cClaudiaBeisswanger-e1639497240869.jpg
ORGANIZER;CN="Glocke Veranstaltungs-GmbH":MAILTO:info@glocke.de
END:VEVENT
END:VCALENDAR