BEGIN:VCALENDAR
VERSION:2.0
PRODID:-//DIE GLOCKE | Das Bremer Konzerthaus - ECPv6.6.3//NONSGML v1.0//EN
CALSCALE:GREGORIAN
METHOD:PUBLISH
X-ORIGINAL-URL:https://glocke.whitebox-dev.de
X-WR-CALDESC:Veranstaltungen für DIE GLOCKE | Das Bremer Konzerthaus
REFRESH-INTERVAL;VALUE=DURATION:PT1H
X-Robots-Tag:noindex
X-PUBLISHED-TTL:PT1H
BEGIN:VTIMEZONE
TZID:Europe/Berlin
BEGIN:DAYLIGHT
TZOFFSETFROM:+0100
TZOFFSETTO:+0200
TZNAME:CEST
DTSTART:20220327T010000
END:DAYLIGHT
BEGIN:STANDARD
TZOFFSETFROM:+0200
TZOFFSETTO:+0100
TZNAME:CET
DTSTART:20221030T010000
END:STANDARD
END:VTIMEZONE
BEGIN:VEVENT
DTSTART;TZID=Europe/Berlin:20220612T150000
DTEND;TZID=Europe/Berlin:20220612T170000
DTSTAMP:20260421T194512
CREATED:20220117T190418Z
LAST-MODIFIED:20221027T102712Z
UID:10001331-1655046000-1655053200@glocke.whitebox-dev.de
SUMMARY:»Unterwegs nach Umbidu«
DESCRIPTION:
URL:https://glocke.whitebox-dev.de/event/unterwegs-nach-umbidu-2/
LOCATION:Kleiner Saal\, Germany
CATEGORIES:GLOCKE Familienkonzert
ATTACH;FMTTYPE=image/jpeg:https://glocke.whitebox-dev.de/wp-content/uploads/2021/08/fk-umbidu_460.jpeg
ORGANIZER;CN="Glocke Veranstaltungs-GmbH":MAILTO:info@glocke.de
END:VEVENT
BEGIN:VEVENT
DTSTART;TZID=Europe/Berlin:20220612T200000
DTEND;TZID=Europe/Berlin:20220612T223000
DTSTAMP:20260421T194512
CREATED:20211214T161612Z
LAST-MODIFIED:20221027T102711Z
UID:10001234-1655064000-1655073000@glocke.whitebox-dev.de
SUMMARY:»l'adoration« mit dem ensemble geräuschkulisse
DESCRIPTION:
URL:https://glocke.whitebox-dev.de/event/ladoration-mit-dem-ensemble-geraeuschkulisse/
LOCATION:Großer Saal\, Germany
CATEGORIES:Allgemeine
ATTACH;FMTTYPE=image/jpeg:https://glocke.whitebox-dev.de/wp-content/uploads/2021/12/ensemble_gerauschkulisse_23101020-114-Kopie.jpg
END:VEVENT
END:VCALENDAR