BEGIN:VCALENDAR
VERSION:2.0
PRODID:-//DIE GLOCKE | Das Bremer Konzerthaus - ECPv6.6.3//NONSGML v1.0//EN
CALSCALE:GREGORIAN
METHOD:PUBLISH
X-WR-CALNAME:DIE GLOCKE | Das Bremer Konzerthaus
X-ORIGINAL-URL:https://glocke.whitebox-dev.de
X-WR-CALDESC:Veranstaltungen für DIE GLOCKE | Das Bremer Konzerthaus
REFRESH-INTERVAL;VALUE=DURATION:PT1H
X-Robots-Tag:noindex
X-PUBLISHED-TTL:PT1H
BEGIN:VTIMEZONE
TZID:Europe/Berlin
BEGIN:DAYLIGHT
TZOFFSETFROM:+0100
TZOFFSETTO:+0200
TZNAME:CEST
DTSTART:20220327T010000
END:DAYLIGHT
BEGIN:STANDARD
TZOFFSETFROM:+0200
TZOFFSETTO:+0100
TZNAME:CET
DTSTART:20221030T010000
END:STANDARD
END:VTIMEZONE
BEGIN:VEVENT
DTSTART;TZID=Europe/Berlin:20220617T180000
DTEND;TZID=Europe/Berlin:20220617T200000
DTSTAMP:20260421T194213
CREATED:20220118T205452Z
LAST-MODIFIED:20221027T102711Z
UID:10001142-1655488800-1655496000@glocke.whitebox-dev.de
SUMMARY:»Auf WiederHören!« »#Teddy\, Vase\, Lieblingspulli - wieklingtdeinleben?«
DESCRIPTION:
URL:https://glocke.whitebox-dev.de/event/auf-wiederhoeren-teddy-vase-lieblingspulli-wieklingtdeinleben/
LOCATION:Großer Saal\, Germany
CATEGORIES:GLOCKE ImPuls
ORGANIZER;CN="Glocke Veranstaltungs-GmbH":MAILTO:info@glocke.de
END:VEVENT
END:VCALENDAR