BEGIN:VCALENDAR
VERSION:2.0
PRODID:-//DIE GLOCKE | Das Bremer Konzerthaus - ECPv6.6.3//NONSGML v1.0//EN
CALSCALE:GREGORIAN
METHOD:PUBLISH
X-ORIGINAL-URL:https://glocke.whitebox-dev.de
X-WR-CALDESC:Veranstaltungen für DIE GLOCKE | Das Bremer Konzerthaus
REFRESH-INTERVAL;VALUE=DURATION:PT1H
X-Robots-Tag:noindex
X-PUBLISHED-TTL:PT1H
BEGIN:VTIMEZONE
TZID:Europe/Berlin
BEGIN:DAYLIGHT
TZOFFSETFROM:+0100
TZOFFSETTO:+0200
TZNAME:CEST
DTSTART:20220327T010000
END:DAYLIGHT
BEGIN:STANDARD
TZOFFSETFROM:+0200
TZOFFSETTO:+0100
TZNAME:CET
DTSTART:20221030T010000
END:STANDARD
END:VTIMEZONE
BEGIN:VEVENT
DTSTART;TZID=Europe/Berlin:20220618T180000
DTEND;TZID=Europe/Berlin:20220618T203000
DTSTAMP:20260421T194504
CREATED:20211214T163910Z
LAST-MODIFIED:20221027T102711Z
UID:10001240-1655575200-1655584200@glocke.whitebox-dev.de
SUMMARY:NDR Elbphilharmonie Orchester »Großes Klangspektrum« 6. Meisterkonzert
DESCRIPTION:
URL:https://glocke.whitebox-dev.de/event/ndr-elbphilharmonie-orchester-grosses-klangspektrum-6-meisterkonzert/
LOCATION:Großer Saal\, Germany
CATEGORIES:Allgemeine
ATTACH;FMTTYPE=image/jpeg:https://glocke.whitebox-dev.de/wp-content/uploads/2021/12/Martin-U.K.-Lengemann-e1639499574731.jpg
ORGANIZER;CN="Konzertdirektion Dr. Rudolf Goette GmbH":MAILTO:info@goette.de
END:VEVENT
END:VCALENDAR