BEGIN:VCALENDAR
VERSION:2.0
PRODID:-//DIE GLOCKE | Das Bremer Konzerthaus - ECPv6.6.3//NONSGML v1.0//EN
CALSCALE:GREGORIAN
METHOD:PUBLISH
X-ORIGINAL-URL:https://glocke.whitebox-dev.de
X-WR-CALDESC:Veranstaltungen für DIE GLOCKE | Das Bremer Konzerthaus
REFRESH-INTERVAL;VALUE=DURATION:PT1H
X-Robots-Tag:noindex
X-PUBLISHED-TTL:PT1H
BEGIN:VTIMEZONE
TZID:Europe/Berlin
BEGIN:DAYLIGHT
TZOFFSETFROM:+0100
TZOFFSETTO:+0200
TZNAME:CEST
DTSTART:20220327T010000
END:DAYLIGHT
BEGIN:STANDARD
TZOFFSETFROM:+0200
TZOFFSETTO:+0100
TZNAME:CET
DTSTART:20221030T010000
END:STANDARD
END:VTIMEZONE
BEGIN:VEVENT
DTSTART;TZID=Europe/Berlin:20220626T110000
DTEND;TZID=Europe/Berlin:20220626T130000
DTSTAMP:20260421T194510
CREATED:20211214T172153Z
LAST-MODIFIED:20221027T102710Z
UID:10001246-1656241200-1656248400@glocke.whitebox-dev.de
SUMMARY:Bremer Philharmoniker »Finale« 12. Philharmonisches Konzert
DESCRIPTION:
URL:https://glocke.whitebox-dev.de/event/bremer-philharmoniker-finale-12-philharmonisches-konzert-2/
LOCATION:Großer Saal\, Germany
CATEGORIES:Allgemeine
ATTACH;FMTTYPE=image/jpeg:https://glocke.whitebox-dev.de/wp-content/uploads/2021/12/igudesman_joo.jpg
ORGANIZER;CN="Bremer Philharmoniker GmbH":MAILTO:info@bremerphilharmoniker.de
END:VEVENT
BEGIN:VEVENT
DTSTART;TZID=Europe/Berlin:20220626T190000
DTEND;TZID=Europe/Berlin:20220626T203000
DTSTAMP:20260421T194510
CREATED:20220602T125402Z
LAST-MODIFIED:20221027T102710Z
UID:10001394-1656270000-1656275400@glocke.whitebox-dev.de
SUMMARY:Bremer RathsChor »Des Friedens Melodien« Konzertabend mit dem ukrainischen Pianisten Alexey Botvinov
DESCRIPTION:
URL:https://glocke.whitebox-dev.de/event/bremer-rathschor-des-friedens-melodien-konzertabend-mit-dem-ukrainischen-pianisten-alexey-botvinov/
LOCATION:Großer Saal\, Germany
CATEGORIES:Allgemeine
END:VEVENT
END:VCALENDAR