BEGIN:VCALENDAR
VERSION:2.0
PRODID:-//DIE GLOCKE | Das Bremer Konzerthaus - ECPv6.6.3//NONSGML v1.0//EN
CALSCALE:GREGORIAN
METHOD:PUBLISH
X-ORIGINAL-URL:https://glocke.whitebox-dev.de
X-WR-CALDESC:Veranstaltungen für DIE GLOCKE | Das Bremer Konzerthaus
REFRESH-INTERVAL;VALUE=DURATION:PT1H
X-Robots-Tag:noindex
X-PUBLISHED-TTL:PT1H
BEGIN:VTIMEZONE
TZID:Europe/Berlin
BEGIN:DAYLIGHT
TZOFFSETFROM:+0100
TZOFFSETTO:+0200
TZNAME:CEST
DTSTART:20220327T010000
END:DAYLIGHT
BEGIN:STANDARD
TZOFFSETFROM:+0200
TZOFFSETTO:+0100
TZNAME:CET
DTSTART:20221030T010000
END:STANDARD
END:VTIMEZONE
BEGIN:VEVENT
DTSTART;TZID=Europe/Berlin:20220701T180000
DTEND;TZID=Europe/Berlin:20220701T200000
DTSTAMP:20260423T151616
CREATED:20220628T170403Z
LAST-MODIFIED:20221027T102709Z
UID:10001448-1656698400-1656705600@glocke.whitebox-dev.de
SUMMARY:»Auf WiederHören!« »Tick/Tock«
DESCRIPTION:
URL:https://glocke.whitebox-dev.de/event/auf-wiederhoeren-tick-tock-2/
LOCATION:Großer Saal\, Germany
CATEGORIES:GLOCKE ImPuls
ATTACH;FMTTYPE=image/jpeg:https://glocke.whitebox-dev.de/wp-content/uploads/2021/11/kondraschewa-chica22.jpg
ORGANIZER;CN="Glocke Veranstaltungs-GmbH":MAILTO:info@glocke.de
END:VEVENT
END:VCALENDAR