BEGIN:VCALENDAR
VERSION:2.0
PRODID:-//DIE GLOCKE | Das Bremer Konzerthaus - ECPv6.6.3//NONSGML v1.0//EN
CALSCALE:GREGORIAN
METHOD:PUBLISH
X-WR-CALNAME:DIE GLOCKE | Das Bremer Konzerthaus
X-ORIGINAL-URL:https://glocke.whitebox-dev.de
X-WR-CALDESC:Veranstaltungen für DIE GLOCKE | Das Bremer Konzerthaus
REFRESH-INTERVAL;VALUE=DURATION:PT1H
X-Robots-Tag:noindex
X-PUBLISHED-TTL:PT1H
BEGIN:VTIMEZONE
TZID:Europe/Berlin
BEGIN:DAYLIGHT
TZOFFSETFROM:+0100
TZOFFSETTO:+0200
TZNAME:CEST
DTSTART:20220327T010000
END:DAYLIGHT
BEGIN:STANDARD
TZOFFSETFROM:+0200
TZOFFSETTO:+0100
TZNAME:CET
DTSTART:20221030T010000
END:STANDARD
END:VTIMEZONE
BEGIN:VEVENT
DTSTART;TZID=Europe/Berlin:20220712T200000
DTEND;TZID=Europe/Berlin:20220712T220000
DTSTAMP:20260421T183057
CREATED:20220117T174413Z
LAST-MODIFIED:20221027T102708Z
UID:10001329-1657656000-1657663200@glocke.whitebox-dev.de
SUMMARY:Die Deutsche Kammerphilharmonie Bremen »Romantische Hochkaräter«
DESCRIPTION:
URL:https://glocke.whitebox-dev.de/event/die-deutsche-kammerphilharmonie-bremen-romantische-hochkaraeter/
LOCATION:Großer Saal\, Germany
CATEGORIES:Allgemeine
ATTACH;FMTTYPE=image/jpeg:https://glocke.whitebox-dev.de/wp-content/uploads/2021/07/trivonov20_460.jpeg
ORGANIZER;CN="Die Deutsche Kammerphilharmonie Bremen":MAILTO:info@kammerphilharmonie.com
END:VEVENT
END:VCALENDAR