BEGIN:VCALENDAR
VERSION:2.0
PRODID:-//DIE GLOCKE | Das Bremer Konzerthaus - ECPv6.6.3//NONSGML v1.0//EN
CALSCALE:GREGORIAN
METHOD:PUBLISH
X-ORIGINAL-URL:https://glocke.whitebox-dev.de
X-WR-CALDESC:Veranstaltungen für DIE GLOCKE | Das Bremer Konzerthaus
REFRESH-INTERVAL;VALUE=DURATION:PT1H
X-Robots-Tag:noindex
X-PUBLISHED-TTL:PT1H
BEGIN:VTIMEZONE
TZID:Europe/Berlin
BEGIN:DAYLIGHT
TZOFFSETFROM:+0100
TZOFFSETTO:+0200
TZNAME:CEST
DTSTART:20220327T010000
END:DAYLIGHT
BEGIN:STANDARD
TZOFFSETFROM:+0200
TZOFFSETTO:+0100
TZNAME:CET
DTSTART:20221030T010000
END:STANDARD
END:VTIMEZONE
BEGIN:VEVENT
DTSTART;TZID=Europe/Berlin:20220905T200000
DTEND;TZID=Europe/Berlin:20220905T223000
DTSTAMP:20260421T155449
CREATED:20220614T151902Z
LAST-MODIFIED:20221027T102706Z
UID:10001423-1662408000-1662417000@glocke.whitebox-dev.de
SUMMARY:33. Musikfest Bremen »Vanitas«
DESCRIPTION:
URL:https://glocke.whitebox-dev.de/event/33-musikfest-bremen-vanitas/
LOCATION:Großer Saal\, Germany
CATEGORIES:Allgemeine
ATTACH;FMTTYPE=image/jpeg:https://glocke.whitebox-dev.de/wp-content/uploads/2022/06/Georg-Nigl-1-c-Anita-Schmid-e1655219928676.jpg
ORGANIZER;CN="Musikfest Bremen gGmbH":MAILTO:info@musikfest-bremen.de
END:VEVENT
END:VCALENDAR