BEGIN:VCALENDAR
VERSION:2.0
PRODID:-//DIE GLOCKE | Das Bremer Konzerthaus - ECPv6.6.3//NONSGML v1.0//EN
CALSCALE:GREGORIAN
METHOD:PUBLISH
X-WR-CALNAME:DIE GLOCKE | Das Bremer Konzerthaus
X-ORIGINAL-URL:https://glocke.whitebox-dev.de
X-WR-CALDESC:Veranstaltungen für DIE GLOCKE | Das Bremer Konzerthaus
REFRESH-INTERVAL;VALUE=DURATION:PT1H
X-Robots-Tag:noindex
X-PUBLISHED-TTL:PT1H
BEGIN:VTIMEZONE
TZID:Europe/Berlin
BEGIN:DAYLIGHT
TZOFFSETFROM:+0100
TZOFFSETTO:+0200
TZNAME:CEST
DTSTART:20220327T010000
END:DAYLIGHT
BEGIN:STANDARD
TZOFFSETFROM:+0200
TZOFFSETTO:+0100
TZNAME:CET
DTSTART:20221030T010000
END:STANDARD
END:VTIMEZONE
BEGIN:VEVENT
DTSTART;TZID=Europe/Berlin:20220915T160000
DTEND;TZID=Europe/Berlin:20220915T183000
DTSTAMP:20260421T155307
CREATED:20220118T115320Z
LAST-MODIFIED:20221027T102705Z
UID:10001340-1663257600-1663266600@glocke.whitebox-dev.de
SUMMARY:»We are the World!« Hunderte Schüler singen mit bekannten Stars
DESCRIPTION:
URL:https://glocke.whitebox-dev.de/event/we-are-the-world-hunderte-schueler-singen-mit-bekannten-stars-2/
LOCATION:Großer Saal\, Germany
CATEGORIES:Allgemeine
ATTACH;FMTTYPE=image/jpeg:https://glocke.whitebox-dev.de/wp-content/uploads/2021/12/csm_WeareTheWorldSchulprojektFB_335f3b7a25-e1638464644579.jpg
ORGANIZER;CN="AfroGospel / Praise Avenue":MAILTO:office@watw-musik.de
END:VEVENT
BEGIN:VEVENT
DTSTART;TZID=Europe/Berlin:20220915T200000
DTEND;TZID=Europe/Berlin:20220915T220000
DTSTAMP:20260421T155307
CREATED:20220901T180123Z
LAST-MODIFIED:20221027T102705Z
UID:10001291-1663272000-1663279200@glocke.whitebox-dev.de
SUMMARY:Benefizkonzert Das Exilorchester MRIYA Das Spitzenensemble aus der Ukraine
DESCRIPTION:
URL:https://glocke.whitebox-dev.de/event/benefizkonzert-das-exilorchester-mriya-das-spitzenensemble-aus-der-ukraine/
LOCATION:Großer Saal\, Germany
CATEGORIES:Allgemeine
ATTACH;FMTTYPE=image/jpeg:https://glocke.whitebox-dev.de/wp-content/uploads/2022/09/Orchester-in-der-Laeiszhalle-Hambug_Lev_Kucher-e1662055110313.jpg
ORGANIZER;CN="Roman Alexander Ohem":MAILTO:rohem@hfk-bremen.de
END:VEVENT
END:VCALENDAR