BEGIN:VCALENDAR
VERSION:2.0
PRODID:-//DIE GLOCKE | Das Bremer Konzerthaus - ECPv6.6.3//NONSGML v1.0//EN
CALSCALE:GREGORIAN
METHOD:PUBLISH
X-ORIGINAL-URL:https://glocke.whitebox-dev.de
X-WR-CALDESC:Veranstaltungen für DIE GLOCKE | Das Bremer Konzerthaus
REFRESH-INTERVAL;VALUE=DURATION:PT1H
X-Robots-Tag:noindex
X-PUBLISHED-TTL:PT1H
BEGIN:VTIMEZONE
TZID:Europe/Berlin
BEGIN:DAYLIGHT
TZOFFSETFROM:+0100
TZOFFSETTO:+0200
TZNAME:CEST
DTSTART:20220327T010000
END:DAYLIGHT
BEGIN:STANDARD
TZOFFSETFROM:+0200
TZOFFSETTO:+0100
TZNAME:CET
DTSTART:20221030T010000
END:STANDARD
END:VTIMEZONE
BEGIN:VEVENT
DTSTART;TZID=Europe/Berlin:20220921T200000
DTEND;TZID=Europe/Berlin:20220921T223000
DTSTAMP:20260421T155434
CREATED:20220121T120322Z
LAST-MODIFIED:20221027T102704Z
UID:10001148-1663790400-1663799400@glocke.whitebox-dev.de
SUMMARY:Tobias Beck »Der Weltuntergang fällt aus!«
DESCRIPTION:
URL:https://glocke.whitebox-dev.de/event/tobias-beck-der-weltuntergang-faellt-aus/
LOCATION:Großer Saal\, Germany
CATEGORIES:Allgemeine
ORGANIZER;CN="Konzertb%C3%BCro Augsburg GmbH":MAILTO:info@konzertbuero-augsburg.de
END:VEVENT
END:VCALENDAR