BEGIN:VCALENDAR
VERSION:2.0
PRODID:-//DIE GLOCKE | Das Bremer Konzerthaus - ECPv6.6.3//NONSGML v1.0//EN
CALSCALE:GREGORIAN
METHOD:PUBLISH
X-ORIGINAL-URL:https://glocke.whitebox-dev.de
X-WR-CALDESC:Veranstaltungen für DIE GLOCKE | Das Bremer Konzerthaus
REFRESH-INTERVAL;VALUE=DURATION:PT1H
X-Robots-Tag:noindex
X-PUBLISHED-TTL:PT1H
BEGIN:VTIMEZONE
TZID:Europe/Berlin
BEGIN:DAYLIGHT
TZOFFSETFROM:+0100
TZOFFSETTO:+0200
TZNAME:CEST
DTSTART:20220327T010000
END:DAYLIGHT
BEGIN:STANDARD
TZOFFSETFROM:+0200
TZOFFSETTO:+0100
TZNAME:CET
DTSTART:20221030T010000
END:STANDARD
END:VTIMEZONE
BEGIN:VEVENT
DTSTART;TZID=Europe/Berlin:20221112T200000
DTEND;TZID=Europe/Berlin:20221112T220000
DTSTAMP:20260421T133651
CREATED:20220623T084602Z
LAST-MODIFIED:20220915T162221Z
UID:10001191-1668283200-1668290400@glocke.whitebox-dev.de
SUMMARY:Michael Wollny Trio
DESCRIPTION:
URL:https://glocke.whitebox-dev.de/event/michael-wollny-trio/
LOCATION:Großer Saal\, Germany
CATEGORIES:GLOCKE JAZZnights
ATTACH;FMTTYPE=image/jpeg:https://glocke.whitebox-dev.de/wp-content/uploads/2022/06/Michael-Wollny-Trio_1_c-Gregor-Hohenberg.jpg
ORGANIZER;CN="Glocke Veranstaltungs-GmbH":MAILTO:info@glocke.de
END:VEVENT
END:VCALENDAR