BEGIN:VCALENDAR
VERSION:2.0
PRODID:-//DIE GLOCKE | Das Bremer Konzerthaus - ECPv6.6.3//NONSGML v1.0//EN
CALSCALE:GREGORIAN
METHOD:PUBLISH
X-ORIGINAL-URL:https://glocke.whitebox-dev.de
X-WR-CALDESC:Veranstaltungen für DIE GLOCKE | Das Bremer Konzerthaus
REFRESH-INTERVAL;VALUE=DURATION:PT1H
X-Robots-Tag:noindex
X-PUBLISHED-TTL:PT1H
BEGIN:VTIMEZONE
TZID:Europe/Berlin
BEGIN:DAYLIGHT
TZOFFSETFROM:+0100
TZOFFSETTO:+0200
TZNAME:CEST
DTSTART:20220327T010000
END:DAYLIGHT
BEGIN:STANDARD
TZOFFSETFROM:+0200
TZOFFSETTO:+0100
TZNAME:CET
DTSTART:20221030T010000
END:STANDARD
END:VTIMEZONE
BEGIN:VEVENT
DTSTART;TZID=Europe/Berlin:20221203T150000
DTEND;TZID=Europe/Berlin:20221203T170000
DTSTAMP:20260421T122149
CREATED:20220721T120338Z
LAST-MODIFIED:20221201T113351Z
UID:10001253-1670079600-1670086800@glocke.whitebox-dev.de
SUMMARY:musica viva »Festliches Weihnachtskonzert«
DESCRIPTION:
URL:https://glocke.whitebox-dev.de/event/musica-viva-festliches-weihnachtskonzert-7/
LOCATION:Großer Saal\, Germany
CATEGORIES:Allgemeine
ATTACH;FMTTYPE=image/jpeg:https://glocke.whitebox-dev.de/wp-content/uploads/2022/06/hrudnik2-18-19_460.jpg
ORGANIZER;CN="Nicolas Hrudnik Konzertveranstaltungen":MAILTO:info@musicaviva.de
END:VEVENT
BEGIN:VEVENT
DTSTART;TZID=Europe/Berlin:20221203T190000
DTEND;TZID=Europe/Berlin:20221203T200000
DTSTAMP:20260421T122149
CREATED:20220721T120259Z
LAST-MODIFIED:20221201T113430Z
UID:10001550-1670094000-1670097600@glocke.whitebox-dev.de
SUMMARY:musica viva »Festliches Weihnachtskonzert«
DESCRIPTION:
URL:https://glocke.whitebox-dev.de/event/musica-viva-festliches-weihnachtskonzert-6/
LOCATION:Großer Saal\, Germany
CATEGORIES:Allgemeine
ATTACH;FMTTYPE=image/jpeg:https://glocke.whitebox-dev.de/wp-content/uploads/2022/06/hrudnik2-18-19_460.jpg
ORGANIZER;CN="Nicolas Hrudnik Konzertveranstaltungen":MAILTO:info@musicaviva.de
END:VEVENT
END:VCALENDAR