BEGIN:VCALENDAR
VERSION:2.0
PRODID:-//DIE GLOCKE | Das Bremer Konzerthaus - ECPv6.6.3//NONSGML v1.0//EN
CALSCALE:GREGORIAN
METHOD:PUBLISH
X-ORIGINAL-URL:https://glocke.whitebox-dev.de
X-WR-CALDESC:Veranstaltungen für DIE GLOCKE | Das Bremer Konzerthaus
REFRESH-INTERVAL;VALUE=DURATION:PT1H
X-Robots-Tag:noindex
X-PUBLISHED-TTL:PT1H
BEGIN:VTIMEZONE
TZID:Europe/Berlin
BEGIN:DAYLIGHT
TZOFFSETFROM:+0100
TZOFFSETTO:+0200
TZNAME:CEST
DTSTART:20220327T010000
END:DAYLIGHT
BEGIN:STANDARD
TZOFFSETFROM:+0200
TZOFFSETTO:+0100
TZNAME:CET
DTSTART:20221030T010000
END:STANDARD
END:VTIMEZONE
BEGIN:VEVENT
DTSTART;TZID=Europe/Berlin:20221205T200000
DTEND;TZID=Europe/Berlin:20221205T220000
DTSTAMP:20260421T121432
CREATED:20220908T150207Z
LAST-MODIFIED:20221115T131032Z
UID:10001575-1670270400-1670277600@glocke.whitebox-dev.de
SUMMARY:10 Jahre Ensemble New Babylon »Konzert X«
DESCRIPTION:
URL:https://glocke.whitebox-dev.de/event/10-jahre-ensemble-new-babylon-konzert-x/
LOCATION:Großer Saal\, Germany
CATEGORIES:Allgemeine
ATTACH;FMTTYPE=image/jpeg:https://glocke.whitebox-dev.de/wp-content/uploads/2022/11/S.26_EnsembleNewBabylon.jpg
ORGANIZER;CN="Ensemble New Babylon GbR":MAILTO:mail@ensemblenewbabylon.com
END:VEVENT
END:VCALENDAR