BEGIN:VCALENDAR
VERSION:2.0
PRODID:-//DIE GLOCKE | Das Bremer Konzerthaus - ECPv6.6.3//NONSGML v1.0//EN
CALSCALE:GREGORIAN
METHOD:PUBLISH
X-WR-CALNAME:DIE GLOCKE | Das Bremer Konzerthaus
X-ORIGINAL-URL:https://glocke.whitebox-dev.de
X-WR-CALDESC:Veranstaltungen für DIE GLOCKE | Das Bremer Konzerthaus
REFRESH-INTERVAL;VALUE=DURATION:PT1H
X-Robots-Tag:noindex
X-PUBLISHED-TTL:PT1H
BEGIN:VTIMEZONE
TZID:Europe/Berlin
BEGIN:DAYLIGHT
TZOFFSETFROM:+0100
TZOFFSETTO:+0200
TZNAME:CEST
DTSTART:20220327T010000
END:DAYLIGHT
BEGIN:STANDARD
TZOFFSETFROM:+0200
TZOFFSETTO:+0100
TZNAME:CET
DTSTART:20221030T010000
END:STANDARD
END:VTIMEZONE
BEGIN:VEVENT
DTSTART;TZID=Europe/Berlin:20221210T190000
DTEND;TZID=Europe/Berlin:20221210T213000
DTSTAMP:20260421T121210
CREATED:20211215T173026Z
LAST-MODIFIED:20221102T102541Z
UID:10001100-1670698800-1670707800@glocke.whitebox-dev.de
SUMMARY:Vivaldi - Die vier Jahreszeiten
DESCRIPTION:
URL:https://glocke.whitebox-dev.de/event/vivaldi-die-vier-jahreszeiten/
LOCATION:Großer Saal\, Germany
CATEGORIES:Allgemeine
ORGANIZER;CN="Kulturgipfel GmbH":MAILTO:info@kulturgipfel.de
END:VEVENT
BEGIN:VEVENT
DTSTART;TZID=Europe/Berlin:20221210T200000
DTEND;TZID=Europe/Berlin:20221210T220000
DTSTAMP:20260421T121210
CREATED:20220630T151956Z
LAST-MODIFIED:20221209T124557Z
UID:10001470-1670702400-1670709600@glocke.whitebox-dev.de
SUMMARY:Valery Meladze »Germany Tour 2022«
DESCRIPTION:
URL:https://glocke.whitebox-dev.de/event/valery-meladze-germany-tour-2022/
LOCATION:Großer Saal\, Germany
CATEGORIES:Allgemeine
ORGANIZER;CN="M&S Entertainment GmbH":MAILTO:info@nakonzert.de
END:VEVENT
END:VCALENDAR