BEGIN:VCALENDAR
VERSION:2.0
PRODID:-//DIE GLOCKE | Das Bremer Konzerthaus - ECPv6.6.3//NONSGML v1.0//EN
CALSCALE:GREGORIAN
METHOD:PUBLISH
X-ORIGINAL-URL:https://glocke.whitebox-dev.de
X-WR-CALDESC:Veranstaltungen für DIE GLOCKE | Das Bremer Konzerthaus
REFRESH-INTERVAL;VALUE=DURATION:PT1H
X-Robots-Tag:noindex
X-PUBLISHED-TTL:PT1H
BEGIN:VTIMEZONE
TZID:Europe/Berlin
BEGIN:DAYLIGHT
TZOFFSETFROM:+0100
TZOFFSETTO:+0200
TZNAME:CEST
DTSTART:20220327T010000
END:DAYLIGHT
BEGIN:STANDARD
TZOFFSETFROM:+0200
TZOFFSETTO:+0100
TZNAME:CET
DTSTART:20221030T010000
END:STANDARD
END:VTIMEZONE
BEGIN:VEVENT
DTSTART;TZID=Europe/Berlin:20221211T190000
DTEND;TZID=Europe/Berlin:20221211T213000
DTSTAMP:20260421T122119
CREATED:20211215T173646Z
LAST-MODIFIED:20221104T134128Z
UID:10001254-1670785200-1670794200@glocke.whitebox-dev.de
SUMMARY:Johann Sebastian Bach:  Weihnachtsoratorium
DESCRIPTION:
URL:https://glocke.whitebox-dev.de/event/johann-sebastian-bach-weihnachtsoratorium/
LOCATION:Großer Saal\, Germany
CATEGORIES:Allgemeine
ORGANIZER;CN="Kulturgipfel GmbH":MAILTO:info@kulturgipfel.de
END:VEVENT
BEGIN:VEVENT
DTSTART;TZID=Europe/Berlin:20221211T193000
DTEND;TZID=Europe/Berlin:20221211T213000
DTSTAMP:20260421T122119
CREATED:20220721T114721Z
LAST-MODIFIED:20221109T112743Z
UID:10001545-1670787000-1670794200@glocke.whitebox-dev.de
SUMMARY:Philharmonische Gesellschaft 4. Philharmonisches Kammerkonzert
DESCRIPTION:
URL:https://glocke.whitebox-dev.de/event/philharmonische-gesellschaft-4-philharmonisches-kammerkonzert/
LOCATION:Kleiner Saal\, Germany
CATEGORIES:Allgemeine
ATTACH;FMTTYPE=image/jpeg:https://glocke.whitebox-dev.de/wp-content/uploads/2022/07/4-Kammerkonzert.jpg
ORGANIZER;CN="Philharmonische Gesellschaft Bremen":MAILTO:info@phg-bremen.de
END:VEVENT
BEGIN:VEVENT
DTSTART;TZID=Europe/Berlin:20221211T200000
DTEND;TZID=Europe/Berlin:20221211T220000
DTSTAMP:20260421T122119
CREATED:20220314T134103Z
LAST-MODIFIED:20221109T113207Z
UID:10001160-1670788800-1670796000@glocke.whitebox-dev.de
SUMMARY:Andrej Hermlin & The Swingin’ Hermlins »Christmas in Swing«
DESCRIPTION:
URL:https://glocke.whitebox-dev.de/event/andrej-hermlin-the-swingin-hermlins-christmas-in-swing/
LOCATION:Großer Saal\, Germany
CATEGORIES:Allgemeine
ATTACH;FMTTYPE=image/jpeg:https://glocke.whitebox-dev.de/wp-content/uploads/2022/03/gallery_12.jpg
ORGANIZER;CN="MSK Events GmbH":MAILTO:info@msk-live.de
END:VEVENT
END:VCALENDAR