BEGIN:VCALENDAR
VERSION:2.0
PRODID:-//DIE GLOCKE | Das Bremer Konzerthaus - ECPv6.6.3//NONSGML v1.0//EN
CALSCALE:GREGORIAN
METHOD:PUBLISH
X-ORIGINAL-URL:https://glocke.whitebox-dev.de
X-WR-CALDESC:Veranstaltungen für DIE GLOCKE | Das Bremer Konzerthaus
REFRESH-INTERVAL;VALUE=DURATION:PT1H
X-Robots-Tag:noindex
X-PUBLISHED-TTL:PT1H
BEGIN:VTIMEZONE
TZID:Europe/Berlin
BEGIN:DAYLIGHT
TZOFFSETFROM:+0100
TZOFFSETTO:+0200
TZNAME:CEST
DTSTART:20220327T010000
END:DAYLIGHT
BEGIN:STANDARD
TZOFFSETFROM:+0200
TZOFFSETTO:+0100
TZNAME:CET
DTSTART:20221030T010000
END:STANDARD
END:VTIMEZONE
BEGIN:VEVENT
DTSTART;TZID=Europe/Berlin:20221213T200000
DTEND;TZID=Europe/Berlin:20221213T220000
DTSTAMP:20260421T121526
CREATED:20220916T112431Z
LAST-MODIFIED:20221129T163307Z
UID:10001578-1670961600-1670968800@glocke.whitebox-dev.de
SUMMARY:Benefizkonzert Das Exilorchester MRIYA / Der Traum Das Spitzenensemble aus der Ukraine
DESCRIPTION:
URL:https://glocke.whitebox-dev.de/event/benefizkonzert-das-exilorchester-mriya-der-traum-das-spitzenensemble-aus-der-ukraine/
LOCATION:Großer Saal\, Germany
CATEGORIES:Allgemeine
ATTACH;FMTTYPE=image/jpeg:https://glocke.whitebox-dev.de/wp-content/uploads/2022/09/Orchester-in-der-Laeiszhalle-Hambug_Lev_Kucher-e1662055110313.jpg
ORGANIZER;CN="F%C3%B6rderverein Culture Connects e.V.":MAILTO:info@culture-connects.de
END:VEVENT
END:VCALENDAR