BEGIN:VCALENDAR
VERSION:2.0
PRODID:-//DIE GLOCKE | Das Bremer Konzerthaus - ECPv6.6.3//NONSGML v1.0//EN
CALSCALE:GREGORIAN
METHOD:PUBLISH
X-ORIGINAL-URL:https://glocke.whitebox-dev.de
X-WR-CALDESC:Veranstaltungen für DIE GLOCKE | Das Bremer Konzerthaus
REFRESH-INTERVAL;VALUE=DURATION:PT1H
X-Robots-Tag:noindex
X-PUBLISHED-TTL:PT1H
BEGIN:VTIMEZONE
TZID:Europe/Berlin
BEGIN:DAYLIGHT
TZOFFSETFROM:+0100
TZOFFSETTO:+0200
TZNAME:CEST
DTSTART:20220327T010000
END:DAYLIGHT
BEGIN:STANDARD
TZOFFSETFROM:+0200
TZOFFSETTO:+0100
TZNAME:CET
DTSTART:20221030T010000
END:STANDARD
END:VTIMEZONE
BEGIN:VEVENT
DTSTART;TZID=Europe/Berlin:20221217T140000
DTEND;TZID=Europe/Berlin:20221217T153000
DTSTAMP:20260421T122022
CREATED:20221101T143019Z
LAST-MODIFIED:20221101T143019Z
UID:10001613-1671285600-1671291000@glocke.whitebox-dev.de
SUMMARY:Besucherführung
DESCRIPTION:
URL:https://glocke.whitebox-dev.de/event/besucherfuehrung-6/
LOCATION:Foyer
CATEGORIES:GLOCKE Backstage
ORGANIZER;CN="Glocke Veranstaltungs-GmbH":MAILTO:info@glocke.de
END:VEVENT
BEGIN:VEVENT
DTSTART;TZID=Europe/Berlin:20221217T200000
DTEND;TZID=Europe/Berlin:20221217T220000
DTSTAMP:20260421T122022
CREATED:20220721T114424Z
LAST-MODIFIED:20221128T131614Z
UID:10001544-1671307200-1671314400@glocke.whitebox-dev.de
SUMMARY:Klassische Philharmonie Bonn »Weihnachtsgala« Wiener Klassik Konzert
DESCRIPTION:
URL:https://glocke.whitebox-dev.de/event/klassische-philharmonie-bonn-weihnachtsgala-wiener-klassik-konzert/
LOCATION:Großer Saal\, Germany
CATEGORIES:Allgemeine
ATTACH;FMTTYPE=image/jpeg:https://glocke.whitebox-dev.de/wp-content/uploads/2022/07/Grevenbrock_110-scaled-e1669641365158.jpg
ORGANIZER;CN="Klassische Philharmonie Bonn":MAILTO:info@klassische-philharmonie-bonn.de
END:VEVENT
END:VCALENDAR