BEGIN:VCALENDAR
VERSION:2.0
PRODID:-//DIE GLOCKE | Das Bremer Konzerthaus - ECPv6.6.3//NONSGML v1.0//EN
CALSCALE:GREGORIAN
METHOD:PUBLISH
X-ORIGINAL-URL:https://glocke.whitebox-dev.de
X-WR-CALDESC:Veranstaltungen für DIE GLOCKE | Das Bremer Konzerthaus
REFRESH-INTERVAL;VALUE=DURATION:PT1H
X-Robots-Tag:noindex
X-PUBLISHED-TTL:PT1H
BEGIN:VTIMEZONE
TZID:Europe/Berlin
BEGIN:DAYLIGHT
TZOFFSETFROM:+0100
TZOFFSETTO:+0200
TZNAME:CEST
DTSTART:20220327T010000
END:DAYLIGHT
BEGIN:STANDARD
TZOFFSETFROM:+0200
TZOFFSETTO:+0100
TZNAME:CET
DTSTART:20221030T010000
END:STANDARD
END:VTIMEZONE
BEGIN:VEVENT
DTSTART;TZID=Europe/Berlin:20221227T180000
DTEND;TZID=Europe/Berlin:20221227T203000
DTSTAMP:20260421T111632
CREATED:20220523T163926Z
LAST-MODIFIED:20221209T141216Z
UID:10001176-1672164000-1672173000@glocke.whitebox-dev.de
SUMMARY:Katharina\, Anna und Nellie Thalbach »Weihnachten bei Familie Thalbach«
DESCRIPTION:
URL:https://glocke.whitebox-dev.de/event/katharina-anna-und-nellie-thalbach-weihnachten-bei-familie-thalbach/
LOCATION:Großer Saal\, Germany
CATEGORIES:Allgemeine
ATTACH;FMTTYPE=image/jpeg:https://glocke.whitebox-dev.de/wp-content/uploads/2022/05/Thalbach_Weihnachten-e1653323912573.jpg
ORGANIZER;CN="MSK Events GmbH":MAILTO:info@msk-live.de
END:VEVENT
END:VCALENDAR