BEGIN:VCALENDAR
VERSION:2.0
PRODID:-//DIE GLOCKE | Das Bremer Konzerthaus - ECPv6.6.3//NONSGML v1.0//EN
CALSCALE:GREGORIAN
METHOD:PUBLISH
X-WR-CALNAME:DIE GLOCKE | Das Bremer Konzerthaus
X-ORIGINAL-URL:https://glocke.whitebox-dev.de
X-WR-CALDESC:Veranstaltungen für DIE GLOCKE | Das Bremer Konzerthaus
REFRESH-INTERVAL;VALUE=DURATION:PT1H
X-Robots-Tag:noindex
X-PUBLISHED-TTL:PT1H
BEGIN:VTIMEZONE
TZID:Europe/Berlin
BEGIN:DAYLIGHT
TZOFFSETFROM:+0100
TZOFFSETTO:+0200
TZNAME:CEST
DTSTART:20230326T010000
END:DAYLIGHT
BEGIN:STANDARD
TZOFFSETFROM:+0200
TZOFFSETTO:+0100
TZNAME:CET
DTSTART:20231029T010000
END:STANDARD
END:VTIMEZONE
BEGIN:VEVENT
DTSTART;TZID=Europe/Berlin:20230119T200000
DTEND;TZID=Europe/Berlin:20230119T220000
DTSTAMP:20260421T111406
CREATED:20221214T121355Z
LAST-MODIFIED:20230110T153511Z
UID:10001625-1674158400-1674165600@glocke.whitebox-dev.de
SUMMARY:Die Deutsche Kammerphilharmonie Bremen »Finni­sches Potpourri« 1. Premieren-Abonne­ment­konzert
DESCRIPTION:
URL:https://glocke.whitebox-dev.de/event/die-deutsche-kammerphilharmonie-bremen-finnisches-potpourri-1-premieren-abonnementkonzert/
LOCATION:Großer Saal\, Germany
CATEGORIES:Allgemeine
ATTACH;FMTTYPE=image/jpeg:https://glocke.whitebox-dev.de/wp-content/uploads/2022/12/Iiro-Rantala-C-Jari-Kivelae_teaser_700x.jpg
ORGANIZER;CN="Die Deutsche Kammerphilharmonie Bremen":MAILTO:info@kammerphilharmonie.com
END:VEVENT
END:VCALENDAR