BEGIN:VCALENDAR
VERSION:2.0
PRODID:-//DIE GLOCKE | Das Bremer Konzerthaus - ECPv6.6.3//NONSGML v1.0//EN
CALSCALE:GREGORIAN
METHOD:PUBLISH
X-ORIGINAL-URL:https://glocke.whitebox-dev.de
X-WR-CALDESC:Veranstaltungen für DIE GLOCKE | Das Bremer Konzerthaus
REFRESH-INTERVAL;VALUE=DURATION:PT1H
X-Robots-Tag:noindex
X-PUBLISHED-TTL:PT1H
BEGIN:VTIMEZONE
TZID:Europe/Berlin
BEGIN:DAYLIGHT
TZOFFSETFROM:+0100
TZOFFSETTO:+0200
TZNAME:CEST
DTSTART:20250330T010000
END:DAYLIGHT
BEGIN:STANDARD
TZOFFSETFROM:+0200
TZOFFSETTO:+0100
TZNAME:CET
DTSTART:20251026T010000
END:STANDARD
BEGIN:DAYLIGHT
TZOFFSETFROM:+0100
TZOFFSETTO:+0200
TZNAME:CEST
DTSTART:20260329T010000
END:DAYLIGHT
BEGIN:STANDARD
TZOFFSETFROM:+0200
TZOFFSETTO:+0100
TZNAME:CET
DTSTART:20261025T010000
END:STANDARD
END:VTIMEZONE
BEGIN:VEVENT
DTSTART;TZID=Europe/Berlin:20260225T200000
DTEND;TZID=Europe/Berlin:20260225T220000
DTSTAMP:20260424T152023
CREATED:20240820T100348Z
LAST-MODIFIED:20240820T100348Z
UID:10002040-1772049600-1772056800@glocke.whitebox-dev.de
SUMMARY:The 12 Tenors
DESCRIPTION:
URL:https://glocke.whitebox-dev.de/event/the-12-tenors/
LOCATION:Großer Saal\, Germany
CATEGORIES:Allgemeine
ORGANIZER;CN="Highlight-Concerts GmbH":MAILTO:info@highlight-concerts.com
END:VEVENT
BEGIN:VEVENT
DTSTART;TZID=Europe/Berlin:20260125T180000
DTEND;TZID=Europe/Berlin:20260125T200000
DTSTAMP:20260424T152023
CREATED:20240715T133555Z
LAST-MODIFIED:20240716T094612Z
UID:10002030-1769364000-1769371200@glocke.whitebox-dev.de
SUMMARY:Field Commander C. »The Songs of Leonard Cohen«
DESCRIPTION:
URL:https://glocke.whitebox-dev.de/event/field-commander-c-the-songs-of-leonard-cohen/
LOCATION:Großer Saal\, Germany
CATEGORIES:Allgemeine
ATTACH;FMTTYPE=image/jpeg:https://glocke.whitebox-dev.de/wp-content/uploads/2024/07/DC-23-Foto_by-Karlheinz-Goder-scaled.jpg
ORGANIZER;CN="MB-Konzerte":MAILTO:office@mb-konzerte.de
END:VEVENT
BEGIN:VEVENT
DTSTART;TZID=Europe/Berlin:20260124T200000
DTEND;TZID=Europe/Berlin:20260124T221500
DTSTAMP:20260424T152023
CREATED:20240909T094116Z
LAST-MODIFIED:20240911T144309Z
UID:10002045-1769284800-1769292900@glocke.whitebox-dev.de
SUMMARY:Mnozil Brass
DESCRIPTION:
URL:https://glocke.whitebox-dev.de/event/mnozil-brass/
LOCATION:Großer Saal\, Germany
CATEGORIES:Allgemeine
ORGANIZER;CN="K%C3%BCnstler- und Konzertmanagement Preisinger":MAILTO:gpkonzerte@t-online.de
END:VEVENT
BEGIN:VEVENT
DTSTART;TZID=Europe/Berlin:20251226T200000
DTEND;TZID=Europe/Berlin:20251226T221500
DTSTAMP:20260424T152023
CREATED:20240905T132948Z
LAST-MODIFIED:20240911T150508Z
UID:10002043-1766779200-1766787300@glocke.whitebox-dev.de
SUMMARY:The Golden Voices of Gospel
DESCRIPTION:
URL:https://glocke.whitebox-dev.de/event/the-golden-voices-of-gospel/
LOCATION:Großer Saal\, Germany
CATEGORIES:Allgemeine
ATTACH;FMTTYPE=image/jpeg:https://glocke.whitebox-dev.de/wp-content/uploads/2024/09/GVOG_new_pic_2500px.jpg
ORGANIZER;CN="K%C3%BCnstler- und Konzertmanagement Preisinger":MAILTO:gpkonzerte@t-online.de
END:VEVENT
BEGIN:VEVENT
DTSTART;TZID=Europe/Berlin:20251207T190000
DTEND;TZID=Europe/Berlin:20251207T213000
DTSTAMP:20260424T152023
CREATED:20240924T100426Z
LAST-MODIFIED:20240924T100426Z
UID:10002060-1765134000-1765143000@glocke.whitebox-dev.de
SUMMARY:musica viva »Festliches Weihnachtskonzert«
DESCRIPTION:
URL:https://glocke.whitebox-dev.de/event/musica-viva-festliches-weihnachtskonzert-27/
LOCATION:Großer Saal\, Germany
CATEGORIES:Allgemeine
ATTACH;FMTTYPE=image/jpeg:https://glocke.whitebox-dev.de/wp-content/uploads/2022/07/Hrudnik1-scaled.jpg
ORGANIZER;CN="Nicolas Hrudnik Konzertveranstaltungen":MAILTO:info@musicaviva.de
END:VEVENT
BEGIN:VEVENT
DTSTART;TZID=Europe/Berlin:20251207T150000
DTEND;TZID=Europe/Berlin:20251207T173000
DTSTAMP:20260424T152023
CREATED:20240924T100241Z
LAST-MODIFIED:20240924T100241Z
UID:10002059-1765119600-1765128600@glocke.whitebox-dev.de
SUMMARY:musica viva »Festliches Weihnachtskonzert«
DESCRIPTION:
URL:https://glocke.whitebox-dev.de/event/musica-viva-festliches-weihnachtskonzert-26/
LOCATION:Großer Saal\, Germany
CATEGORIES:Allgemeine
ATTACH;FMTTYPE=image/jpeg:https://glocke.whitebox-dev.de/wp-content/uploads/2023/09/Nicolas-Hrudnik-2018-19_3-scaled-e1717606159154.jpg
ORGANIZER;CN="Nicolas Hrudnik Konzertveranstaltungen":MAILTO:info@musicaviva.de
END:VEVENT
BEGIN:VEVENT
DTSTART;TZID=Europe/Berlin:20251206T190000
DTEND;TZID=Europe/Berlin:20251206T213000
DTSTAMP:20260424T152023
CREATED:20240924T100112Z
LAST-MODIFIED:20240924T100112Z
UID:10002058-1765047600-1765056600@glocke.whitebox-dev.de
SUMMARY:musica viva »Festliches Weihnachtskonzert«
DESCRIPTION:
URL:https://glocke.whitebox-dev.de/event/musica-viva-festliches-weihnachtskonzert-25/
LOCATION:Großer Saal\, Germany
CATEGORIES:Allgemeine
ATTACH;FMTTYPE=image/jpeg:https://glocke.whitebox-dev.de/wp-content/uploads/2022/06/hrudnik2-18-19_460.jpg
ORGANIZER;CN="Nicolas Hrudnik Konzertveranstaltungen":MAILTO:info@musicaviva.de
END:VEVENT
BEGIN:VEVENT
DTSTART;TZID=Europe/Berlin:20251206T150000
DTEND;TZID=Europe/Berlin:20251206T173000
DTSTAMP:20260424T152023
CREATED:20240924T095617Z
LAST-MODIFIED:20240924T095617Z
UID:10002057-1765033200-1765042200@glocke.whitebox-dev.de
SUMMARY:musica viva »Festliches Weihnachtskonzert«
DESCRIPTION:
URL:https://glocke.whitebox-dev.de/event/musica-viva-festliches-weihnachtskonzert-24/
LOCATION:Großer Saal\, Germany
CATEGORIES:Allgemeine
ATTACH;FMTTYPE=image/jpeg:https://glocke.whitebox-dev.de/wp-content/uploads/2024/06/Nicolas-Hrudnik1028-19_1.jpg
ORGANIZER;CN="Nicolas Hrudnik Konzertveranstaltungen":MAILTO:info@musicaviva.de
END:VEVENT
BEGIN:VEVENT
DTSTART;TZID=Europe/Berlin:20251205T190000
DTEND;TZID=Europe/Berlin:20251205T213000
DTSTAMP:20260424T152023
CREATED:20240924T095423Z
LAST-MODIFIED:20240924T095423Z
UID:10002056-1764961200-1764970200@glocke.whitebox-dev.de
SUMMARY:musica viva »Festliches Weihnachtskonzert«
DESCRIPTION:
URL:https://glocke.whitebox-dev.de/event/musica-viva-festliches-weihnachtskonzert-23/
LOCATION:Großer Saal\, Germany
CATEGORIES:Allgemeine
ATTACH;FMTTYPE=image/jpeg:https://glocke.whitebox-dev.de/wp-content/uploads/2022/07/Hrudnik1-scaled.jpg
ORGANIZER;CN="Nicolas Hrudnik Konzertveranstaltungen":MAILTO:info@musicaviva.de
END:VEVENT
BEGIN:VEVENT
DTSTART;TZID=Europe/Berlin:20251205T150000
DTEND;TZID=Europe/Berlin:20251205T173000
DTSTAMP:20260424T152023
CREATED:20240924T095237Z
LAST-MODIFIED:20240924T095237Z
UID:10002055-1764946800-1764955800@glocke.whitebox-dev.de
SUMMARY:musica viva »Festliches Weihnachtskonzert«
DESCRIPTION:
URL:https://glocke.whitebox-dev.de/event/musica-viva-festliches-weihnachtskonzert-22/
LOCATION:Großer Saal\, Germany
CATEGORIES:Allgemeine
ATTACH;FMTTYPE=image/jpeg:https://glocke.whitebox-dev.de/wp-content/uploads/2023/09/Nicolas-Hrudnik-2018-19_3-scaled-e1717606159154.jpg
ORGANIZER;CN="Nicolas Hrudnik Konzertveranstaltungen":MAILTO:info@musicaviva.de
END:VEVENT
BEGIN:VEVENT
DTSTART;TZID=Europe/Berlin:20251120T200000
DTEND;TZID=Europe/Berlin:20251120T223000
DTSTAMP:20260424T152023
CREATED:20240326T123730Z
LAST-MODIFIED:20240326T123730Z
UID:10001894-1763668800-1763677800@glocke.whitebox-dev.de
SUMMARY:Klassik Radio live in Concert 2025
DESCRIPTION:
URL:https://glocke.whitebox-dev.de/event/klassik-radio-live-in-concert-2025/
LOCATION:Großer Saal\, Germany
CATEGORIES:Allgemeine
ORGANIZER;CN="Euro Klassik GmbH":MAILTO:katja.marginter@klassikradio.de
END:VEVENT
BEGIN:VEVENT
DTSTART;TZID=Europe/Berlin:20251109T190000
DTEND;TZID=Europe/Berlin:20251109T210000
DTSTAMP:20260424T152023
CREATED:20240603T172622Z
LAST-MODIFIED:20240603T172622Z
UID:10001969-1762714800-1762722000@glocke.whitebox-dev.de
SUMMARY:Orchester der Musikfreunde Bremen
DESCRIPTION:
URL:https://glocke.whitebox-dev.de/event/orchester-der-musikfreunde-bremen-9/
LOCATION:Großer Saal\, Germany
CATEGORIES:Allgemeine
ATTACH;FMTTYPE=image/jpeg:https://glocke.whitebox-dev.de/wp-content/uploads/2021/12/omb-3-scaled-e1643963091934.jpg
ORGANIZER;CN="Orchester der Musikfreunde Bremen e.V.":MAILTO:vorstand@musikfreunde-bremen.de
END:VEVENT
BEGIN:VEVENT
DTSTART;TZID=Europe/Berlin:20251108T200000
DTEND;TZID=Europe/Berlin:20251108T223000
DTSTAMP:20260424T152023
CREATED:20240528T103401Z
LAST-MODIFIED:20240531T171110Z
UID:10001965-1762632000-1762641000@glocke.whitebox-dev.de
SUMMARY:Gerburg Jahnke & Der Damenlikörchor
DESCRIPTION:
URL:https://glocke.whitebox-dev.de/event/gerburg-jahnke-der-damenlikoerchor/
LOCATION:Großer Saal\, Germany
CATEGORIES:Allgemeine
ATTACH;FMTTYPE=image/jpeg:https://glocke.whitebox-dev.de/wp-content/uploads/2024/05/Gerburg-Jahnke_DLC_c-DLC-e1717169095893.jpg
ORGANIZER;CN="Koopmann Concerts & Promotion GmbH & Co. KG":MAILTO:info@koopmann-concerts.de
END:VEVENT
BEGIN:VEVENT
DTSTART;TZID=Europe/Berlin:20251102T170000
DTEND;TZID=Europe/Berlin:20251102T193000
DTSTAMP:20260424T152023
CREATED:20240905T135648Z
LAST-MODIFIED:20240905T135648Z
UID:10002044-1762102800-1762111800@glocke.whitebox-dev.de
SUMMARY:Zwei Lebensläufe - eine Leidenschaft
DESCRIPTION:
URL:https://glocke.whitebox-dev.de/event/zwei-lebenslaeufe-eine-leidenschaft/
LOCATION:Kleiner Saal\, Germany
CATEGORIES:Allgemeine
ORGANIZER;CN="Jens S%C3%B6rensen":MAILTO:sinatrastory@aol.com
END:VEVENT
BEGIN:VEVENT
DTSTART;TZID=Europe/Berlin:20251025T200000
DTEND;TZID=Europe/Berlin:20251025T223000
DTSTAMP:20260424T152023
CREATED:20240919T093844Z
LAST-MODIFIED:20240919T093844Z
UID:10002048-1761422400-1761431400@glocke.whitebox-dev.de
SUMMARY:Rock the Opera
DESCRIPTION:
URL:https://glocke.whitebox-dev.de/event/rock-the-opera/
LOCATION:Großer Saal\, Germany
CATEGORIES:Allgemeine
END:VEVENT
BEGIN:VEVENT
DTSTART;TZID=Europe/Berlin:20251023T200000
DTEND;TZID=Europe/Berlin:20251023T220000
DTSTAMP:20260424T152023
CREATED:20240909T121406Z
LAST-MODIFIED:20240910T153843Z
UID:10002046-1761249600-1761256800@glocke.whitebox-dev.de
SUMMARY:Al Di Meola European Tour 2025
DESCRIPTION:
URL:https://glocke.whitebox-dev.de/event/al-di-meola-european-tour-2025/
LOCATION:Großer Saal\, Germany
CATEGORIES:Allgemeine
ATTACH;FMTTYPE=image/jpeg:https://glocke.whitebox-dev.de/wp-content/uploads/2024/09/Al-di-Meola.jpg
ORGANIZER;CN="Kulturetage gGmbH":MAILTO:info@kulturetage.de
END:VEVENT
BEGIN:VEVENT
DTSTART;TZID=Europe/Berlin:20251010T200000
DTEND;TZID=Europe/Berlin:20251010T220000
DTSTAMP:20260424T152023
CREATED:20240805T104041Z
LAST-MODIFIED:20240805T104041Z
UID:10002036-1760126400-1760133600@glocke.whitebox-dev.de
SUMMARY:Gregor Gysi Lesung
DESCRIPTION:
URL:https://glocke.whitebox-dev.de/event/gregor-gysi-lesung/
LOCATION:Kleiner Saal\, Germany
CATEGORIES:Allgemeine
END:VEVENT
BEGIN:VEVENT
DTSTART;TZID=Europe/Berlin:20250927T200000
DTEND;TZID=Europe/Berlin:20250927T220000
DTSTAMP:20260424T152023
CREATED:20240523T110149Z
LAST-MODIFIED:20240523T110149Z
UID:10001927-1759003200-1759010400@glocke.whitebox-dev.de
SUMMARY:Hercules Gomes
DESCRIPTION:
URL:https://glocke.whitebox-dev.de/event/hercules-gomes/
LOCATION:Großer Saal\, Germany
CATEGORIES:Allgemeine
END:VEVENT
BEGIN:VEVENT
DTSTART;TZID=Europe/Berlin:20250914T190000
DTEND;TZID=Europe/Berlin:20250914T214500
DTSTAMP:20260424T152023
CREATED:20240924T094906Z
LAST-MODIFIED:20240924T094906Z
UID:10002054-1757876400-1757886300@glocke.whitebox-dev.de
SUMMARY:musica viva »Festliches Eröffnungskonzert«
DESCRIPTION:
URL:https://glocke.whitebox-dev.de/event/musica-viva-festliches-eroeffnungskonzert-14/
LOCATION:Großer Saal\, Germany
CATEGORIES:Allgemeine
ATTACH;FMTTYPE=image/jpeg:https://glocke.whitebox-dev.de/wp-content/uploads/2023/09/Nicolas-Hrudnik-2018-19_3-scaled-e1717606159154.jpg
ORGANIZER;CN="Nicolas Hrudnik Konzertveranstaltungen":MAILTO:info@musicaviva.de
END:VEVENT
BEGIN:VEVENT
DTSTART;TZID=Europe/Berlin:20250914T150000
DTEND;TZID=Europe/Berlin:20250914T174500
DTSTAMP:20260424T152023
CREATED:20240924T094904Z
LAST-MODIFIED:20240924T094904Z
UID:10002053-1757862000-1757871900@glocke.whitebox-dev.de
SUMMARY:musica viva »Festliches Eröffnungskonzert«
DESCRIPTION:
URL:https://glocke.whitebox-dev.de/event/musica-viva-festliches-eroeffnungskonzert-13/
LOCATION:Großer Saal\, Germany
CATEGORIES:Allgemeine
ATTACH;FMTTYPE=image/jpeg:https://glocke.whitebox-dev.de/wp-content/uploads/2023/05/Nicolas-Hrudnik1028-19_1-e1717601301876.jpg
ORGANIZER;CN="Nicolas Hrudnik Konzertveranstaltungen":MAILTO:info@musicaviva.de
END:VEVENT
BEGIN:VEVENT
DTSTART;TZID=Europe/Berlin:20250913T190000
DTEND;TZID=Europe/Berlin:20250913T214500
DTSTAMP:20260424T152023
CREATED:20240924T094902Z
LAST-MODIFIED:20240924T094902Z
UID:10002052-1757790000-1757799900@glocke.whitebox-dev.de
SUMMARY:musica viva »Festliches Eröffnungskonzert«
DESCRIPTION:
URL:https://glocke.whitebox-dev.de/event/musica-viva-festliches-eroeffnungskonzert-12/
LOCATION:Großer Saal\, Germany
CATEGORIES:Allgemeine
ATTACH;FMTTYPE=image/jpeg:https://glocke.whitebox-dev.de/wp-content/uploads/2022/06/hrudnik2-18-19_460.jpg
ORGANIZER;CN="Nicolas Hrudnik Konzertveranstaltungen":MAILTO:info@musicaviva.de
END:VEVENT
BEGIN:VEVENT
DTSTART;TZID=Europe/Berlin:20250624T193000
DTEND;TZID=Europe/Berlin:20250624T213000
DTSTAMP:20260424T152023
CREATED:20240527T155327Z
LAST-MODIFIED:20240815T122217Z
UID:10001955-1750793400-1750800600@glocke.whitebox-dev.de
SUMMARY:Bremer Philharmoniker »Symphonisches Feuerwerk« 12. Philharmonisches Konzert
DESCRIPTION:
URL:https://glocke.whitebox-dev.de/event/bremer-philharmoniker-symphonisches-feuerwerk-12-philharmonisches-konzert-2/
LOCATION:Großer Saal\, Germany
CATEGORIES:Allgemeine
ATTACH;FMTTYPE=image/jpeg:https://glocke.whitebox-dev.de/wp-content/uploads/2024/05/State-Choir-Latvija_-Photo-Girts-Ragelis-scaled-1.jpg
ORGANIZER;CN="Bremer Philharmoniker GmbH in Kooperation mit der Philharmonischen Gesellschaft Bremen":MAILTO:info@bremerphilharmoniker.de
END:VEVENT
BEGIN:VEVENT
DTSTART;TZID=Europe/Berlin:20250623T193000
DTEND;TZID=Europe/Berlin:20250623T213000
DTSTAMP:20260424T152024
CREATED:20240527T155324Z
LAST-MODIFIED:20240815T122300Z
UID:10001954-1750707000-1750714200@glocke.whitebox-dev.de
SUMMARY:Bremer Philharmoniker »Symphonisches Feuerwerk« 12. Philharmonisches Konzert
DESCRIPTION:
URL:https://glocke.whitebox-dev.de/event/bremer-philharmoniker-symphonisches-feuerwerk-12-philharmonisches-konzert/
LOCATION:Großer Saal\, Germany
CATEGORIES:Allgemeine
ATTACH;FMTTYPE=image/jpeg:https://glocke.whitebox-dev.de/wp-content/uploads/2024/05/State-Choir-Latvija_-Photo-Girts-Ragelis-scaled-1.jpg
ORGANIZER;CN="Bremer Philharmoniker GmbH in Kooperation mit der Philharmonischen Gesellschaft Bremen":MAILTO:info@bremerphilharmoniker.de
END:VEVENT
BEGIN:VEVENT
DTSTART;TZID=Europe/Berlin:20250622T180000
DTEND;TZID=Europe/Berlin:20250622T200000
DTSTAMP:20260424T152024
CREATED:20240527T154731Z
LAST-MODIFIED:20240815T155715Z
UID:10001953-1750615200-1750622400@glocke.whitebox-dev.de
SUMMARY:Bremer Philharmoniker »Symphonisches Feuerwerk« Sonderkonzert
DESCRIPTION:
URL:https://glocke.whitebox-dev.de/event/bremer-philharmoniker-symphonisches-feuerwerk-sonderkonzert/
LOCATION:Großer Saal\, Germany
CATEGORIES:Allgemeine
ATTACH;FMTTYPE=image/jpeg:https://glocke.whitebox-dev.de/wp-content/uploads/2024/05/State-Choir-Latvija_-Photo-Girts-Ragelis-scaled-1.jpg
ORGANIZER;CN="Bremer Philharmoniker GmbH in Kooperation mit der Philharmonischen Gesellschaft Bremen":MAILTO:info@bremerphilharmoniker.de
END:VEVENT
BEGIN:VEVENT
DTSTART;TZID=Europe/Berlin:20250615T170000
DTEND;TZID=Europe/Berlin:20250615T190000
DTSTAMP:20260424T152024
CREATED:20240618T121440Z
LAST-MODIFIED:20240703T123739Z
UID:10002012-1750006800-1750014000@glocke.whitebox-dev.de
SUMMARY:»SYNTHS & STRINGS«
DESCRIPTION:
URL:https://glocke.whitebox-dev.de/event/synths-strings/
LOCATION:Kleiner Saal\, Germany
CATEGORIES:GLOCKE ImPuls
ATTACH;FMTTYPE=image/jpeg:https://glocke.whitebox-dev.de/wp-content/uploads/2024/06/ImPulse_PULSEcDovile-Sermokas-187A9555-scaled.jpg
ORGANIZER;CN="Glocke Veranstaltungs-GmbH":MAILTO:info@glocke.de
END:VEVENT
BEGIN:VEVENT
DTSTART;TZID=Europe/Berlin:20250614T200000
DTEND;TZID=Europe/Berlin:20250614T221000
DTSTAMP:20260424T152024
CREATED:20240725T090146Z
LAST-MODIFIED:20240904T185433Z
UID:10002031-1749931200-1749939000@glocke.whitebox-dev.de
SUMMARY:FLAMENCO - ROSAS NEGRAS
DESCRIPTION:
URL:https://glocke.whitebox-dev.de/event/flamenco-rosas-negras/
LOCATION:Kleiner Saal\, Germany
CATEGORIES:Allgemeine
ATTACH;FMTTYPE=image/jpeg:https://glocke.whitebox-dev.de/wp-content/uploads/2023/12/ROSAS_NEGRAS_Gruppenmotiv_2023-scaled.jpg
ORGANIZER;CN="Blanca Nieves":MAILTO:info@blancanieves.de
END:VEVENT
BEGIN:VEVENT
DTSTART;TZID=Europe/Berlin:20250613T200000
DTEND;TZID=Europe/Berlin:20250613T220000
DTSTAMP:20260424T152024
CREATED:20240619T091206Z
LAST-MODIFIED:20240917T154353Z
UID:10001987-1749844800-1749852000@glocke.whitebox-dev.de
SUMMARY:Anna Depenbusch \n& Kaiser Quartett »Tour 2025«
DESCRIPTION:
URL:https://glocke.whitebox-dev.de/event/anna-depenbusch-kaiser-quartett-tour-2025/
LOCATION:Großer Saal\, Germany
CATEGORIES:GLOCKE Spezial
ATTACH;FMTTYPE=image/jpeg:https://glocke.whitebox-dev.de/wp-content/uploads/2024/06/01AnnaDepenbuschTour2025©StevenHaberlandHD-scaled-e1725265088597.jpg
ORGANIZER;CN="Glocke Veranstaltungs-GmbH":MAILTO:info@glocke.de
END:VEVENT
BEGIN:VEVENT
DTSTART;TZID=Europe/Berlin:20250610T093000
DTEND;TZID=Europe/Berlin:20250610T130000
DTSTAMP:20260424T152024
CREATED:20240619T091323Z
LAST-MODIFIED:20240919T091551Z
UID:10002007-1749547800-1749560400@glocke.whitebox-dev.de
SUMMARY:»TonMalerei«
DESCRIPTION:
URL:https://glocke.whitebox-dev.de/event/tonmalerei/
LOCATION:Foyer
CATEGORIES:GLOCKE Ferienprogramm
ATTACH;FMTTYPE=image/jpeg:https://glocke.whitebox-dev.de/wp-content/uploads/2024/06/Ferien-Pfingsten.jpg
ORGANIZER;CN="Glocke Veranstaltungs-GmbH":MAILTO:info@glocke.de
END:VEVENT
BEGIN:VEVENT
DTSTART;TZID=Europe/Berlin:20250605T200000
DTEND;TZID=Europe/Berlin:20250605T223000
DTSTAMP:20260424T152024
CREATED:20240429T091908Z
LAST-MODIFIED:20240606T092500Z
UID:10001912-1749153600-1749162600@glocke.whitebox-dev.de
SUMMARY:Antoine Tamestit & James Ehnes NDR Elbphilharmonie Orchester 6. Meisterkonzert
DESCRIPTION:
URL:https://glocke.whitebox-dev.de/event/antoine-tamestit-james-ehnes-ndr-elbphilharmonie-orchester-6-meisterkonzert/
LOCATION:Großer Saal\, Germany
CATEGORIES:Allgemeine
ATTACH;FMTTYPE=image/jpeg:https://glocke.whitebox-dev.de/wp-content/uploads/2024/04/Antoine-Tamestit-c-lenakanet.jpg
ORGANIZER;CN="Konzertdirektion Dr. Rudolf Goette GmbH":MAILTO:info@goette.de
END:VEVENT
BEGIN:VEVENT
DTSTART;TZID=Europe/Berlin:20250604T180500
DTEND;TZID=Europe/Berlin:20250604T191500
DTSTAMP:20260424T152024
CREATED:20240528T095208Z
LAST-MODIFIED:20240815T120922Z
UID:10001962-1749060300-1749064500@glocke.whitebox-dev.de
SUMMARY:Bremer Philharmoniker »Komponistenmusik« 5nachsechs Afterwork-Konzert
DESCRIPTION:
URL:https://glocke.whitebox-dev.de/event/bremer-philharmoniker-komponistenmusik-5nachsechs-afterwork-konzert/
LOCATION:Großer Saal\, Germany
CATEGORIES:Allgemeine
ATTACH;FMTTYPE=image/jpeg:https://glocke.whitebox-dev.de/wp-content/uploads/2024/05/NicoloForon_19_OvidiuMatiu-scaled-1.jpg
ORGANIZER;CN="Bremer Philharmoniker GmbH":MAILTO:info@bremerphilharmoniker.de
END:VEVENT
END:VCALENDAR