BEGIN:VCALENDAR
VERSION:2.0
PRODID:-//DIE GLOCKE | Das Bremer Konzerthaus - ECPv6.6.3//NONSGML v1.0//EN
CALSCALE:GREGORIAN
METHOD:PUBLISH
X-ORIGINAL-URL:https://glocke.whitebox-dev.de
X-WR-CALDESC:Veranstaltungen für DIE GLOCKE | Das Bremer Konzerthaus
REFRESH-INTERVAL;VALUE=DURATION:PT1H
X-Robots-Tag:noindex
X-PUBLISHED-TTL:PT1H
BEGIN:VTIMEZONE
TZID:Europe/Berlin
BEGIN:DAYLIGHT
TZOFFSETFROM:+0100
TZOFFSETTO:+0200
TZNAME:CEST
DTSTART:20210328T010000
END:DAYLIGHT
BEGIN:STANDARD
TZOFFSETFROM:+0200
TZOFFSETTO:+0100
TZNAME:CET
DTSTART:20211031T010000
END:STANDARD
END:VTIMEZONE
BEGIN:VEVENT
DTSTART;TZID=Europe/Berlin:20210902T180000
DTEND;TZID=Europe/Berlin:20210902T230000
DTSTAMP:20260425T185046
CREATED:20210727T104438Z
LAST-MODIFIED:20221027T101641Z
UID:10001054-1630605600-1630623600@glocke.whitebox-dev.de
SUMMARY:32. Musikfest Bremen »»Haydn - Mozart - Say««
DESCRIPTION:
URL:https://glocke.whitebox-dev.de/event/32-musikfest-bremen-haydn-mozart-say/
LOCATION:Großer Saal\, Germany
CATEGORIES:Allgemeine
ATTACH;FMTTYPE=image/jpeg:https://glocke.whitebox-dev.de/wp-content/uploads/2021/07/say21_460.jpeg
ORGANIZER;CN="Musikfest Bremen gGmbH":MAILTO:info@musikfest-bremen.de
END:VEVENT
BEGIN:VEVENT
DTSTART;TZID=Europe/Berlin:20210904T200000
DTEND;TZID=Europe/Berlin:20210904T220000
DTSTAMP:20260425T185046
CREATED:20210727T110746Z
LAST-MODIFIED:20221027T101641Z
UID:10001055-1630785600-1630792800@glocke.whitebox-dev.de
SUMMARY:32. Musikfest Bremen »»Alles Liebe!« «
DESCRIPTION:
URL:https://glocke.whitebox-dev.de/event/32-musikfest-bremen-alles-liebe/
LOCATION:Großer Saal\, Germany
CATEGORIES:Allgemeine
ATTACH;FMTTYPE=image/jpeg:https://glocke.whitebox-dev.de/wp-content/uploads/2021/07/Diana_Damrau_2__c__Simon_Fowler-scaled-e1639308508662.jpg
ORGANIZER;CN="Musikfest Bremen gGmbH":MAILTO:info@musikfest-bremen.de
END:VEVENT
BEGIN:VEVENT
DTSTART;TZID=Europe/Berlin:20210906T200000
DTEND;TZID=Europe/Berlin:20210906T220000
DTSTAMP:20260425T185046
CREATED:20210727T113210Z
LAST-MODIFIED:20221027T101641Z
UID:10001056-1630958400-1630965600@glocke.whitebox-dev.de
SUMMARY:32. Musikfest Bremen  »»Orfeo son io««
DESCRIPTION:
URL:https://glocke.whitebox-dev.de/event/32-musikfest-bremen-orfeo-son-io/
LOCATION:Großer Saal\, Germany
CATEGORIES:Allgemeine
ATTACH;FMTTYPE=image/jpeg:https://glocke.whitebox-dev.de/wp-content/uploads/2021/07/Rolando_Villazon_4__c__ITV_Rex-scaled-e1643642079314.jpg
ORGANIZER;CN="Musikfest Bremen gGmbH":MAILTO:info@musikfest-bremen.de
END:VEVENT
BEGIN:VEVENT
DTSTART;TZID=Europe/Berlin:20210910T200000
DTEND;TZID=Europe/Berlin:20210910T220000
DTSTAMP:20260425T185046
CREATED:20210727T120050Z
LAST-MODIFIED:20221027T101641Z
UID:10001057-1631304000-1631311200@glocke.whitebox-dev.de
SUMMARY:32. Musikfest Bremen »»Kammermusikalische Akademie««
DESCRIPTION:
URL:https://glocke.whitebox-dev.de/event/32-musikfest-bremen-kammermusikalische-akademie/
LOCATION:Großer Saal\, Germany
CATEGORIES:Allgemeine
ATTACH;FMTTYPE=image/jpeg:https://glocke.whitebox-dev.de/wp-content/uploads/2021/07/bezuidenhout21_460.jpeg
ORGANIZER;CN="Musikfest Bremen gGmbH":MAILTO:info@musikfest-bremen.de
END:VEVENT
BEGIN:VEVENT
DTSTART;TZID=Europe/Berlin:20210911T170000
DTEND;TZID=Europe/Berlin:20210911T213000
DTSTAMP:20260425T185046
CREATED:20211212T131621Z
LAST-MODIFIED:20221027T101641Z
UID:10001220-1631379600-1631395800@glocke.whitebox-dev.de
SUMMARY:musica viva »»Festliches Eröffnungskonzert««
DESCRIPTION:
URL:https://glocke.whitebox-dev.de/event/musica-viva-festliches-eroeffnungskonzert-2/
LOCATION:Großer Saal\, Germany
CATEGORIES:Allgemeine
ORGANIZER;CN="Nicolas Hrudnik Konzertveranstaltungen":MAILTO:info@musicaviva.de
END:VEVENT
BEGIN:VEVENT
DTSTART;TZID=Europe/Berlin:20210912T140000
DTEND;TZID=Europe/Berlin:20210912T213000
DTSTAMP:20260425T185046
CREATED:20211212T131836Z
LAST-MODIFIED:20221027T101641Z
UID:10001222-1631455200-1631482200@glocke.whitebox-dev.de
SUMMARY:musica viva »Festliches Eröffnungskonzert«
DESCRIPTION:
URL:https://glocke.whitebox-dev.de/event/musica-viva-festliches-eroeffnungskonzert/
LOCATION:Großer Saal\, Germany
CATEGORIES:Allgemeine
ORGANIZER;CN="Nicolas Hrudnik Konzertveranstaltungen":MAILTO:info@musicaviva.de
END:VEVENT
BEGIN:VEVENT
DTSTART;TZID=Europe/Berlin:20210912T170000
DTEND;TZID=Europe/Berlin:20210912T193000
DTSTAMP:20260425T185046
CREATED:20221004T114722Z
LAST-MODIFIED:20221027T101641Z
UID:10001602-1631466000-1631475000@glocke.whitebox-dev.de
SUMMARY:Kammerorchester der Neuen Philharmonie Hamburg
DESCRIPTION:
URL:https://glocke.whitebox-dev.de/event/kammerorchester-der-neuen-philharmonie-hamburg-2/
LOCATION:Kleiner Saal\, Germany
CATEGORIES:Allgemeine
ORGANIZER;CN="Amabile Classic":MAILTO:t.mikaelyan@gmx.de
END:VEVENT
BEGIN:VEVENT
DTSTART;TZID=Europe/Berlin:20210914T180000
DTEND;TZID=Europe/Berlin:20210914T230000
DTSTAMP:20260425T185046
CREATED:20210729T075826Z
LAST-MODIFIED:20221027T101641Z
UID:10001059-1631642400-1631660400@glocke.whitebox-dev.de
SUMMARY:32. Musikfest Bremen »»Schwelgerische Spätromantik« «
DESCRIPTION:
URL:https://glocke.whitebox-dev.de/event/32-musikfest-bremen-schwelgerische-spaetromantik/
LOCATION:Großer Saal\, Germany
CATEGORIES:Allgemeine
ATTACH;FMTTYPE=image/jpeg:https://glocke.whitebox-dev.de/wp-content/uploads/2021/07/bp21_460.jpeg
ORGANIZER;CN="Musikfest Bremen gGmbH":MAILTO:info@musikfest-bremen.de
END:VEVENT
BEGIN:VEVENT
DTSTART;TZID=Europe/Berlin:20210916T200000
DTEND;TZID=Europe/Berlin:20210916T220000
DTSTAMP:20260425T185046
CREATED:20210729T082145Z
LAST-MODIFIED:20221027T101641Z
UID:10001061-1631822400-1631829600@glocke.whitebox-dev.de
SUMMARY:32. Musikfest Bremen »»Sinfonische Meisterwerke««
DESCRIPTION:
URL:https://glocke.whitebox-dev.de/event/32-musikfest-bremen-sinfonische-meisterwerke/
LOCATION:Großer Saal\, Germany
CATEGORIES:Allgemeine
ATTACH;FMTTYPE=image/jpeg:https://glocke.whitebox-dev.de/wp-content/uploads/2021/07/herreweghe21_460.jpeg
ORGANIZER;CN="Musikfest Bremen gGmbH":MAILTO:info@musikfest-bremen.de
END:VEVENT
BEGIN:VEVENT
DTSTART;TZID=Europe/Berlin:20210917T200000
DTEND;TZID=Europe/Berlin:20210917T220000
DTSTAMP:20260425T185046
CREATED:20210729T083500Z
LAST-MODIFIED:20221027T101641Z
UID:10001063-1631908800-1631916000@glocke.whitebox-dev.de
SUMMARY:32. Musikfest Bremen »»Currentzis & Prokofjew««
DESCRIPTION:
URL:https://glocke.whitebox-dev.de/event/32-musikfest-bremen-currentzis-prokofjew/
LOCATION:Großer Saal\, Germany
CATEGORIES:Allgemeine
ATTACH;FMTTYPE=image/jpeg:https://glocke.whitebox-dev.de/wp-content/uploads/2021/07/swr-currentzis21_460.jpeg
ORGANIZER;CN="Musikfest Bremen gGmbH":MAILTO:info@musikfest-bremen.de
END:VEVENT
BEGIN:VEVENT
DTSTART;TZID=Europe/Berlin:20210926T110000
DTEND;TZID=Europe/Berlin:20210926T130000
DTSTAMP:20260425T185046
CREATED:20211212T133525Z
LAST-MODIFIED:20221027T101641Z
UID:10001224-1632654000-1632661200@glocke.whitebox-dev.de
SUMMARY:Bremer Philharmoniker »»Von Welterfolgen und schweren Geburten«« 1. Philharmonisches Konzert
DESCRIPTION:
URL:https://glocke.whitebox-dev.de/event/bremer-philharmoniker-von-welterfolgen-und-schweren-geburten-1-philharmonisches-konzert/
LOCATION:Großer Saal\, Germany
CATEGORIES:Allgemeine
ORGANIZER;CN="Bremer Philharmoniker GmbH":MAILTO:info@bremerphilharmoniker.de
END:VEVENT
BEGIN:VEVENT
DTSTART;TZID=Europe/Berlin:20210926T153000
DTEND;TZID=Europe/Berlin:20210926T173000
DTSTAMP:20260425T185046
CREATED:20220131T155530Z
LAST-MODIFIED:20221027T101641Z
UID:10001363-1632670200-1632677400@glocke.whitebox-dev.de
SUMMARY:Bremer Kaffeehaus-Orchester »Herbstkonzert«
DESCRIPTION:
URL:https://glocke.whitebox-dev.de/event/bremer-kaffeehaus-orchester-herbstkonzert/
LOCATION:Kleiner Saal\, Germany
CATEGORIES:Allgemeine
ORGANIZER;CN="Bremer Kaffeehaus-Orchester GbR":MAILTO:info@bremerkaffeehausorchester.de
END:VEVENT
BEGIN:VEVENT
DTSTART;TZID=Europe/Berlin:20210927T193000
DTEND;TZID=Europe/Berlin:20210927T213000
DTSTAMP:20260425T185046
CREATED:20211212T133955Z
LAST-MODIFIED:20221027T101641Z
UID:10001225-1632771000-1632778200@glocke.whitebox-dev.de
SUMMARY:Bremer Philharmoniker »»Von Welterfolgen und schweren Geburten«« 1. Philharmonisches Konzert
DESCRIPTION:
URL:https://glocke.whitebox-dev.de/event/bremer-philharmoniker-von-welterfolgen-und-schweren-geburten-1-philharmonisches-konzert-2/
LOCATION:Großer Saal\, Germany
CATEGORIES:Allgemeine
ORGANIZER;CN="Bremer Philharmoniker GmbH":MAILTO:info@bremerphilharmoniker.de
END:VEVENT
BEGIN:VEVENT
DTSTART;TZID=Europe/Berlin:20210928T180000
DTEND;TZID=Europe/Berlin:20210928T200000
DTSTAMP:20260425T185046
CREATED:20210729T135428Z
LAST-MODIFIED:20221027T101641Z
UID:10001065-1632852000-1632859200@glocke.whitebox-dev.de
SUMMARY:Alexander Krichel »Albumrelease-Konzert: Enescu und Mussorgsky«
DESCRIPTION:
URL:https://glocke.whitebox-dev.de/event/alexander-krichel-albumrelease-konzert-enescu-und-mussorgsky/
LOCATION:Kleiner Saal\, Germany
CATEGORIES:Allgemeine
ATTACH;FMTTYPE=image/jpeg:https://glocke.whitebox-dev.de/wp-content/uploads/2021/07/krichel21_460.jpeg
ORGANIZER;CN="Philharmonische Gesellschaft Bremen":MAILTO:info@phg-bremen.de
END:VEVENT
BEGIN:VEVENT
DTSTART;TZID=Europe/Berlin:20210928T193000
DTEND;TZID=Europe/Berlin:20210928T213000
DTSTAMP:20260425T185046
CREATED:20211212T134021Z
LAST-MODIFIED:20221027T101641Z
UID:10001226-1632857400-1632864600@glocke.whitebox-dev.de
SUMMARY:Bremer Philharmoniker »»Von Welterfolgen und schweren Geburten«« 1. Philharmonisches Konzert
DESCRIPTION:
URL:https://glocke.whitebox-dev.de/event/bremer-philharmoniker-von-welterfolgen-und-schweren-geburten-1-philharmonisches-konzert-3/
LOCATION:Großer Saal\, Germany
CATEGORIES:Allgemeine
ORGANIZER;CN="Bremer Philharmoniker GmbH":MAILTO:info@bremerphilharmoniker.de
END:VEVENT
BEGIN:VEVENT
DTSTART;TZID=Europe/Berlin:20210929T180500
DTEND;TZID=Europe/Berlin:20210929T180500
DTSTAMP:20260425T185046
CREATED:20210903T155554Z
LAST-MODIFIED:20221027T101641Z
UID:10001118-1632938700-1632938700@glocke.whitebox-dev.de
SUMMARY:Bremer Philharmoniker »»Heiter bis wolkig«« 5nachsechs Afterwork-Konzert
DESCRIPTION:
URL:https://glocke.whitebox-dev.de/event/bremer-philharmoniker-heiter-bis-wolkig-5nachsechs-afterwork-konzert/
LOCATION:Großer Saal\, Germany
CATEGORIES:Allgemeine
ORGANIZER;CN="Bremer Philharmoniker GmbH":MAILTO:info@bremerphilharmoniker.de
END:VEVENT
BEGIN:VEVENT
DTSTART;TZID=Europe/Berlin:20210929T200000
DTEND;TZID=Europe/Berlin:20210929T220000
DTSTAMP:20260425T185046
CREATED:20210729T140322Z
LAST-MODIFIED:20221027T101641Z
UID:10001067-1632945600-1632952800@glocke.whitebox-dev.de
SUMMARY:PASIÓN FLAMENCA - ROSAS NEGRAS
DESCRIPTION:
URL:https://glocke.whitebox-dev.de/event/pasion-flamenca-rosas-negras/
LOCATION:Kleiner Saal\, Germany
CATEGORIES:Allgemeine
ORGANIZER;CN="Blanca Nieves":MAILTO:info@blancanieves.de
END:VEVENT
END:VCALENDAR