BEGIN:VCALENDAR
VERSION:2.0
PRODID:-//DIE GLOCKE | Das Bremer Konzerthaus - ECPv6.6.3//NONSGML v1.0//EN
CALSCALE:GREGORIAN
METHOD:PUBLISH
X-ORIGINAL-URL:https://glocke.whitebox-dev.de
X-WR-CALDESC:Veranstaltungen für DIE GLOCKE | Das Bremer Konzerthaus
REFRESH-INTERVAL;VALUE=DURATION:PT1H
X-Robots-Tag:noindex
X-PUBLISHED-TTL:PT1H
BEGIN:VTIMEZONE
TZID:Europe/Berlin
BEGIN:DAYLIGHT
TZOFFSETFROM:+0100
TZOFFSETTO:+0200
TZNAME:CEST
DTSTART:20210328T010000
END:DAYLIGHT
BEGIN:STANDARD
TZOFFSETFROM:+0200
TZOFFSETTO:+0100
TZNAME:CET
DTSTART:20211031T010000
END:STANDARD
END:VTIMEZONE
BEGIN:VEVENT
DTSTART;TZID=Europe/Berlin:20211201T200000
DTEND;TZID=Europe/Berlin:20211201T220000
DTSTAMP:20260425T173911
CREATED:20220929T105250Z
LAST-MODIFIED:20221027T102744Z
UID:10001310-1638388800-1638396000@glocke.whitebox-dev.de
SUMMARY:Das große Benefiz-Adventskonzert zugunsten der WESER-KURIER Weihnachtshilfe
DESCRIPTION:
URL:https://glocke.whitebox-dev.de/event/das-grosse-benefiz-adventskonzert-zugunsten-der-weser-kurier-weihnachtshilfe/
LOCATION:Großer Saal\, Germany
CATEGORIES:Allgemeine
ATTACH;FMTTYPE=image/jpeg:https://glocke.whitebox-dev.de/wp-content/uploads/2022/09/robin-mckelle21_460.jpg
ORGANIZER;CN="Bremer Philharmoniker GmbH":MAILTO:info@bremerphilharmoniker.de
END:VEVENT
BEGIN:VEVENT
DTSTART;TZID=Europe/Berlin:20211203T150000
DTEND;TZID=Europe/Berlin:20211203T213000
DTSTAMP:20260425T173911
CREATED:20220110T112233Z
LAST-MODIFIED:20221027T102744Z
UID:10001117-1638543600-1638567000@glocke.whitebox-dev.de
SUMMARY:musica viva »Festliches Weihnachtskonzert«
DESCRIPTION:
URL:https://glocke.whitebox-dev.de/event/musica-viva-festliches-weihnachtskonzert/
LOCATION:Großer Saal\, Germany
CATEGORIES:Allgemeine
ORGANIZER;CN="Nicolas Hrudnik Konzertveranstaltungen":MAILTO:info@musicaviva.de
END:VEVENT
BEGIN:VEVENT
DTSTART;TZID=Europe/Berlin:20211204T150000
DTEND;TZID=Europe/Berlin:20211204T213000
DTSTAMP:20260425T173911
CREATED:20220110T112304Z
LAST-MODIFIED:20221027T102744Z
UID:10001119-1638630000-1638653400@glocke.whitebox-dev.de
SUMMARY:musica viva »Festliches Weihnachtskonzert«
DESCRIPTION:
URL:https://glocke.whitebox-dev.de/event/musica-viva-festliches-weihnachtskonzert-2/
LOCATION:Großer Saal\, Germany
CATEGORIES:Allgemeine
ORGANIZER;CN="Nicolas Hrudnik Konzertveranstaltungen":MAILTO:info@musicaviva.de
END:VEVENT
BEGIN:VEVENT
DTSTART;TZID=Europe/Berlin:20211205T110000
DTEND;TZID=Europe/Berlin:20211205T170000
DTSTAMP:20260425T173911
CREATED:20220110T140348Z
LAST-MODIFIED:20221027T102744Z
UID:10001132-1638702000-1638723600@glocke.whitebox-dev.de
SUMMARY:Barbara Robinson: »Hilfe\, die Herdmanns kommen!«
DESCRIPTION:
URL:https://glocke.whitebox-dev.de/event/barbara-robinson-hilfe-die-herdmanns-kommen/
LOCATION:Kleiner Saal\, Germany
CATEGORIES:GLOCKE Lesung mit Musik
ATTACH;FMTTYPE=image/jpeg:https://glocke.whitebox-dev.de/wp-content/uploads/2022/01/Lesung_Herdmanns_Illustration©Wilhelm-Schlote-©-Auffuehrungsrechte-Verlag-fuer-Kindertheater-Weitendorf-GmbH-Hamburg-deutsche-Buchausgabe-erschienen-beim-Verlag-Friedrich-Oetinger-Hamburg-e1641823354690.jpg
ORGANIZER;CN="Glocke Veranstaltungs-GmbH":MAILTO:info@glocke.de
END:VEVENT
BEGIN:VEVENT
DTSTART;TZID=Europe/Berlin:20211205T150000
DTEND;TZID=Europe/Berlin:20211205T213000
DTSTAMP:20260425T173911
CREATED:20220110T112330Z
LAST-MODIFIED:20221027T102743Z
UID:10001121-1638716400-1638739800@glocke.whitebox-dev.de
SUMMARY:musica viva »Festliches Weihnachtskonzert«
DESCRIPTION:
URL:https://glocke.whitebox-dev.de/event/musica-viva-festliches-weihnachtskonzert-3/
LOCATION:Großer Saal\, Germany
CATEGORIES:Allgemeine
ORGANIZER;CN="Nicolas Hrudnik Konzertveranstaltungen":MAILTO:info@musicaviva.de
END:VEVENT
BEGIN:VEVENT
DTSTART;TZID=Europe/Berlin:20211206T200000
DTEND;TZID=Europe/Berlin:20211206T220000
DTSTAMP:20260425T173911
CREATED:20220110T094305Z
LAST-MODIFIED:20221027T102743Z
UID:10001115-1638820800-1638828000@glocke.whitebox-dev.de
SUMMARY:Miroslav Nemec & Udo Wachtveitl »Charles Dickens: »Eine Weihnachtsgeschichte« «
DESCRIPTION:
URL:https://glocke.whitebox-dev.de/event/miroslav-nemec-udo-wachtveitl-charles-dickens-eine-weihnachtsgeschichte/
LOCATION:Großer Saal\, Germany
CATEGORIES:Allgemeine
ATTACH;FMTTYPE=image/jpeg:https://glocke.whitebox-dev.de/wp-content/uploads/2021/11/Nemec-Wachtveitl-scaled-e1641808157562.jpg
END:VEVENT
BEGIN:VEVENT
DTSTART;TZID=Europe/Berlin:20211207T200000
DTEND;TZID=Europe/Berlin:20211207T223000
DTSTAMP:20260425T173911
CREATED:20220110T123101Z
LAST-MODIFIED:20221027T102743Z
UID:10001123-1638907200-1638916200@glocke.whitebox-dev.de
SUMMARY:Sabine Meyer & Alliage Quintett »Weiße Weihnachten« 2. Meisterkonzert
DESCRIPTION:
URL:https://glocke.whitebox-dev.de/event/sabine-meyer-alliage-quintett-weisse-weihnachten-2-meisterkonzert/
LOCATION:Großer Saal\, Germany
CATEGORIES:Allgemeine
ATTACH;FMTTYPE=image/jpeg:https://glocke.whitebox-dev.de/wp-content/uploads/2022/01/MG_0119mit-Sabine-und-Miguell-scaled-e1641817814655.jpg
ORGANIZER;CN="Konzertdirektion Dr. Rudolf Goette GmbH":MAILTO:info@goette.de
END:VEVENT
BEGIN:VEVENT
DTSTART;TZID=Europe/Berlin:20211208T200000
DTEND;TZID=Europe/Berlin:20211208T220000
DTSTAMP:20260425T173911
CREATED:20220929T104650Z
LAST-MODIFIED:20221027T102743Z
UID:10001308-1638993600-1639000800@glocke.whitebox-dev.de
SUMMARY:Till Brönner (2G)
DESCRIPTION:
URL:https://glocke.whitebox-dev.de/event/till-broenner-2g/
LOCATION:Großer Saal\, Germany
CATEGORIES:Allgemeine
ATTACH;FMTTYPE=image/jpeg:https://glocke.whitebox-dev.de/wp-content/uploads/2022/01/Till-Broenner_Pressebild_Credit-Robert-Eikelpoth-e1642495797197.jpg
ORGANIZER;CN="River Concerts GmbH":MAILTO:k.winter@riverconcerts.de
END:VEVENT
BEGIN:VEVENT
DTSTART;TZID=Europe/Berlin:20211210T200000
DTEND;TZID=Europe/Berlin:20211210T220000
DTSTAMP:20260425T173911
CREATED:20211109T120510Z
LAST-MODIFIED:20221027T102743Z
UID:10001018-1639166400-1639173600@glocke.whitebox-dev.de
SUMMARY:Die Deutsche\nKammerphilharmonie\nBremen Inspirierende Vorbilder
DESCRIPTION:
URL:https://glocke.whitebox-dev.de/event/die-deutschekammerphilharmoniebremen-inspirierende-vorbilder/
LOCATION:Großer Saal\, Germany
CATEGORIES:Allgemeine
ATTACH;FMTTYPE=image/jpeg:https://glocke.whitebox-dev.de/wp-content/uploads/2021/11/Paavo-Jaervi_c-Julia-Baier-e1636460869657.jpg
ORGANIZER;CN="Die Deutsche Kammerphilharmonie Bremen":MAILTO:info@kammerphilharmonie.com
END:VEVENT
BEGIN:VEVENT
DTSTART;TZID=Europe/Berlin:20211211T190000
DTEND;TZID=Europe/Berlin:20211211T210000
DTSTAMP:20260425T173911
CREATED:20220922T111243Z
LAST-MODIFIED:20221027T102743Z
UID:10001304-1639249200-1639256400@glocke.whitebox-dev.de
SUMMARY:Alejandro Carrillo Gamboa »Guitarra y Voz« (2G)
DESCRIPTION:
URL:https://glocke.whitebox-dev.de/event/alejandro-carrillo-gamboa-guitarra-y-voz-2g/
LOCATION:Kleiner Saal\, Germany
CATEGORIES:Allgemeine
ATTACH;FMTTYPE=image/jpeg:https://glocke.whitebox-dev.de/wp-content/uploads/2022/09/gamboa20_460.jpg
ORGANIZER;CN="ACG-Musik":MAILTO:management@acg-musik.com
END:VEVENT
BEGIN:VEVENT
DTSTART;TZID=Europe/Berlin:20211211T200000
DTEND;TZID=Europe/Berlin:20211211T220000
DTSTAMP:20260425T173911
CREATED:20211109T112843Z
LAST-MODIFIED:20221027T102743Z
UID:10001017-1639252800-1639260000@glocke.whitebox-dev.de
SUMMARY:Die Deutsche\nKammerphilharmonie\nBremen Inspirierende Vorbilder
DESCRIPTION:
URL:https://glocke.whitebox-dev.de/event/die-deutschekammerphilharmoniebremen-inspirierende-vorbilder-2/
LOCATION:Großer Saal\, Germany
CATEGORIES:Allgemeine
ATTACH;FMTTYPE=image/jpeg:https://glocke.whitebox-dev.de/wp-content/uploads/2021/11/Paavo-Jaervi_c-Julia-Baier-e1636460869657.jpg
ORGANIZER;CN="Die Deutsche Kammerphilharmonie Bremen":MAILTO:info@kammerphilharmonie.com
END:VEVENT
BEGIN:VEVENT
DTSTART;TZID=Europe/Berlin:20211212T110000
DTEND;TZID=Europe/Berlin:20211212T130000
DTSTAMP:20260425T173911
CREATED:20220110T130711Z
LAST-MODIFIED:20221027T102740Z
UID:10001128-1639306800-1639314000@glocke.whitebox-dev.de
SUMMARY:Bremer Philharmoniker »Winterzauber« 4. Philharmonisches Konzert
DESCRIPTION:
URL:https://glocke.whitebox-dev.de/event/bremer-philharmoniker-winterzauber-4-philharmonisches-konzert-3/
LOCATION:Großer Saal\, Germany
CATEGORIES:Allgemeine
ATTACH;FMTTYPE=image/jpeg:https://glocke.whitebox-dev.de/wp-content/uploads/2022/01/karen-vourch-e1641819892439.jpg
ORGANIZER;CN="Bremer Philharmoniker GmbH":MAILTO:info@bremerphilharmoniker.de
END:VEVENT
BEGIN:VEVENT
DTSTART;TZID=Europe/Berlin:20211212T153000
DTEND;TZID=Europe/Berlin:20211212T170000
DTSTAMP:20260425T173911
CREATED:20220110T130943Z
LAST-MODIFIED:20221027T102740Z
UID:10001130-1639323000-1639328400@glocke.whitebox-dev.de
SUMMARY:Bremer Kaffeehaus-Orchester »Weihnachtskonzert«
DESCRIPTION:
URL:https://glocke.whitebox-dev.de/event/bremer-kaffeehaus-orchester-weihnachtskonzert/
LOCATION:Großer Saal\, Germany
CATEGORIES:Allgemeine
ATTACH;FMTTYPE=image/jpeg:https://glocke.whitebox-dev.de/wp-content/uploads/2022/01/FK_Mitsing-Weihnachten-c-Marianne-Menke-e1641820771403.jpg
ORGANIZER;CN="Bremer Kaffeehaus-Orchester GbR":MAILTO:info@bremerkaffeehausorchester.de
END:VEVENT
BEGIN:VEVENT
DTSTART;TZID=Europe/Berlin:20211212T193000
DTEND;TZID=Europe/Berlin:20211212T213000
DTSTAMP:20260425T173911
CREATED:20220922T110109Z
LAST-MODIFIED:20221027T102740Z
UID:10001302-1639337400-1639344600@glocke.whitebox-dev.de
SUMMARY:Hamburg Stage Ensemble »Vivaldi and Friends« (2G)
DESCRIPTION:
URL:https://glocke.whitebox-dev.de/event/hamburg-stage-ensemble-vivaldi-and-friends-2g/
LOCATION:Kleiner Saal\, Germany
CATEGORIES:Allgemeine
ATTACH;FMTTYPE=image/jpeg:https://glocke.whitebox-dev.de/wp-content/uploads/2022/01/hamburg-stage21_460.jpg
ORGANIZER;CN="Hamburg Stage Ensemble":MAILTO:kontakt@hamburg-stage-ensemble.com
END:VEVENT
BEGIN:VEVENT
DTSTART;TZID=Europe/Berlin:20211213T193000
DTEND;TZID=Europe/Berlin:20211213T213000
DTSTAMP:20260425T173911
CREATED:20220110T125101Z
LAST-MODIFIED:20221027T102737Z
UID:10001125-1639423800-1639431000@glocke.whitebox-dev.de
SUMMARY:Bremer Philharmoniker »Winterzauber« 4. Philharmonisches Konzert
DESCRIPTION:
URL:https://glocke.whitebox-dev.de/event/bremer-philharmoniker-winterzauber-4-philharmonisches-konzert/
LOCATION:Großer Saal\, Germany
CATEGORIES:Allgemeine
ATTACH;FMTTYPE=image/jpeg:https://glocke.whitebox-dev.de/wp-content/uploads/2022/01/karen-vourch-e1641819892439.jpg
ORGANIZER;CN="Bremer Philharmoniker GmbH":MAILTO:info@bremerphilharmoniker.de
END:VEVENT
BEGIN:VEVENT
DTSTART;TZID=Europe/Berlin:20211214T193000
DTEND;TZID=Europe/Berlin:20211214T213000
DTSTAMP:20260425T173911
CREATED:20220110T130627Z
LAST-MODIFIED:20221027T102737Z
UID:10001127-1639510200-1639517400@glocke.whitebox-dev.de
SUMMARY:Bremer Philharmoniker »Winterzauber« 4. Philharmonisches Konzert
DESCRIPTION:
URL:https://glocke.whitebox-dev.de/event/bremer-philharmoniker-winterzauber-4-philharmonisches-konzert-2/
LOCATION:Großer Saal\, Germany
CATEGORIES:Allgemeine
ATTACH;FMTTYPE=image/jpeg:https://glocke.whitebox-dev.de/wp-content/uploads/2022/01/karen-vourch-e1641819892439.jpg
ORGANIZER;CN="Bremer Philharmoniker GmbH":MAILTO:info@bremerphilharmoniker.de
END:VEVENT
BEGIN:VEVENT
DTSTART;TZID=Europe/Berlin:20211215T180500
DTEND;TZID=Europe/Berlin:20211215T193000
DTSTAMP:20260425T173911
CREATED:20220118T085403Z
LAST-MODIFIED:20221027T102737Z
UID:10001335-1639591500-1639596600@glocke.whitebox-dev.de
SUMMARY:Bremer Philharmoniker »Märchenhaft nordisch« 5nachsechs Afterwork-Konzert
DESCRIPTION:
URL:https://glocke.whitebox-dev.de/event/bremer-philharmoniker-maerchenhaft-nordisch-5nachsechs-afterwork-konzert/
LOCATION:Großer Saal\, Germany
CATEGORIES:Allgemeine
ATTACH;FMTTYPE=image/jpeg:https://glocke.whitebox-dev.de/wp-content/uploads/2022/01/Mihhail_Gerts_Kaupo_Kikkas_06559-2-scaled.jpg
ORGANIZER;CN="Bremer Philharmoniker GmbH":MAILTO:info@bremerphilharmoniker.de
END:VEVENT
BEGIN:VEVENT
DTSTART;TZID=Europe/Berlin:20211216T200000
DTEND;TZID=Europe/Berlin:20211216T220000
DTSTAMP:20260425T173911
CREATED:20211108T172457Z
LAST-MODIFIED:20221027T102737Z
UID:10001016-1639684800-1639692000@glocke.whitebox-dev.de
SUMMARY:Cecilia Bartoli »Stabat mater« (2G) Meisterkonzerte: Sonderkonzert
DESCRIPTION:
URL:https://glocke.whitebox-dev.de/event/cecilia-bartoli-stabat-mater-2g-meisterkonzerte-sonderkonzert/
LOCATION:Großer Saal\, Germany
CATEGORIES:Allgemeine
ATTACH;FMTTYPE=image/jpeg:https://glocke.whitebox-dev.de/wp-content/uploads/2021/11/Cecilia-Bartoli-©-Simon-Fowler-Decca-Classics.jpg
ORGANIZER;CN="Konzertdirektion Dr. Rudolf Goette GmbH":MAILTO:info@goette.de
END:VEVENT
BEGIN:VEVENT
DTSTART;TZID=Europe/Berlin:20211218T190000
DTEND;TZID=Europe/Berlin:20211218T210000
DTSTAMP:20260425T173911
CREATED:20220922T104906Z
LAST-MODIFIED:20221027T102737Z
UID:10001300-1639854000-1639861200@glocke.whitebox-dev.de
SUMMARY:Vivaldi Die vier Jahreszeiten
DESCRIPTION:
URL:https://glocke.whitebox-dev.de/event/vivaldi-die-vier-jahreszeiten-2/
LOCATION:Großer Saal\, Germany
CATEGORIES:Allgemeine
ORGANIZER;CN="Kulturgipfel GmbH":MAILTO:info@kulturgipfel.de
END:VEVENT
BEGIN:VEVENT
DTSTART;TZID=Europe/Berlin:20211219T190000
DTEND;TZID=Europe/Berlin:20211219T190000
DTSTAMP:20260425T173911
CREATED:20220922T104151Z
LAST-MODIFIED:20221027T102737Z
UID:10001298-1639940400-1639940400@glocke.whitebox-dev.de
SUMMARY:Bach: Weihnachtsoratorium
DESCRIPTION:
URL:https://glocke.whitebox-dev.de/event/bach-weihnachtsoratorium/
LOCATION:Großer Saal\, Germany
CATEGORIES:Allgemeine
ORGANIZER;CN="Kulturgipfel GmbH":MAILTO:info@kulturgipfel.de
END:VEVENT
BEGIN:VEVENT
DTSTART;TZID=Europe/Berlin:20211222T190000
DTEND;TZID=Europe/Berlin:20211222T210000
DTSTAMP:20260425T173911
CREATED:20220118T093009Z
LAST-MODIFIED:20221027T102736Z
UID:10001337-1640199600-1640206800@glocke.whitebox-dev.de
SUMMARY:Don Kosaken Chor Serge Jaroff ® unter Leitung von Wanja Hlibka
DESCRIPTION:
URL:https://glocke.whitebox-dev.de/event/don-kosaken-chor-serge-jaroff-unter-leitung-von-wanja-hlibka/
LOCATION:Großer Saal\, Germany
CATEGORIES:Allgemeine
END:VEVENT
BEGIN:VEVENT
DTSTART;TZID=Europe/Berlin:20211223T150000
DTEND;TZID=Europe/Berlin:20211223T170000
DTSTAMP:20260425T173911
CREATED:20220922T103650Z
LAST-MODIFIED:20221027T102736Z
UID:10001296-1640271600-1640278800@glocke.whitebox-dev.de
SUMMARY:»Fröhliche Weihnacht überall« (2G)
DESCRIPTION:
URL:https://glocke.whitebox-dev.de/event/froehliche-weihnacht-ueberall-2g/
LOCATION:Großer Saal\, Germany
CATEGORIES:GLOCKE Familienkonzert
ATTACH;FMTTYPE=image/jpeg:https://glocke.whitebox-dev.de/wp-content/uploads/2022/07/FK-Weihnachten-BKO-NEU-S.-19-1000.jpg
ORGANIZER;CN="Glocke Veranstaltungs-GmbH":MAILTO:info@glocke.de
END:VEVENT
BEGIN:VEVENT
DTSTART;TZID=Europe/Berlin:20211225T170000
DTEND;TZID=Europe/Berlin:20211225T190000
DTSTAMP:20260425T173911
CREATED:20220922T103033Z
LAST-MODIFIED:20221027T102736Z
UID:10001595-1640451600-1640458800@glocke.whitebox-dev.de
SUMMARY:Neue Philharmonie Hamburg »Beethovens 9.«
DESCRIPTION:
URL:https://glocke.whitebox-dev.de/event/neue-philharmonie-hamburg-beethovens-9/
LOCATION:Großer Saal\, Germany
CATEGORIES:Allgemeine
ORGANIZER;CN="Weltkonzerte mbbl concerts":MAILTO:info@weltkonzerte.com
END:VEVENT
BEGIN:VEVENT
DTSTART;TZID=Europe/Berlin:20211226T170000
DTEND;TZID=Europe/Berlin:20211226T190000
DTSTAMP:20260425T173911
CREATED:20220922T102657Z
LAST-MODIFIED:20221027T102736Z
UID:10001594-1640538000-1640545200@glocke.whitebox-dev.de
SUMMARY:Vladimir Mogilevsky »Best of Chopin« Klavierabend
DESCRIPTION:
URL:https://glocke.whitebox-dev.de/event/vladimir-mogilevsky-best-of-chopin-klavierabend/
LOCATION:Kleiner Saal\, Germany
CATEGORIES:Allgemeine
ATTACH;FMTTYPE=image/jpeg:https://glocke.whitebox-dev.de/wp-content/uploads/2021/12/mogilevsky-foto9-2-2336x3504-11-scaled-e1639584165282.jpg
ORGANIZER;CN="WORLDofDINNER":MAILTO:info@worldofdinner.de
END:VEVENT
BEGIN:VEVENT
DTSTART;TZID=Europe/Berlin:20211230T160000
DTEND;TZID=Europe/Berlin:20211230T170000
DTSTAMP:20260425T173911
CREATED:20220118T093557Z
LAST-MODIFIED:20221027T102736Z
UID:10001339-1640880000-1640883600@glocke.whitebox-dev.de
SUMMARY:Jan und Henry\n Die große Bühnenshow
DESCRIPTION:
URL:https://glocke.whitebox-dev.de/event/jan-und-henry-die-grosse-buehnenshow/
LOCATION:Großer Saal\, Germany
CATEGORIES:Allgemeine
END:VEVENT
BEGIN:VEVENT
DTSTART;TZID=Europe/Berlin:20211231T170000
DTEND;TZID=Europe/Berlin:20211231T190000
DTSTAMP:20260425T173911
CREATED:20220922T102005Z
LAST-MODIFIED:20221027T102736Z
UID:10001593-1640970000-1640977200@glocke.whitebox-dev.de
SUMMARY:Klassische Philharmonie NordWest - Festliches Silvesterkonzert (2G)
DESCRIPTION:
URL:https://glocke.whitebox-dev.de/event/klassische-philharmonie-nordwest-festliches-silvesterkonzert-2g/
LOCATION:Kleiner Saal\, Germany
CATEGORIES:Allgemeine
END:VEVENT
BEGIN:VEVENT
DTSTART;TZID=Europe/Berlin:20211231T180000
DTEND;TZID=Europe/Berlin:20211231T200000
DTSTAMP:20260425T173911
CREATED:20220922T101616Z
LAST-MODIFIED:20221027T102736Z
UID:10001592-1640973600-1640980800@glocke.whitebox-dev.de
SUMMARY:Silvesterkonzert (2G)
DESCRIPTION:
URL:https://glocke.whitebox-dev.de/event/silvesterkonzert-2g/
LOCATION:Großer Saal\, Germany
CATEGORIES:Allgemeine
ORGANIZER;CN="KPS Concertb%C3%BCro GmbH":MAILTO:julia.baumann@kps.de
END:VEVENT
END:VCALENDAR