BEGIN:VCALENDAR
VERSION:2.0
PRODID:-//DIE GLOCKE | Das Bremer Konzerthaus - ECPv6.6.3//NONSGML v1.0//EN
CALSCALE:GREGORIAN
METHOD:PUBLISH
X-ORIGINAL-URL:https://glocke.whitebox-dev.de
X-WR-CALDESC:Veranstaltungen für DIE GLOCKE | Das Bremer Konzerthaus
REFRESH-INTERVAL;VALUE=DURATION:PT1H
X-Robots-Tag:noindex
X-PUBLISHED-TTL:PT1H
BEGIN:VTIMEZONE
TZID:Europe/Berlin
BEGIN:DAYLIGHT
TZOFFSETFROM:+0100
TZOFFSETTO:+0200
TZNAME:CEST
DTSTART:20220327T010000
END:DAYLIGHT
BEGIN:STANDARD
TZOFFSETFROM:+0200
TZOFFSETTO:+0100
TZNAME:CET
DTSTART:20221030T010000
END:STANDARD
END:VTIMEZONE
BEGIN:VEVENT
DTSTART;TZID=Europe/Berlin:20220101T150000
DTEND;TZID=Europe/Berlin:20220101T170000
DTSTAMP:20260425T151018
CREATED:20220922T100742Z
LAST-MODIFIED:20221027T102735Z
UID:10001590-1641049200-1641056400@glocke.whitebox-dev.de
SUMMARY:musica viva Neujahrskonzert mit Ballett
DESCRIPTION:
URL:https://glocke.whitebox-dev.de/event/musica-viva-neujahrskonzert-mit-ballett/
LOCATION:Großer Saal\, Germany
CATEGORIES:Allgemeine
ATTACH;FMTTYPE=image/jpeg:https://glocke.whitebox-dev.de/wp-content/uploads/2022/09/mv-neujahrskonzert_460.jpg
ORGANIZER;CN="Nicolas Hrudnik Konzertveranstaltungen":MAILTO:info@musicaviva.de
END:VEVENT
BEGIN:VEVENT
DTSTART;TZID=Europe/Berlin:20220101T183000
DTEND;TZID=Europe/Berlin:20220101T203000
DTSTAMP:20260425T151018
CREATED:20220922T100845Z
LAST-MODIFIED:20230516T122554Z
UID:10001591-1641061800-1641069000@glocke.whitebox-dev.de
SUMMARY:musica viva Neujahrskonzert mit Ballett
DESCRIPTION:
URL:https://glocke.whitebox-dev.de/event/musica-viva-neujahrskonzert-mit-ballett-2/
LOCATION:Großer Saal\, Germany
CATEGORIES:Allgemeine
ATTACH;FMTTYPE=image/jpeg:https://glocke.whitebox-dev.de/wp-content/uploads/2022/09/mv-neujahrskonzert_460.jpg
ORGANIZER;CN="Nicolas Hrudnik Konzertveranstaltungen":MAILTO:info@musicaviva.de
END:VEVENT
BEGIN:VEVENT
DTSTART;TZID=Europe/Berlin:20220102T153000
DTEND;TZID=Europe/Berlin:20220102T170000
DTSTAMP:20260425T151018
CREATED:20211118T114135Z
LAST-MODIFIED:20221027T102735Z
UID:10001019-1641137400-1641142800@glocke.whitebox-dev.de
SUMMARY:Bremer Kaffeehaus-Orchester »Neujahrskonzert: Champagnerlaune!«
DESCRIPTION:
URL:https://glocke.whitebox-dev.de/event/bremer-kaffeehaus-orchester-neujahrskonzert-champagnerlaune/
LOCATION:Kleiner Saal\, Germany
CATEGORIES:Allgemeine
ORGANIZER;CN="Bremer Kaffeehaus-Orchester GbR":MAILTO:info@bremerkaffeehausorchester.de
END:VEVENT
BEGIN:VEVENT
DTSTART;TZID=Europe/Berlin:20220102T190000
DTEND;TZID=Europe/Berlin:20220102T213000
DTSTAMP:20260425T151018
CREATED:20211123T163619Z
LAST-MODIFIED:20221027T102735Z
UID:10001131-1641150000-1641159000@glocke.whitebox-dev.de
SUMMARY:Musical »Ewig jung«\nRock’n’Roll bis du stirbst!
DESCRIPTION:
URL:https://glocke.whitebox-dev.de/event/musical-ewig-jungrocknroll-bis-du-stirbst/
LOCATION:Großer Saal\, Germany
CATEGORIES:Allgemeine
ATTACH;FMTTYPE=image/jpeg:https://glocke.whitebox-dev.de/wp-content/uploads/2021/11/EwigJung_30.04.2020_Pressebild.jpg
END:VEVENT
BEGIN:VEVENT
DTSTART;TZID=Europe/Berlin:20220106T200000
DTEND;TZID=Europe/Berlin:20220106T223000
DTSTAMP:20260425T151018
CREATED:20211123T165221Z
LAST-MODIFIED:20221027T102735Z
UID:10001133-1641499200-1641508200@glocke.whitebox-dev.de
SUMMARY:Blechschaden mit Bob Ross\nBlechbläser der Münchner Philharmoniker
DESCRIPTION:
URL:https://glocke.whitebox-dev.de/event/blechschaden-mit-bob-rossblechblaeser-der-muenchner-philharmoniker/
LOCATION:Großer Saal\, Germany
CATEGORIES:Allgemeine
ATTACH;FMTTYPE=image/jpeg:https://glocke.whitebox-dev.de/wp-content/uploads/2021/12/blechschaden-2021-presse1.jpg
END:VEVENT
BEGIN:VEVENT
DTSTART;TZID=Europe/Berlin:20220107T200000
DTEND;TZID=Europe/Berlin:20220107T223000
DTSTAMP:20260425T151018
CREATED:20211123T174344Z
LAST-MODIFIED:20221027T102735Z
UID:10001134-1641585600-1641594600@glocke.whitebox-dev.de
SUMMARY:Ein Abend mit Robert Kreis
DESCRIPTION:
URL:https://glocke.whitebox-dev.de/event/ein-abend-mit-robert-kreis-2/
LOCATION:Kleiner Saal\, Germany
CATEGORIES:Allgemeine
ATTACH;FMTTYPE=image/jpeg:https://glocke.whitebox-dev.de/wp-content/uploads/2021/11/Robert-Kreis-scaled.jpg
ORGANIZER;CN="Tourneetheater Ruge":MAILTO:rugeudo@gmail.com
END:VEVENT
BEGIN:VEVENT
DTSTART;TZID=Europe/Berlin:20220108T200000
DTEND;TZID=Europe/Berlin:20220108T220000
DTSTAMP:20260425T151018
CREATED:20220131T105530Z
LAST-MODIFIED:20221027T102735Z
UID:10001353-1641672000-1641679200@glocke.whitebox-dev.de
SUMMARY:Mark Taratushkin »Der Wanderer«  Klavierabend
DESCRIPTION:
URL:https://glocke.whitebox-dev.de/event/mark-taratushkin-der-wanderer-klavierabend/
LOCATION:Kleiner Saal\, Germany
CATEGORIES:Allgemeine
ORGANIZER;CN="Mark Taratushkin":MAILTO:taratushkin@gmail.com
END:VEVENT
BEGIN:VEVENT
DTSTART;TZID=Europe/Berlin:20220113T193000
DTEND;TZID=Europe/Berlin:20220113T213000
DTSTAMP:20260425T151018
CREATED:20211216T164012Z
LAST-MODIFIED:20221027T102735Z
UID:10001274-1642102200-1642109400@glocke.whitebox-dev.de
SUMMARY:Esmé Quartet 5. Philharmonisches Kammerkonzert
DESCRIPTION:
URL:https://glocke.whitebox-dev.de/event/esme-quartet-5-philharmonisches-kammerkonzert/
LOCATION:Kleiner Saal\, Germany
CATEGORIES:Allgemeine
ATTACH;FMTTYPE=image/jpeg:https://glocke.whitebox-dev.de/wp-content/uploads/2021/11/EsmeQuartet.jpg
ORGANIZER;CN="Philharmonische Gesellschaft Bremen":MAILTO:info@phg-bremen.de
END:VEVENT
BEGIN:VEVENT
DTSTART;TZID=Europe/Berlin:20220114T200000
DTEND;TZID=Europe/Berlin:20220114T220000
DTSTAMP:20260425T151018
CREATED:20220922T100347Z
LAST-MODIFIED:20221027T102734Z
UID:10001589-1642190400-1642197600@glocke.whitebox-dev.de
SUMMARY:Die Deutsche Kammerphilharmonie Bremen
DESCRIPTION:
URL:https://glocke.whitebox-dev.de/event/die-deutsche-kammerphilharmonie-bremen-3/
LOCATION:Großer Saal\, Germany
CATEGORIES:Allgemeine
ORGANIZER;CN="Die Deutsche Kammerphilharmonie Bremen":MAILTO:info@kammerphilharmonie.com
END:VEVENT
BEGIN:VEVENT
DTSTART;TZID=Europe/Berlin:20220115T200000
DTEND;TZID=Europe/Berlin:20220115T220000
DTSTAMP:20260425T151018
CREATED:20211124T180528Z
LAST-MODIFIED:20221027T102734Z
UID:10001137-1642276800-1642284000@glocke.whitebox-dev.de
SUMMARY:FLAMENCO y TANGO PASIÓN La vida es bailar!
DESCRIPTION:
URL:https://glocke.whitebox-dev.de/event/flamenco-y-tango-pasion-la-vida-es-bailar/
LOCATION:Kleiner Saal\, Germany
CATEGORIES:Allgemeine
ATTACH;FMTTYPE=image/jpeg:https://glocke.whitebox-dev.de/wp-content/uploads/2021/11/FLAMENCO-y-TANGO-PASION.jpg
ORGANIZER;CN="Blanca Nieves":MAILTO:info@blancanieves.de
END:VEVENT
BEGIN:VEVENT
DTSTART;TZID=Europe/Berlin:20220115T200000
DTEND;TZID=Europe/Berlin:20220115T223000
DTSTAMP:20260425T151018
CREATED:20211124T175632Z
LAST-MODIFIED:20221027T102734Z
UID:10001135-1642276800-1642285800@glocke.whitebox-dev.de
SUMMARY:Die Nacht der 5 Tenöre Musica del mondo
DESCRIPTION:
URL:https://glocke.whitebox-dev.de/event/die-nacht-der-5-tenoere-musica-del-mondo/
LOCATION:Großer Saal\, Germany
CATEGORIES:Allgemeine
ATTACH;FMTTYPE=image/jpeg:https://glocke.whitebox-dev.de/wp-content/uploads/2021/11/Tenoere-Live-2-e1637776525396.jpg
END:VEVENT
BEGIN:VEVENT
DTSTART;TZID=Europe/Berlin:20220116T110000
DTEND;TZID=Europe/Berlin:20220116T130000
DTSTAMP:20260425T151018
CREATED:20211124T182952Z
LAST-MODIFIED:20221027T102734Z
UID:10001143-1642330800-1642338000@glocke.whitebox-dev.de
SUMMARY:Bremer Philharmoniker »Prosit!« 5. Philharmonisches Konzert
DESCRIPTION:
URL:https://glocke.whitebox-dev.de/event/bremer-philharmoniker-prosit-5-philharmonisches-konzert/
LOCATION:Großer Saal\, Germany
CATEGORIES:Allgemeine
ATTACH;FMTTYPE=image/jpeg:https://glocke.whitebox-dev.de/wp-content/uploads/2021/11/Signum_Quartett_c-Andrej-Grilc-scaled.jpg
ORGANIZER;CN="Bremer Philharmoniker GmbH":MAILTO:info@bremerphilharmoniker.de
END:VEVENT
BEGIN:VEVENT
DTSTART;TZID=Europe/Berlin:20220117T193000
DTEND;TZID=Europe/Berlin:20220117T213000
DTSTAMP:20260425T151018
CREATED:20211124T182929Z
LAST-MODIFIED:20221027T102734Z
UID:10001141-1642447800-1642455000@glocke.whitebox-dev.de
SUMMARY:Bremer Philharmoniker »Prosit!« 5. Philharmonisches Konzert
DESCRIPTION:
URL:https://glocke.whitebox-dev.de/event/bremer-philharmoniker-prosit-5-philharmonisches-konzert-3/
LOCATION:Großer Saal\, Germany
CATEGORIES:Allgemeine
ATTACH;FMTTYPE=image/jpeg:https://glocke.whitebox-dev.de/wp-content/uploads/2021/11/Signum_Quartett_c-Andrej-Grilc-scaled.jpg
ORGANIZER;CN="Bremer Philharmoniker GmbH":MAILTO:info@bremerphilharmoniker.de
END:VEVENT
BEGIN:VEVENT
DTSTART;TZID=Europe/Berlin:20220118T193000
DTEND;TZID=Europe/Berlin:20220118T213000
DTSTAMP:20260425T151018
CREATED:20211118T131842Z
LAST-MODIFIED:20221027T102733Z
UID:10001126-1642534200-1642541400@glocke.whitebox-dev.de
SUMMARY:Bremer Philharmoniker »Prosit!« 5. Philharmonisches Konzert
DESCRIPTION:
URL:https://glocke.whitebox-dev.de/event/bremer-philharmoniker-prosit-5-philharmonisches-konzert-2/
LOCATION:Großer Saal\, Germany
CATEGORIES:Allgemeine
ATTACH;FMTTYPE=image/jpeg:https://glocke.whitebox-dev.de/wp-content/uploads/2021/11/Signum_Quartett_c-Andrej-Grilc-scaled.jpg
ORGANIZER;CN="Bremer Philharmoniker GmbH":MAILTO:info@bremerphilharmoniker.de
END:VEVENT
BEGIN:VEVENT
DTSTART;TZID=Europe/Berlin:20220120T193000
DTEND;TZID=Europe/Berlin:20220120T220000
DTSTAMP:20260425T151018
CREATED:20211124T182740Z
LAST-MODIFIED:20221027T102733Z
UID:10001139-1642707000-1642716000@glocke.whitebox-dev.de
SUMMARY:Wiener Johann Strauß Konzert-Gala mit Ballett
DESCRIPTION:
URL:https://glocke.whitebox-dev.de/event/wiener-johann-strauss-konzert-gala-mit-ballett/
LOCATION:Großer Saal\, Germany
CATEGORIES:Allgemeine
ATTACH;FMTTYPE=image/jpeg:https://glocke.whitebox-dev.de/wp-content/uploads/2021/11/getimage.php_-e1637778422965.jpg
END:VEVENT
BEGIN:VEVENT
DTSTART;TZID=Europe/Berlin:20220121T200000
DTEND;TZID=Europe/Berlin:20220121T220000
DTSTAMP:20260425T151018
CREATED:20211104T144044Z
LAST-MODIFIED:20221027T102733Z
UID:10001011-1642795200-1642802400@glocke.whitebox-dev.de
SUMMARY:Nesrine
DESCRIPTION:
URL:https://glocke.whitebox-dev.de/event/nesrine/
LOCATION:Großer Saal\, Germany
CATEGORIES:GLOCKE Spezial
ATTACH;FMTTYPE=image/jpeg:https://glocke.whitebox-dev.de/wp-content/uploads/2021/11/Nesrine_©-Nerea-Coll-scaled.jpg
ORGANIZER;CN="Glocke Veranstaltungs-GmbH":MAILTO:info@glocke.de
END:VEVENT
BEGIN:VEVENT
DTSTART;TZID=Europe/Berlin:20220122T200000
DTEND;TZID=Europe/Berlin:20220122T223000
DTSTAMP:20260425T151018
CREATED:20211124T183605Z
LAST-MODIFIED:20221027T102733Z
UID:10001020-1642881600-1642890600@glocke.whitebox-dev.de
SUMMARY:Wiener Klassik
DESCRIPTION:
URL:https://glocke.whitebox-dev.de/event/wiener-klassik/
LOCATION:Großer Saal\, Germany
CATEGORIES:Allgemeine
ATTACH;FMTTYPE=image/jpeg:https://glocke.whitebox-dev.de/wp-content/uploads/2021/11/Wiener-Klassik_Foto-Klassische-Philharmonie-Bonn-scaled.jpg
END:VEVENT
BEGIN:VEVENT
DTSTART;TZID=Europe/Berlin:20220123T180000
DTEND;TZID=Europe/Berlin:20220123T210000
DTSTAMP:20260425T151018
CREATED:20220107T151755Z
LAST-MODIFIED:20221027T102733Z
UID:10001305-1642960800-1642971600@glocke.whitebox-dev.de
SUMMARY:Vorabendlesung zum Bremer Literaturpreis
DESCRIPTION:
URL:https://glocke.whitebox-dev.de/event/vorabendlesung-zum-bremer-literaturpreis/
LOCATION:Kleiner Saal\, Germany
CATEGORIES:Allgemeine
END:VEVENT
BEGIN:VEVENT
DTSTART;TZID=Europe/Berlin:20220123T200000
DTEND;TZID=Europe/Berlin:20220123T223000
DTSTAMP:20260425T151018
CREATED:20211124T184454Z
LAST-MODIFIED:20221027T102733Z
UID:10001021-1642968000-1642977000@glocke.whitebox-dev.de
SUMMARY:»Liebe\, Jazz und Übermut« 125 Jahre Ulrich Tukur & Die Rhythmus Boys Große Jubiläums-Tournee
DESCRIPTION:
URL:https://glocke.whitebox-dev.de/event/liebe-jazz-und-uebermut-125-jahre-ulrich-tukur-die-rhythmus-boys-grosse-jubilaeums-tournee-2/
LOCATION:Großer Saal\, Germany
CATEGORIES:Allgemeine
ATTACH;FMTTYPE=image/jpeg:https://glocke.whitebox-dev.de/wp-content/uploads/2021/11/rhythmus-boys20_460.jpg
END:VEVENT
BEGIN:VEVENT
DTSTART;TZID=Europe/Berlin:20220126T200000
DTEND;TZID=Europe/Berlin:20220126T220000
DTSTAMP:20260425T151018
CREATED:20220107T160715Z
LAST-MODIFIED:20221027T102733Z
UID:10001309-1643227200-1643234400@glocke.whitebox-dev.de
SUMMARY:Die Deutsche Kammerphilharmonie Bremen »Finnisches Potpourri«
DESCRIPTION:
URL:https://glocke.whitebox-dev.de/event/die-deutsche-kammerphilharmonie-bremen-finnisches-potpourri/
LOCATION:Großer Saal\, Germany
CATEGORIES:Allgemeine
ATTACH;FMTTYPE=image/jpeg:https://glocke.whitebox-dev.de/wp-content/uploads/2021/12/Die-Deutsche-Kammerphilharmonie-Bremen-1-c-Julia-Baier.jpg
ORGANIZER;CN="Die Deutsche Kammerphilharmonie Bremen":MAILTO:info@kammerphilharmonie.com
END:VEVENT
BEGIN:VEVENT
DTSTART;TZID=Europe/Berlin:20220127T200000
DTEND;TZID=Europe/Berlin:20220127T220000
DTSTAMP:20260425T151018
CREATED:20220107T152614Z
LAST-MODIFIED:20221027T102732Z
UID:10001307-1643313600-1643320800@glocke.whitebox-dev.de
SUMMARY:Die Deutsche Kammerphilharmonie Bremen »Finnisches Potpourri«
DESCRIPTION:
URL:https://glocke.whitebox-dev.de/event/die-deutsche-kammerphilharmonie-bremen-finnisches-potpourri-2/
LOCATION:Großer Saal\, Germany
CATEGORIES:Allgemeine
ATTACH;FMTTYPE=image/jpeg:https://glocke.whitebox-dev.de/wp-content/uploads/2021/12/Die-Deutsche-Kammerphilharmonie-Bremen-1-c-Julia-Baier.jpg
ORGANIZER;CN="Die Deutsche Kammerphilharmonie Bremen":MAILTO:info@kammerphilharmonie.com
END:VEVENT
BEGIN:VEVENT
DTSTART;TZID=Europe/Berlin:20220128T200000
DTEND;TZID=Europe/Berlin:20220128T223000
DTSTAMP:20260425T151018
CREATED:20211125T163454Z
LAST-MODIFIED:20221027T102732Z
UID:10001022-1643400000-1643409000@glocke.whitebox-dev.de
SUMMARY:Reinhold Messner »Nanga Parbat – mein Schicksalsberg«
DESCRIPTION:
URL:https://glocke.whitebox-dev.de/event/reinhold-messner-nanga-parbat-mein-schicksalsberg/
LOCATION:Großer Saal\, Germany
CATEGORIES:Allgemeine
ATTACH;FMTTYPE=image/jpeg:https://glocke.whitebox-dev.de/wp-content/uploads/2021/11/w1176_h662_x798_y401_Portrait_RM_Foto_Buero_Messner.jpg-9f6f40982a34cfef.jpeg
END:VEVENT
BEGIN:VEVENT
DTSTART;TZID=Europe/Berlin:20220130T133000
DTEND;TZID=Europe/Berlin:20220130T150000
DTSTAMP:20260425T151018
CREATED:20211125T164300Z
LAST-MODIFIED:20221027T102732Z
UID:10001023-1643549400-1643554800@glocke.whitebox-dev.de
SUMMARY:Kammerensemble Konsonanz Konzerte in Bewegung
DESCRIPTION:
URL:https://glocke.whitebox-dev.de/event/kammerensemble-konsonanz-konzerte-in-bewegung/
LOCATION:Kleiner Saal\, Germany
CATEGORIES:GLOCKE ImPuls
ATTACH;FMTTYPE=image/jpeg:https://glocke.whitebox-dev.de/wp-content/uploads/2021/11/ImPuls_22-01-30_Konzerte-in-BewegungcEfrain-Oscher.jpg
ORGANIZER;CN="Glocke Veranstaltungs-GmbH":MAILTO:info@glocke.de
END:VEVENT
BEGIN:VEVENT
DTSTART;TZID=Europe/Berlin:20220130T160000
DTEND;TZID=Europe/Berlin:20220130T173000
DTSTAMP:20260425T151018
CREATED:20211125T164421Z
LAST-MODIFIED:20221027T102732Z
UID:10001024-1643558400-1643563800@glocke.whitebox-dev.de
SUMMARY:Kammerensemble Konsonanz Konzerte in Bewegung
DESCRIPTION:
URL:https://glocke.whitebox-dev.de/event/kammerensemble-konsonanz-konzerte-in-bewegung-2/
LOCATION:Kleiner Saal\, Germany
CATEGORIES:GLOCKE ImPuls
ATTACH;FMTTYPE=image/jpeg:https://glocke.whitebox-dev.de/wp-content/uploads/2021/11/ImPuls_22-01-30_Konzerte-in-BewegungcEfrain-Oscher.jpg
ORGANIZER;CN="Glocke Veranstaltungs-GmbH":MAILTO:info@glocke.de
END:VEVENT
BEGIN:VEVENT
DTSTART;TZID=Europe/Berlin:20220131T100000
DTEND;TZID=Europe/Berlin:20220131T130000
DTSTAMP:20260425T151018
CREATED:20211125T164945Z
LAST-MODIFIED:20230527T101535Z
UID:10001025-1643623200-1643634000@glocke.whitebox-dev.de
SUMMARY:Winterferien »Der Wind\, der Wind ...«
DESCRIPTION:
URL:https://glocke.whitebox-dev.de/event/winterferien-der-wind-der-wind/
LOCATION:Die Glocke
CATEGORIES:GLOCKE Ferienprogramm
ATTACH;FMTTYPE=image/jpeg:https://glocke.whitebox-dev.de/wp-content/uploads/2021/11/FP-Winter_lizenzfrei-Bilderjet-pixaby.jpg
ORGANIZER;CN="Glocke Veranstaltungs-GmbH":MAILTO:info@glocke.de
END:VEVENT
END:VCALENDAR