BEGIN:VCALENDAR
VERSION:2.0
PRODID:-//DIE GLOCKE | Das Bremer Konzerthaus - ECPv6.6.3//NONSGML v1.0//EN
CALSCALE:GREGORIAN
METHOD:PUBLISH
X-ORIGINAL-URL:https://glocke.whitebox-dev.de
X-WR-CALDESC:Veranstaltungen für DIE GLOCKE | Das Bremer Konzerthaus
REFRESH-INTERVAL;VALUE=DURATION:PT1H
X-Robots-Tag:noindex
X-PUBLISHED-TTL:PT1H
BEGIN:VTIMEZONE
TZID:Europe/Berlin
BEGIN:DAYLIGHT
TZOFFSETFROM:+0100
TZOFFSETTO:+0200
TZNAME:CEST
DTSTART:20220327T010000
END:DAYLIGHT
BEGIN:STANDARD
TZOFFSETFROM:+0200
TZOFFSETTO:+0100
TZNAME:CET
DTSTART:20221030T010000
END:STANDARD
END:VTIMEZONE
BEGIN:VEVENT
DTSTART;TZID=Europe/Berlin:20220201T100000
DTEND;TZID=Europe/Berlin:20220201T130000
DTSTAMP:20260425T125211
CREATED:20211129T131723Z
LAST-MODIFIED:20221027T102732Z
UID:10001149-1643709600-1643720400@glocke.whitebox-dev.de
SUMMARY:Winterferien »Der Wind\, der Wind ...«
DESCRIPTION:
URL:https://glocke.whitebox-dev.de/event/winterferien-der-wind-der-wind-2/
LOCATION:Die Glocke
CATEGORIES:GLOCKE Ferienprogramm
ATTACH;FMTTYPE=image/jpeg:https://glocke.whitebox-dev.de/wp-content/uploads/2021/11/FP-Winter_lizenzfrei-Bilderjet-pixaby.jpg
ORGANIZER;CN="Glocke Veranstaltungs-GmbH":MAILTO:info@glocke.de
END:VEVENT
BEGIN:VEVENT
DTSTART;TZID=Europe/Berlin:20220201T200000
DTEND;TZID=Europe/Berlin:20220201T223000
DTSTAMP:20260425T125211
CREATED:20211129T131630Z
LAST-MODIFIED:20221027T102732Z
UID:10001147-1643745600-1643754600@glocke.whitebox-dev.de
SUMMARY:Daniel Hope »America« 3. Meisterkonzert
DESCRIPTION:
URL:https://glocke.whitebox-dev.de/event/daniel-hope-america-3-meisterkonzert/
LOCATION:Großer Saal\, Germany
CATEGORIES:Allgemeine
ATTACH;FMTTYPE=image/jpeg:https://glocke.whitebox-dev.de/wp-content/uploads/2021/11/danielhope.jpg
ORGANIZER;CN="Konzertdirektion Dr. Rudolf Goette GmbH":MAILTO:info@goette.de
END:VEVENT
BEGIN:VEVENT
DTSTART;TZID=Europe/Berlin:20220205T200000
DTEND;TZID=Europe/Berlin:20220205T223000
DTSTAMP:20260425T125211
CREATED:20220110T151542Z
LAST-MODIFIED:20221109T103124Z
UID:10001311-1644091200-1644100200@glocke.whitebox-dev.de
SUMMARY:»Beethoven meets Jazz«
DESCRIPTION:
URL:https://glocke.whitebox-dev.de/event/beethoven-meets-jazz-2/
LOCATION:Großer Saal\, Germany
CATEGORIES:Allgemeine
ORGANIZER;CN="Hochschule f%C3%BCr K%C3%BCnste Bremen%2C Fachbereichsverwaltung Musik":MAILTO:kbb-musik@hfk-bremen.de
END:VEVENT
BEGIN:VEVENT
DTSTART;TZID=Europe/Berlin:20220206T110000
DTEND;TZID=Europe/Berlin:20220206T130000
DTSTAMP:20260425T125211
CREATED:20211122T133253Z
LAST-MODIFIED:20221027T102731Z
UID:10001129-1644145200-1644152400@glocke.whitebox-dev.de
SUMMARY:Bremer Philharmoniker »Virtuose Superlative unter sich« 6. Philharmonisches Konzert
DESCRIPTION:
URL:https://glocke.whitebox-dev.de/event/bremer-philharmoniker-virtuose-superlative-unter-sich-6-philharmonisches-konzert-2/
LOCATION:Großer Saal\, Germany
CATEGORIES:Allgemeine
ATTACH;FMTTYPE=image/jpeg:https://glocke.whitebox-dev.de/wp-content/uploads/2021/11/Hamelin_CanettyClarke_Hamelin_2016_20-scaled-e1638179847894.jpg
ORGANIZER;CN="Bremer Philharmoniker GmbH":MAILTO:info@bremerphilharmoniker.de
END:VEVENT
BEGIN:VEVENT
DTSTART;TZID=Europe/Berlin:20220206T193000
DTEND;TZID=Europe/Berlin:20220206T213000
DTSTAMP:20260425T125211
CREATED:20211125T172005Z
LAST-MODIFIED:20221027T102731Z
UID:10001027-1644175800-1644183000@glocke.whitebox-dev.de
SUMMARY:Klenke Quartett\nAuryn Quartett 6. Philharmonisches Kammerkonzert
DESCRIPTION:
URL:https://glocke.whitebox-dev.de/event/klenke-quartettauryn-quartett-6-philharmonisches-kammerkonzert/
LOCATION:Kleiner Saal\, Germany
CATEGORIES:Allgemeine
ATTACH;FMTTYPE=image/jpeg:https://glocke.whitebox-dev.de/wp-content/uploads/2021/11/klenke-quartett-arens-1-scaled.jpg
ORGANIZER;CN="Philharmonische Gesellschaft Bremen":MAILTO:info@phg-bremen.de
END:VEVENT
BEGIN:VEVENT
DTSTART;TZID=Europe/Berlin:20220207T193000
DTEND;TZID=Europe/Berlin:20220207T220000
DTSTAMP:20260425T125211
CREATED:20211125T171030Z
LAST-MODIFIED:20221027T102731Z
UID:10001026-1644262200-1644271200@glocke.whitebox-dev.de
SUMMARY:Bremer Philharmoniker »Virtuose Superlative unter sich« 6. Philharmonisches Konzert
DESCRIPTION:
URL:https://glocke.whitebox-dev.de/event/bremer-philharmoniker-virtuose-superlative-unter-sich-6-philharmonisches-konzert/
LOCATION:Großer Saal\, Germany
CATEGORIES:Allgemeine
ATTACH;FMTTYPE=image/jpeg:https://glocke.whitebox-dev.de/wp-content/uploads/2021/11/Hamelin_CanettyClarke_Hamelin_2016_20-scaled-e1638179847894.jpg
ORGANIZER;CN="Bremer Philharmoniker GmbH":MAILTO:info@bremerphilharmoniker.de
END:VEVENT
BEGIN:VEVENT
DTSTART;TZID=Europe/Berlin:20220209T180500
DTEND;TZID=Europe/Berlin:20220209T193000
DTSTAMP:20260425T125211
CREATED:20211125T173026Z
LAST-MODIFIED:20221027T102731Z
UID:10001028-1644429900-1644435000@glocke.whitebox-dev.de
SUMMARY:Bremer Philharmoniker »Aufforderung zum Tanz« 5nachsechs Afterwork-Konzert
DESCRIPTION:
URL:https://glocke.whitebox-dev.de/event/bremer-philharmoniker-aufforderung-zum-tanz-5nachsechs-afterwork-konzert/
LOCATION:Großer Saal\, Germany
CATEGORIES:Allgemeine
ATTACH;FMTTYPE=image/jpeg:https://glocke.whitebox-dev.de/wp-content/uploads/2021/11/Marko_Letonja__Credits_Marcus_Meyer-e1637861343700.jpg
ORGANIZER;CN="Bremer Philharmoniker GmbH":MAILTO:info@bremerphilharmoniker.de
END:VEVENT
BEGIN:VEVENT
DTSTART;TZID=Europe/Berlin:20220213T150000
DTEND;TZID=Europe/Berlin:20220213T170000
DTSTAMP:20260425T125211
CREATED:20210820T080926Z
LAST-MODIFIED:20221027T102730Z
UID:10001113-1644764400-1644771600@glocke.whitebox-dev.de
SUMMARY:»Unterwegs nach Umbidu«
DESCRIPTION:
URL:https://glocke.whitebox-dev.de/event/unterwegs-nach-umbidu/
LOCATION:Kleiner Saal\, Germany
CATEGORIES:GLOCKE Familienkonzert
ATTACH;FMTTYPE=image/jpeg:https://glocke.whitebox-dev.de/wp-content/uploads/2021/08/fk-umbidu_460.jpeg
ORGANIZER;CN="Glocke Veranstaltungs-GmbH":MAILTO:info@glocke.de
END:VEVENT
BEGIN:VEVENT
DTSTART;TZID=Europe/Berlin:20220214T200000
DTEND;TZID=Europe/Berlin:20220214T223000
DTSTAMP:20260425T125211
CREATED:20211125T175531Z
LAST-MODIFIED:20221027T102730Z
UID:10001029-1644868800-1644877800@glocke.whitebox-dev.de
SUMMARY:The world famous Glenn Miller Orchestra directed by Wil Salden »Jubiläumstour«
DESCRIPTION:
URL:https://glocke.whitebox-dev.de/event/the-world-famous-glenn-miller-orchestra-directed-by-wil-salden-jubilaeumstour/
LOCATION:Großer Saal\, Germany
CATEGORIES:Allgemeine
END:VEVENT
BEGIN:VEVENT
DTSTART;TZID=Europe/Berlin:20220215T200000
DTEND;TZID=Europe/Berlin:20220215T223000
DTSTAMP:20260425T125211
CREATED:20211129T131347Z
LAST-MODIFIED:20221027T102730Z
UID:10001145-1644955200-1644964200@glocke.whitebox-dev.de
SUMMARY:Die große Giuseppe Verdi-Nacht präsentiert von Italiens Star-Tenor Cristian Lanza
DESCRIPTION:
URL:https://glocke.whitebox-dev.de/event/die-grosse-giuseppe-verdi-nacht-praesentiert-von-italiens-star-tenor-cristian-lanza/
LOCATION:Großer Saal\, Germany
CATEGORIES:Allgemeine
ATTACH;FMTTYPE=image/jpeg:https://glocke.whitebox-dev.de/wp-content/uploads/2021/11/startenor-cristian-lanza-singt-bei-der-grossen-ver_201901241158_full-e1638191367171.jpeg
END:VEVENT
BEGIN:VEVENT
DTSTART;TZID=Europe/Berlin:20220217T200000
DTEND;TZID=Europe/Berlin:20220217T223000
DTSTAMP:20260425T125211
CREATED:20211129T133848Z
LAST-MODIFIED:20221027T102730Z
UID:10001151-1645128000-1645137000@glocke.whitebox-dev.de
SUMMARY:Jan Lisiecki »Visitenkarte Chopin« 4. Meisterkonzert
DESCRIPTION:
URL:https://glocke.whitebox-dev.de/event/jan-lisiecki-visitenkarte-chopin-4-meisterkonzert/
LOCATION:Großer Saal\, Germany
CATEGORIES:Allgemeine,GLOCKE Familienkonzert
ATTACH;FMTTYPE=image/jpeg:https://glocke.whitebox-dev.de/wp-content/uploads/2021/11/Lisiecki_Christoph-Koestlin-e1638192953212.jpg
ORGANIZER;CN="Konzertdirektion Dr. Rudolf Goette GmbH":MAILTO:info@goette.de
END:VEVENT
BEGIN:VEVENT
DTSTART;TZID=Europe/Berlin:20220218T200000
DTEND;TZID=Europe/Berlin:20220218T220000
DTSTAMP:20260425T125211
CREATED:20211104T151748Z
LAST-MODIFIED:20221027T102730Z
UID:10001012-1645214400-1645221600@glocke.whitebox-dev.de
SUMMARY:Ann-Kathrin Kramer\, Harald Krassnitzer & Les Manouches du Tannes »Chocolat«
DESCRIPTION:
URL:https://glocke.whitebox-dev.de/event/ann-kathrin-kramer-harald-krassnitzer-les-manouches-du-tannes-chocolat/
LOCATION:Großer Saal\, Germany
CATEGORIES:GLOCKE Spezial
ATTACH;FMTTYPE=image/jpeg:https://glocke.whitebox-dev.de/wp-content/uploads/2021/11/Chocolat_Foto-Stefan-Nimmesgern-e1636466308723.jpg
ORGANIZER;CN="Glocke Veranstaltungs-GmbH":MAILTO:info@glocke.de
END:VEVENT
BEGIN:VEVENT
DTSTART;TZID=Europe/Berlin:20220219T190000
DTEND;TZID=Europe/Berlin:20220219T213000
DTSTAMP:20260425T125211
CREATED:20211129T135309Z
LAST-MODIFIED:20221027T102730Z
UID:10001153-1645297200-1645306200@glocke.whitebox-dev.de
SUMMARY:Multivisionsshow von Michael Martin »Terra - Ein Portrait der Erde«
DESCRIPTION:
URL:https://glocke.whitebox-dev.de/event/multivisionsshow-von-michael-martin-terra-ein-portrait-der-erde/
LOCATION:Großer Saal\, Germany
CATEGORIES:Allgemeine
END:VEVENT
BEGIN:VEVENT
DTSTART;TZID=Europe/Berlin:20220220T200000
DTEND;TZID=Europe/Berlin:20220220T220000
DTSTAMP:20260425T125211
CREATED:20220922T095830Z
LAST-MODIFIED:20221027T102729Z
UID:10001588-1645387200-1645394400@glocke.whitebox-dev.de
SUMMARY:Die Deutsche Kammerphilharmonie Bremen »Schicksalsklänge«
DESCRIPTION:
URL:https://glocke.whitebox-dev.de/event/die-deutsche-kammerphilharmonie-bremen-schicksalsklaenge/
LOCATION:Großer Saal\, Germany
CATEGORIES:Allgemeine
ORGANIZER;CN="Die Deutsche Kammerphilharmonie Bremen":MAILTO:info@kammerphilharmonie.com
END:VEVENT
BEGIN:VEVENT
DTSTART;TZID=Europe/Berlin:20220221T160000
DTEND;TZID=Europe/Berlin:20220221T173000
DTSTAMP:20260425T125211
CREATED:20211216T165408Z
LAST-MODIFIED:20221027T102729Z
UID:10001276-1645459200-1645464600@glocke.whitebox-dev.de
SUMMARY:»Auf WiederHören!« »Don Quichotte«
DESCRIPTION:
URL:https://glocke.whitebox-dev.de/event/auf-wiederhoeren-don-quichotte/
LOCATION:Großer Saal\, Germany
CATEGORIES:GLOCKE ImPuls
ATTACH;FMTTYPE=image/jpeg:https://glocke.whitebox-dev.de/wp-content/uploads/2021/12/ImPuls_22-02-21_Marsyas-NEU_cSusanne-Reichardt-e1643637107567.jpg
ORGANIZER;CN="Glocke Veranstaltungs-GmbH":MAILTO:info@glocke.de
END:VEVENT
BEGIN:VEVENT
DTSTART;TZID=Europe/Berlin:20220222T200000
DTEND;TZID=Europe/Berlin:20220222T223000
DTSTAMP:20260425T125211
CREATED:20211129T142506Z
LAST-MODIFIED:20221027T102729Z
UID:10001156-1645560000-1645569000@glocke.whitebox-dev.de
SUMMARY:Helge Schneider »Ein Mann und seine Gitarre«
DESCRIPTION:
URL:https://glocke.whitebox-dev.de/event/helge-schneider-ein-mann-und-seine-gitarre/
LOCATION:Großer Saal\, Germany
CATEGORIES:Allgemeine
ATTACH;FMTTYPE=image/jpeg:https://glocke.whitebox-dev.de/wp-content/uploads/2021/11/plakat-Ein-Mann-k-e1638195785185.jpeg
ORGANIZER;CN="Koopmann Concerts & Promotion GmbH & Co. KG":MAILTO:info@koopmann-concerts.de
END:VEVENT
BEGIN:VEVENT
DTSTART;TZID=Europe/Berlin:20220223T200000
DTEND;TZID=Europe/Berlin:20220223T223000
DTSTAMP:20260425T125211
CREATED:20211129T142610Z
LAST-MODIFIED:20221027T102729Z
UID:10001157-1645646400-1645655400@glocke.whitebox-dev.de
SUMMARY:Helge Schneider »Ein Mann und seine Gitarre«
DESCRIPTION:
URL:https://glocke.whitebox-dev.de/event/helge-schneider-ein-mann-und-seine-gitarre-2/
LOCATION:Großer Saal\, Germany
CATEGORIES:Allgemeine
ATTACH;FMTTYPE=image/jpeg:https://glocke.whitebox-dev.de/wp-content/uploads/2021/11/plakat-Ein-Mann-k-e1638195785185.jpeg
ORGANIZER;CN="Koopmann Concerts & Promotion GmbH & Co. KG":MAILTO:info@koopmann-concerts.de
END:VEVENT
BEGIN:VEVENT
DTSTART;TZID=Europe/Berlin:20220225T193000
DTEND;TZID=Europe/Berlin:20220225T220000
DTSTAMP:20260425T125211
CREATED:20211129T170129Z
LAST-MODIFIED:20221027T102729Z
UID:10001159-1645817400-1645826400@glocke.whitebox-dev.de
SUMMARY:Nicola Benedetti\, Leonard Elschenbroich & Alexei Grynyuk 7. Philharmonisches Kammerkonzert
DESCRIPTION:
URL:https://glocke.whitebox-dev.de/event/nicola-benedetti-leonard-elschenbroich-alexei-grynyuk-7-philharmonisches-kammerkonzert/
LOCATION:Kleiner Saal\, Germany
CATEGORIES:Allgemeine
ATTACH;FMTTYPE=image/jpeg:https://glocke.whitebox-dev.de/wp-content/uploads/2021/11/benedettielschenbroich-1200x800-1.jpg
ORGANIZER;CN="Philharmonische Gesellschaft Bremen":MAILTO:info@phg-bremen.de
END:VEVENT
BEGIN:VEVENT
DTSTART;TZID=Europe/Berlin:20220225T200000
DTEND;TZID=Europe/Berlin:20220225T220000
DTSTAMP:20260425T125211
CREATED:20211104T153406Z
LAST-MODIFIED:20221027T102728Z
UID:10001013-1645819200-1645826400@glocke.whitebox-dev.de
SUMMARY:Tingvall Trio »Dance«
DESCRIPTION:
URL:https://glocke.whitebox-dev.de/event/tingvall-trio-dance/
LOCATION:Großer Saal\, Germany
CATEGORIES:GLOCKE JAZZnights
ATTACH;FMTTYPE=image/jpeg:https://glocke.whitebox-dev.de/wp-content/uploads/2021/11/Tingvall-Trio_Steven-Haberland.jpg
ORGANIZER;CN="Glocke Veranstaltungs-GmbH":MAILTO:info@glocke.de
END:VEVENT
BEGIN:VEVENT
DTSTART;TZID=Europe/Berlin:20220226T200000
DTEND;TZID=Europe/Berlin:20220226T223000
DTSTAMP:20260425T125211
CREATED:20211129T170629Z
LAST-MODIFIED:20221027T102728Z
UID:10001161-1645905600-1645914600@glocke.whitebox-dev.de
SUMMARY:Wiener Klassik
DESCRIPTION:
URL:https://glocke.whitebox-dev.de/event/wiener-klassik-2/
LOCATION:Großer Saal\, Germany
CATEGORIES:Allgemeine
ATTACH;FMTTYPE=image/jpeg:https://glocke.whitebox-dev.de/wp-content/uploads/2021/11/Wiener-Klassik_Foto-Klassische-Philharmonie-Bonn-scaled.jpg
END:VEVENT
END:VCALENDAR