BEGIN:VCALENDAR
VERSION:2.0
PRODID:-//DIE GLOCKE | Das Bremer Konzerthaus - ECPv6.6.3//NONSGML v1.0//EN
CALSCALE:GREGORIAN
METHOD:PUBLISH
X-WR-CALNAME:DIE GLOCKE | Das Bremer Konzerthaus
X-ORIGINAL-URL:https://glocke.whitebox-dev.de
X-WR-CALDESC:Veranstaltungen für DIE GLOCKE | Das Bremer Konzerthaus
REFRESH-INTERVAL;VALUE=DURATION:PT1H
X-Robots-Tag:noindex
X-PUBLISHED-TTL:PT1H
BEGIN:VTIMEZONE
TZID:Europe/Berlin
BEGIN:DAYLIGHT
TZOFFSETFROM:+0100
TZOFFSETTO:+0200
TZNAME:CEST
DTSTART:20220327T010000
END:DAYLIGHT
BEGIN:STANDARD
TZOFFSETFROM:+0200
TZOFFSETTO:+0100
TZNAME:CET
DTSTART:20221030T010000
END:STANDARD
END:VTIMEZONE
BEGIN:VEVENT
DTSTART;TZID=Europe/Berlin:20220701T180000
DTEND;TZID=Europe/Berlin:20220701T200000
DTSTAMP:20260421T171420
CREATED:20220628T170403Z
LAST-MODIFIED:20221027T102709Z
UID:10001448-1656698400-1656705600@glocke.whitebox-dev.de
SUMMARY:»Auf WiederHören!« »Tick/Tock«
DESCRIPTION:
URL:https://glocke.whitebox-dev.de/event/auf-wiederhoeren-tick-tock-2/
LOCATION:Großer Saal\, Germany
CATEGORIES:GLOCKE ImPuls
ATTACH;FMTTYPE=image/jpeg:https://glocke.whitebox-dev.de/wp-content/uploads/2021/11/kondraschewa-chica22.jpg
ORGANIZER;CN="Glocke Veranstaltungs-GmbH":MAILTO:info@glocke.de
END:VEVENT
BEGIN:VEVENT
DTSTART;TZID=Europe/Berlin:20220704T200000
DTEND;TZID=Europe/Berlin:20220704T220000
DTSTAMP:20260421T171420
CREATED:20211214T172256Z
LAST-MODIFIED:20221027T102709Z
UID:10001248-1656964800-1656972000@glocke.whitebox-dev.de
SUMMARY:Musikfest Bremen »Der Beethoven-Zyklus I«
DESCRIPTION:
URL:https://glocke.whitebox-dev.de/event/musikfest-bremen-der-beethoven-zyklus-i/
LOCATION:Großer Saal\, Germany
CATEGORIES:Allgemeine
ATTACH;FMTTYPE=image/jpeg:https://glocke.whitebox-dev.de/wp-content/uploads/2021/12/Die-Deutsche-Kammerphilharmonie-Bremen-1-c-Julia-Baier.jpg
ORGANIZER;CN="Musikfest Bremen gGmbH":MAILTO:info@musikfest-bremen.de
END:VEVENT
BEGIN:VEVENT
DTSTART;TZID=Europe/Berlin:20220705T200000
DTEND;TZID=Europe/Berlin:20220705T220000
DTSTAMP:20260421T171420
CREATED:20211214T172719Z
LAST-MODIFIED:20221027T102709Z
UID:10001249-1657051200-1657058400@glocke.whitebox-dev.de
SUMMARY:Musikfest Bremen »Der Beethoven-Zyklus II«
DESCRIPTION:
URL:https://glocke.whitebox-dev.de/event/musikfest-bremen-der-beethoven-zyklus-ii/
LOCATION:Großer Saal\, Germany
CATEGORIES:Allgemeine
ATTACH;FMTTYPE=image/jpeg:https://glocke.whitebox-dev.de/wp-content/uploads/2021/11/Paavo-Jaervi_c-Julia-Baier-e1636460869657.jpg
ORGANIZER;CN="Musikfest Bremen gGmbH":MAILTO:info@musikfest-bremen.de
END:VEVENT
BEGIN:VEVENT
DTSTART;TZID=Europe/Berlin:20220706T200000
DTEND;TZID=Europe/Berlin:20220706T220000
DTSTAMP:20260421T171420
CREATED:20211214T172910Z
LAST-MODIFIED:20221027T102709Z
UID:10001250-1657137600-1657144800@glocke.whitebox-dev.de
SUMMARY:Musikfest Bremen »Der Beethoven-Zyklus III«
DESCRIPTION:
URL:https://glocke.whitebox-dev.de/event/musikfest-bremen-der-beethoven-zyklus-iii/
LOCATION:Großer Saal\, Germany
CATEGORIES:Allgemeine
ATTACH;FMTTYPE=image/jpeg:https://glocke.whitebox-dev.de/wp-content/uploads/2021/12/Die-Deutsche-Kammerphilharmonie-Bremen-1-c-Julia-Baier.jpg
ORGANIZER;CN="Musikfest Bremen gGmbH":MAILTO:info@musikfest-bremen.de
END:VEVENT
BEGIN:VEVENT
DTSTART;TZID=Europe/Berlin:20220708T200000
DTEND;TZID=Europe/Berlin:20220708T220000
DTSTAMP:20260421T171420
CREATED:20211214T173136Z
LAST-MODIFIED:20221027T102708Z
UID:10001251-1657310400-1657317600@glocke.whitebox-dev.de
SUMMARY:Musikfest Bremen »Der Beethoven-Zyklus IV«
DESCRIPTION:
URL:https://glocke.whitebox-dev.de/event/musikfest-bremen-der-beethoven-zyklus-iv/
LOCATION:Großer Saal\, Germany
CATEGORIES:Allgemeine
ATTACH;FMTTYPE=image/jpeg:https://glocke.whitebox-dev.de/wp-content/uploads/2021/11/Paavo-Jaervi_c-Julia-Baier-e1636460869657.jpg
ORGANIZER;CN="Musikfest Bremen gGmbH":MAILTO:info@musikfest-bremen.de
END:VEVENT
BEGIN:VEVENT
DTSTART;TZID=Europe/Berlin:20220710T110000
DTEND;TZID=Europe/Berlin:20220710T130000
DTSTAMP:20260421T171420
CREATED:20220628T173404Z
LAST-MODIFIED:20221027T102708Z
UID:10001450-1657450800-1657458000@glocke.whitebox-dev.de
SUMMARY:Saisonpräsentation der Bremer Philharmoniker Spielzeit 2022/23
DESCRIPTION:
URL:https://glocke.whitebox-dev.de/event/saisonpraesentation-der-bremer-philharmoniker-spielzeit-2022-23/
LOCATION:Großer Saal\, Germany
CATEGORIES:Allgemeine
ATTACH;FMTTYPE=image/jpeg:https://glocke.whitebox-dev.de/wp-content/uploads/2022/06/koetter-lixfeld_letonja19-20_460.jpg
ORGANIZER;CN="Bremer Philharmoniker GmbH":MAILTO:info@bremerphilharmoniker.de
END:VEVENT
BEGIN:VEVENT
DTSTART;TZID=Europe/Berlin:20220710T183000
DTEND;TZID=Europe/Berlin:20220710T203000
DTSTAMP:20260421T171420
CREATED:20220616T111757Z
LAST-MODIFIED:20221027T102708Z
UID:10001187-1657477800-1657485000@glocke.whitebox-dev.de
SUMMARY:Sinfoniekonzert der Musikschule Bremen Jugendsinfonietta Bremen Jugendsinfonieorchester Bremen-Mitte
DESCRIPTION:
URL:https://glocke.whitebox-dev.de/event/sinfoniekonzert-der-musikschule-bremen-jugendsinfonietta-bremen-jugendsinfonieorchester-bremen-mitte/
LOCATION:Großer Saal\, Germany
CATEGORIES:Allgemeine
ATTACH;FMTTYPE=image/jpeg:https://glocke.whitebox-dev.de/wp-content/uploads/2022/06/Jugendsinfonieorchester19_460.jpg
END:VEVENT
BEGIN:VEVENT
DTSTART;TZID=Europe/Berlin:20220712T200000
DTEND;TZID=Europe/Berlin:20220712T220000
DTSTAMP:20260421T171420
CREATED:20220117T174413Z
LAST-MODIFIED:20221027T102708Z
UID:10001329-1657656000-1657663200@glocke.whitebox-dev.de
SUMMARY:Die Deutsche Kammerphilharmonie Bremen »Romantische Hochkaräter«
DESCRIPTION:
URL:https://glocke.whitebox-dev.de/event/die-deutsche-kammerphilharmonie-bremen-romantische-hochkaraeter/
LOCATION:Großer Saal\, Germany
CATEGORIES:Allgemeine
ATTACH;FMTTYPE=image/jpeg:https://glocke.whitebox-dev.de/wp-content/uploads/2021/07/trivonov20_460.jpeg
ORGANIZER;CN="Die Deutsche Kammerphilharmonie Bremen":MAILTO:info@kammerphilharmonie.com
END:VEVENT
END:VCALENDAR