BEGIN:VCALENDAR
VERSION:2.0
PRODID:-//DIE GLOCKE | Das Bremer Konzerthaus - ECPv6.6.3//NONSGML v1.0//EN
CALSCALE:GREGORIAN
METHOD:PUBLISH
X-WR-CALNAME:DIE GLOCKE | Das Bremer Konzerthaus
X-ORIGINAL-URL:https://glocke.whitebox-dev.de
X-WR-CALDESC:Veranstaltungen für DIE GLOCKE | Das Bremer Konzerthaus
REFRESH-INTERVAL;VALUE=DURATION:PT1H
X-Robots-Tag:noindex
X-PUBLISHED-TTL:PT1H
BEGIN:VTIMEZONE
TZID:Europe/Berlin
BEGIN:DAYLIGHT
TZOFFSETFROM:+0100
TZOFFSETTO:+0200
TZNAME:CEST
DTSTART:20220327T010000
END:DAYLIGHT
BEGIN:STANDARD
TZOFFSETFROM:+0200
TZOFFSETTO:+0100
TZNAME:CET
DTSTART:20221030T010000
END:STANDARD
END:VTIMEZONE
BEGIN:VEVENT
DTSTART;TZID=Europe/Berlin:20220820T190000
DTEND;TZID=Europe/Berlin:20220820T200000
DTSTAMP:20260421T155318
CREATED:20220614T135829Z
LAST-MODIFIED:20221027T102708Z
UID:10001403-1661022000-1661025600@glocke.whitebox-dev.de
SUMMARY:33. Musikfest Bremen »Eine große Nachtmusik«
DESCRIPTION:
URL:https://glocke.whitebox-dev.de/event/33-musikfest-bremen-eine-grosse-nachtmusik/
LOCATION:Großer Saal\, Germany
CATEGORIES:Allgemeine
ATTACH;FMTTYPE=image/jpeg:https://glocke.whitebox-dev.de/wp-content/uploads/2022/06/Bergen-Philharmonic-2-c-Oddleiv-Apneseth.jpg
ORGANIZER;CN="Musikfest Bremen gGmbH":MAILTO:info@musikfest-bremen.de
END:VEVENT
BEGIN:VEVENT
DTSTART;TZID=Europe/Berlin:20220820T203000
DTEND;TZID=Europe/Berlin:20220820T213000
DTSTAMP:20260421T155318
CREATED:20220614T140143Z
LAST-MODIFIED:20221027T102708Z
UID:10001404-1661027400-1661031000@glocke.whitebox-dev.de
SUMMARY:33. Musikfest Bremen »Eine große Nachtmusik«
DESCRIPTION:
URL:https://glocke.whitebox-dev.de/event/33-musikfest-bremen-eine-grosse-nachtmusik-2/
LOCATION:Großer Saal\, Germany
CATEGORIES:Allgemeine
ATTACH;FMTTYPE=image/jpeg:https://glocke.whitebox-dev.de/wp-content/uploads/2022/06/Vikingur-Olafsson-1-c-Ari-Magg-e1655215252147.jpg
ORGANIZER;CN="Musikfest Bremen gGmbH":MAILTO:info@musikfest-bremen.de
END:VEVENT
BEGIN:VEVENT
DTSTART;TZID=Europe/Berlin:20220821T200000
DTEND;TZID=Europe/Berlin:20220821T223000
DTSTAMP:20260421T155318
CREATED:20220614T140635Z
LAST-MODIFIED:20221027T102707Z
UID:10001406-1661112000-1661121000@glocke.whitebox-dev.de
SUMMARY:33. Musikfest Bremen »Beethovens Cellosonaten«
DESCRIPTION:
URL:https://glocke.whitebox-dev.de/event/33-musikfest-bremen-beethovens-cellosonaten/
LOCATION:Großer Saal\, Germany
CATEGORIES:Allgemeine
ATTACH;FMTTYPE=image/jpeg:https://glocke.whitebox-dev.de/wp-content/uploads/2022/06/Nicolas-Altstaedt-6-c-Marco-Borggreve-e1655215736877.jpg
ORGANIZER;CN="Musikfest Bremen gGmbH":MAILTO:info@musikfest-bremen.de
END:VEVENT
BEGIN:VEVENT
DTSTART;TZID=Europe/Berlin:20220823T200000
DTEND;TZID=Europe/Berlin:20220823T223000
DTSTAMP:20260421T155318
CREATED:20220614T141520Z
LAST-MODIFIED:20221027T102707Z
UID:10001408-1661284800-1661293800@glocke.whitebox-dev.de
SUMMARY:33. Musikfest Bremen »Klavierabend«
DESCRIPTION:
URL:https://glocke.whitebox-dev.de/event/33-musikfest-bremen-klavierabend/
LOCATION:Großer Saal\, Germany
CATEGORIES:Allgemeine
ATTACH;FMTTYPE=image/jpeg:https://glocke.whitebox-dev.de/wp-content/uploads/2022/06/Yulianna-Avdeeva-6-c-Harald-Hoffman-scaled.jpg
ORGANIZER;CN="Musikfest Bremen gGmbH":MAILTO:info@musikfest-bremen.de
END:VEVENT
BEGIN:VEVENT
DTSTART;TZID=Europe/Berlin:20220825T200000
DTEND;TZID=Europe/Berlin:20220825T220000
DTSTAMP:20260421T155318
CREATED:20220614T142227Z
LAST-MODIFIED:20221027T102707Z
UID:10001410-1661457600-1661464800@glocke.whitebox-dev.de
SUMMARY:33. Musikfest Bremen »Bruckner 7 – Romantik pur«
DESCRIPTION:
URL:https://glocke.whitebox-dev.de/event/33-musikfest-bremen-bruckner-7-romantik-pur/
LOCATION:Großer Saal\, Germany
CATEGORIES:Allgemeine
ATTACH;FMTTYPE=image/jpeg:https://glocke.whitebox-dev.de/wp-content/uploads/2022/06/Pablo-Heras-Casado-6-c-Dario-Acosta-e1655216532338.jpg
ORGANIZER;CN="Musikfest Bremen gGmbH":MAILTO:info@musikfest-bremen.de
END:VEVENT
BEGIN:VEVENT
DTSTART;TZID=Europe/Berlin:20220826T200000
DTEND;TZID=Europe/Berlin:20220826T223000
DTSTAMP:20260421T155318
CREATED:20220614T144746Z
LAST-MODIFIED:20221027T102707Z
UID:10001412-1661544000-1661553000@glocke.whitebox-dev.de
SUMMARY:33. Musikfest Bremen  »Jaroussky & Garcia«
DESCRIPTION:
URL:https://glocke.whitebox-dev.de/event/33-musikfest-bremen-jaroussky-garcia/
LOCATION:Großer Saal\, Germany
CATEGORIES:Allgemeine
ATTACH;FMTTYPE=image/jpeg:https://glocke.whitebox-dev.de/wp-content/uploads/2022/06/Jaroussky-Garcia-e1655218052385.jpg
ORGANIZER;CN="Musikfest Bremen gGmbH":MAILTO:info@musikfest-bremen.de
END:VEVENT
BEGIN:VEVENT
DTSTART;TZID=Europe/Berlin:20220828T193000
DTEND;TZID=Europe/Berlin:20220828T223000
DTSTAMP:20260421T155318
CREATED:20220614T145523Z
LAST-MODIFIED:20221027T102707Z
UID:10001414-1661715000-1661725800@glocke.whitebox-dev.de
SUMMARY:33. Musikfest Bremen »Rigoletto«
DESCRIPTION:
URL:https://glocke.whitebox-dev.de/event/33-musikfest-bremen-rigoletto/
LOCATION:Großer Saal\, Germany
CATEGORIES:Allgemeine
ATTACH;FMTTYPE=image/jpeg:https://glocke.whitebox-dev.de/wp-content/uploads/2022/06/Le-Cercle-de-lHarmonie-Jeremie-Rhorer_c-Michael-Bahlo-scaled.jpg
ORGANIZER;CN="Musikfest Bremen gGmbH":MAILTO:info@musikfest-bremen.de
END:VEVENT
BEGIN:VEVENT
DTSTART;TZID=Europe/Berlin:20220830T200000
DTEND;TZID=Europe/Berlin:20220830T223000
DTSTAMP:20260421T155319
CREATED:20220614T150049Z
LAST-MODIFIED:20221027T102707Z
UID:10001416-1661889600-1661898600@glocke.whitebox-dev.de
SUMMARY:33. Musikfest Bremen »Forte-Piano!«
DESCRIPTION:
URL:https://glocke.whitebox-dev.de/event/33-musikfest-bremen-forte-piano/
LOCATION:Großer Saal\, Germany
CATEGORIES:Allgemeine
ATTACH;FMTTYPE=image/jpeg:https://glocke.whitebox-dev.de/wp-content/uploads/2022/06/Orchestra-of-the-18th-Century.jpg
ORGANIZER;CN="Musikfest Bremen gGmbH":MAILTO:info@musikfest-bremen.de
END:VEVENT
END:VCALENDAR