BEGIN:VCALENDAR
VERSION:2.0
PRODID:-//DIE GLOCKE | Das Bremer Konzerthaus - ECPv6.6.3//NONSGML v1.0//EN
CALSCALE:GREGORIAN
METHOD:PUBLISH
X-WR-CALNAME:DIE GLOCKE | Das Bremer Konzerthaus
X-ORIGINAL-URL:https://glocke.whitebox-dev.de
X-WR-CALDESC:Veranstaltungen für DIE GLOCKE | Das Bremer Konzerthaus
REFRESH-INTERVAL;VALUE=DURATION:PT1H
X-Robots-Tag:noindex
X-PUBLISHED-TTL:PT1H
BEGIN:VTIMEZONE
TZID:Europe/Berlin
BEGIN:DAYLIGHT
TZOFFSETFROM:+0100
TZOFFSETTO:+0200
TZNAME:CEST
DTSTART:20220327T010000
END:DAYLIGHT
BEGIN:STANDARD
TZOFFSETFROM:+0200
TZOFFSETTO:+0100
TZNAME:CET
DTSTART:20221030T010000
END:STANDARD
END:VTIMEZONE
BEGIN:VEVENT
DTSTART;TZID=Europe/Berlin:20221002T104500
DTEND;TZID=Europe/Berlin:20221002T120000
DTSTAMP:20260421T133055
CREATED:20220726T092118Z
LAST-MODIFIED:20231016T150128Z
UID:10001571-1664707500-1664712000@glocke.whitebox-dev.de
SUMMARY:Musikalische Konzerteinführung zum Mitmachen
DESCRIPTION:
URL:https://glocke.whitebox-dev.de/event/musikalische-konzerteinfuehrung-zum-mitmachen/
LOCATION:Kleiner Saal\, Germany
CATEGORIES:GLOCKE Ohrwurm
ATTACH;FMTTYPE=image/jpeg:https://glocke.whitebox-dev.de/wp-content/uploads/2022/07/Ohrwurm_Allgemein_NEU_zuschneiden-scaled-e1659961200911.jpg
ORGANIZER;CN="Glocke Veranstaltungs-GmbH":MAILTO:info@glocke.de
END:VEVENT
BEGIN:VEVENT
DTSTART;TZID=Europe/Berlin:20221002T110000
DTEND;TZID=Europe/Berlin:20221002T130000
DTSTAMP:20260421T133055
CREATED:20220726T091848Z
LAST-MODIFIED:20221027T102702Z
UID:10001570-1664708400-1664715600@glocke.whitebox-dev.de
SUMMARY:Bremer Philharmoniker »Spiel der Elemente« 1. Philharmonisches Konzert
DESCRIPTION:
URL:https://glocke.whitebox-dev.de/event/bremer-philharmoniker-spiel-der-elemente-1-philharmonisches-konzert-3/
LOCATION:Großer Saal\, Germany
CATEGORIES:Allgemeine
ATTACH;FMTTYPE=image/jpeg:https://glocke.whitebox-dev.de/wp-content/uploads/2022/07/William-Barton-_foto-Keith-Saunders_sw-scaled.jpg
ORGANIZER;CN="Bremer Philharmoniker GmbH":MAILTO:info@bremerphilharmoniker.de
END:VEVENT
BEGIN:VEVENT
DTSTART;TZID=Europe/Berlin:20221003T110000
DTEND;TZID=Europe/Berlin:20221003T130000
DTSTAMP:20260421T133055
CREATED:20220726T091409Z
LAST-MODIFIED:20221027T102702Z
UID:10001569-1664794800-1664802000@glocke.whitebox-dev.de
SUMMARY:Klassische Philharmonie NordWest »Meisterwerke des Barock« Konzert zum Tag der deutschen Einheit
DESCRIPTION:
URL:https://glocke.whitebox-dev.de/event/klassische-philharmonie-nordwest-meisterwerke-des-barock-konzert-zum-tag-der-deutschen-einheit/
LOCATION:Kleiner Saal\, Germany
CATEGORIES:Allgemeine
END:VEVENT
BEGIN:VEVENT
DTSTART;TZID=Europe/Berlin:20221003T193000
DTEND;TZID=Europe/Berlin:20221003T213000
DTSTAMP:20260421T133055
CREATED:20220726T091116Z
LAST-MODIFIED:20221027T102702Z
UID:10001568-1664825400-1664832600@glocke.whitebox-dev.de
SUMMARY:Bremer Philharmoniker »Spiel der Elemente« 1. Philharmonisches Konzert
DESCRIPTION:
URL:https://glocke.whitebox-dev.de/event/bremer-philharmoniker-spiel-der-elemente-1-philharmonisches-konzert-2/
LOCATION:Großer Saal\, Germany
CATEGORIES:Allgemeine
ATTACH;FMTTYPE=image/jpeg:https://glocke.whitebox-dev.de/wp-content/uploads/2022/07/William-Barton-_foto-Keith-Saunders_sw-scaled.jpg
ORGANIZER;CN="Bremer Philharmoniker GmbH":MAILTO:info@bremerphilharmoniker.de
END:VEVENT
BEGIN:VEVENT
DTSTART;TZID=Europe/Berlin:20221004T193000
DTEND;TZID=Europe/Berlin:20221004T213000
DTSTAMP:20260421T133055
CREATED:20220726T091008Z
LAST-MODIFIED:20221027T102702Z
UID:10001567-1664911800-1664919000@glocke.whitebox-dev.de
SUMMARY:Bremer Philharmoniker »Spiel der Elemente« 1. Philharmonisches Konzert
DESCRIPTION:
URL:https://glocke.whitebox-dev.de/event/bremer-philharmoniker-spiel-der-elemente-1-philharmonisches-konzert/
LOCATION:Großer Saal\, Germany
CATEGORIES:Allgemeine
ATTACH;FMTTYPE=image/jpeg:https://glocke.whitebox-dev.de/wp-content/uploads/2022/07/William-Barton-_foto-Keith-Saunders_sw-scaled.jpg
ORGANIZER;CN="Bremer Philharmoniker GmbH":MAILTO:info@bremerphilharmoniker.de
END:VEVENT
BEGIN:VEVENT
DTSTART;TZID=Europe/Berlin:20221005T180500
DTEND;TZID=Europe/Berlin:20221005T200000
DTSTAMP:20260421T133055
CREATED:20220726T090505Z
LAST-MODIFIED:20221027T102701Z
UID:10001565-1664993100-1665000000@glocke.whitebox-dev.de
SUMMARY:Bremer Philharmoniker »Didgeridoo und du …« 5nachsechs Afterwork Konzert
DESCRIPTION:
URL:https://glocke.whitebox-dev.de/event/bremer-philharmoniker-didgeridoo-und-du-5nachsechs-afterwork-konzert/
LOCATION:Großer Saal\, Germany
CATEGORIES:Allgemeine
ATTACH;FMTTYPE=image/jpeg:https://glocke.whitebox-dev.de/wp-content/uploads/2022/07/William-Barton-_foto-Keith-Saunders_sw-scaled.jpg
ORGANIZER;CN="Bremer Philharmoniker GmbH":MAILTO:info@bremerphilharmoniker.de
END:VEVENT
BEGIN:VEVENT
DTSTART;TZID=Europe/Berlin:20221005T200000
DTEND;TZID=Europe/Berlin:20221005T220000
DTSTAMP:20260421T133055
CREATED:20220726T090753Z
LAST-MODIFIED:20221027T102701Z
UID:10001566-1665000000-1665007200@glocke.whitebox-dev.de
SUMMARY:Martin Herzberg »Pure« Piano & Cello Tour 2022
DESCRIPTION:
URL:https://glocke.whitebox-dev.de/event/martin-herzberg-pure-piano-cello-tour-2022/
LOCATION:Kleiner Saal\, Germany
CATEGORIES:Allgemeine
ATTACH;FMTTYPE=image/jpeg:https://glocke.whitebox-dev.de/wp-content/uploads/2021/07/herzberg20_460.jpeg
ORGANIZER;CN="Headline Concerts":MAILTO:chrissy@headlineconcerts.de
END:VEVENT
BEGIN:VEVENT
DTSTART;TZID=Europe/Berlin:20221008T140000
DTEND;TZID=Europe/Berlin:20221008T153000
DTSTAMP:20260421T133055
CREATED:20220726T090014Z
LAST-MODIFIED:20221027T102701Z
UID:10001564-1665237600-1665243000@glocke.whitebox-dev.de
SUMMARY:Besucherführung
DESCRIPTION:
URL:https://glocke.whitebox-dev.de/event/besucherfuehrung/
LOCATION:Foyer
CATEGORIES:GLOCKE Backstage
ORGANIZER;CN="Glocke Veranstaltungs-GmbH":MAILTO:info@glocke.de
END:VEVENT
BEGIN:VEVENT
DTSTART;TZID=Europe/Berlin:20221008T200000
DTEND;TZID=Europe/Berlin:20221008T220000
DTSTAMP:20260421T133055
CREATED:20220721T134048Z
LAST-MODIFIED:20221027T102701Z
UID:10001563-1665259200-1665266400@glocke.whitebox-dev.de
SUMMARY:Klassische Philharmonie Bonn »Beethoven pur!« Wiener Klassik Konzert
DESCRIPTION:
URL:https://glocke.whitebox-dev.de/event/klassische-philharmonie-bonn-beethoven-pur-wiener-klassik-konzert/
LOCATION:Großer Saal\, Germany
CATEGORIES:Allgemeine
ATTACH;FMTTYPE=image/jpeg:https://glocke.whitebox-dev.de/wp-content/uploads/2022/07/Orchesterbild1_wiener-klassik-1000.jpg
ORGANIZER;CN="Klassische Philharmonie Bonn":MAILTO:info@klassische-philharmonie-bonn.de
END:VEVENT
BEGIN:VEVENT
DTSTART;TZID=Europe/Berlin:20221009T183000
DTEND;TZID=Europe/Berlin:20221009T223000
DTSTAMP:20260421T133055
CREATED:20220920T153941Z
LAST-MODIFIED:20221027T102701Z
UID:10001581-1665340200-1665354600@glocke.whitebox-dev.de
SUMMARY:Lang Lang-Konzert Live-Übertragung auf den Domshof
DESCRIPTION:
URL:https://glocke.whitebox-dev.de/event/lang-lang-konzert-live-uebertragung-auf-den-domshof/
LOCATION:Domshof\, Bremen
CATEGORIES:Allgemeine
ATTACH;FMTTYPE=image/jpeg:https://glocke.whitebox-dev.de/wp-content/uploads/2022/09/2020_Lang-Lang_2_cOlaf-Heine-e1663770902422.jpg
ORGANIZER;CN="Glocke Veranstaltungs-GmbH":MAILTO:info@glocke.de
END:VEVENT
BEGIN:VEVENT
DTSTART;TZID=Europe/Berlin:20221009T200000
DTEND;TZID=Europe/Berlin:20221009T220000
DTSTAMP:20260421T133055
CREATED:20220627T153717Z
LAST-MODIFIED:20221027T102701Z
UID:10001446-1665345600-1665352800@glocke.whitebox-dev.de
SUMMARY:Die Deutsche Kammerphilharmonie Bremen »Klavier- und andere Wunder«
DESCRIPTION:
URL:https://glocke.whitebox-dev.de/event/die-deutsche-kammerphilharmonie-bremen-klavier-und-andere-wunder/
LOCATION:Großer Saal\, Germany
CATEGORIES:Allgemeine
ATTACH;FMTTYPE=image/jpeg:https://glocke.whitebox-dev.de/wp-content/uploads/2022/06/2020_Lang-Lang_1_©Olaf-Heine-e1663771185557.jpg
ORGANIZER;CN="Die Deutsche Kammerphilharmonie Bremen":MAILTO:info@kammerphilharmonie.com
END:VEVENT
BEGIN:VEVENT
DTSTART;TZID=Europe/Berlin:20221011T200000
DTEND;TZID=Europe/Berlin:20221011T223000
DTSTAMP:20260421T133055
CREATED:20220121T121851Z
LAST-MODIFIED:20221027T102700Z
UID:10001150-1665518400-1665527400@glocke.whitebox-dev.de
SUMMARY:Reinhold Messner »Nanga Parbat – mein Schicksalsberg«
DESCRIPTION:
URL:https://glocke.whitebox-dev.de/event/reinhold-messner-nanga-parbat-mein-schicksalsberg-2/
LOCATION:Großer Saal\, Germany
CATEGORIES:Allgemeine
ATTACH;FMTTYPE=image/jpeg:https://glocke.whitebox-dev.de/wp-content/uploads/2021/11/w1176_h662_x798_y401_Portrait_RM_Foto_Buero_Messner.jpg-9f6f40982a34cfef.jpeg
END:VEVENT
BEGIN:VEVENT
DTSTART;TZID=Europe/Berlin:20221012T200000
DTEND;TZID=Europe/Berlin:20221012T223000
DTSTAMP:20260421T133055
CREATED:20211214T183435Z
LAST-MODIFIED:20221027T102700Z
UID:10001088-1665604800-1665613800@glocke.whitebox-dev.de
SUMMARY:Kurt Krömer »Die Gönnung steigt«
DESCRIPTION:
URL:https://glocke.whitebox-dev.de/event/kurt-kroemer-die-goennung-steigt/
LOCATION:Großer Saal\, Germany
CATEGORIES:Allgemeine
ATTACH;FMTTYPE=image/jpeg:https://glocke.whitebox-dev.de/wp-content/uploads/2021/12/Kurt-Kroemer_Foto_Urban-Zintel_01-e1639504485935.jpg
ORGANIZER;CN="REVUE Gesellschaft f%C3%BCr Konzerte und Veranstaltungen mbH":MAILTO:info@revue-online.de
END:VEVENT
BEGIN:VEVENT
DTSTART;TZID=Europe/Berlin:20221014T200000
DTEND;TZID=Europe/Berlin:20221014T223000
DTSTAMP:20260421T133055
CREATED:20220209T171016Z
LAST-MODIFIED:20230306T151120Z
UID:10001371-1665777600-1665786600@glocke.whitebox-dev.de
SUMMARY:Chilly Gonzales »Tour 2022«
DESCRIPTION:
URL:https://glocke.whitebox-dev.de/event/chilly-gonzales-tour-2022/
LOCATION:Großer Saal\, Germany
CATEGORIES:GLOCKE Spezial
ATTACH;FMTTYPE=image/jpeg:https://glocke.whitebox-dev.de/wp-content/uploads/2022/09/Chilly-Gonzalesc2020-ANKA9653-Edit-e1702997625613.jpg
ORGANIZER;CN="Glocke Veranstaltungs-GmbH":MAILTO:info@glocke.de
END:VEVENT
BEGIN:VEVENT
DTSTART;TZID=Europe/Berlin:20221015T200000
DTEND;TZID=Europe/Berlin:20221015T223000
DTSTAMP:20260421T133055
CREATED:20220131T115036Z
LAST-MODIFIED:20221027T102700Z
UID:10001357-1665864000-1665873000@glocke.whitebox-dev.de
SUMMARY:Klaus Hoffmann & Band »Septemberherz«-Tour
DESCRIPTION:
URL:https://glocke.whitebox-dev.de/event/klaus-hoffmann-band-septemberherz-tour/
LOCATION:Großer Saal\, Germany
CATEGORIES:Allgemeine
END:VEVENT
BEGIN:VEVENT
DTSTART;TZID=Europe/Berlin:20221016T193000
DTEND;TZID=Europe/Berlin:20221016T213000
DTSTAMP:20260421T133055
CREATED:20220721T133749Z
LAST-MODIFIED:20221027T102700Z
UID:10001562-1665948600-1665955800@glocke.whitebox-dev.de
SUMMARY:Marmen Quartett 2. Philharmonisches Kammerkonzert
DESCRIPTION:
URL:https://glocke.whitebox-dev.de/event/marmen-quartett-2-philharmonisches-kammerkonzert/
LOCATION:Kleiner Saal\, Germany
CATEGORIES:Allgemeine
ATTACH;FMTTYPE=image/jpeg:https://glocke.whitebox-dev.de/wp-content/uploads/2022/07/2-Kammerkonzert.jpg
ORGANIZER;CN="Philharmonische Gesellschaft Bremen":MAILTO:info@phg-bremen.de
END:VEVENT
BEGIN:VEVENT
DTSTART;TZID=Europe/Berlin:20221016T200000
DTEND;TZID=Europe/Berlin:20221016T223000
DTSTAMP:20260421T133055
CREATED:20211214T181015Z
LAST-MODIFIED:20221027T102700Z
UID:10001252-1665950400-1665959400@glocke.whitebox-dev.de
SUMMARY:Joja Wendt
DESCRIPTION:
URL:https://glocke.whitebox-dev.de/event/joja-wendt/
LOCATION:Großer Saal\, Germany
CATEGORIES:Allgemeine
ATTACH;FMTTYPE=image/jpeg:https://glocke.whitebox-dev.de/wp-content/uploads/2021/12/wendt_joja_foto_christian_barz.jpg__1420x695_q85_crop_subject_location-1000667_subsampling-2_upscale-e1639505319382.jpg
ORGANIZER;CN="River Concerts GmbH":MAILTO:k.winter@riverconcerts.de
END:VEVENT
BEGIN:VEVENT
DTSTART;TZID=Europe/Berlin:20221019T200000
DTEND;TZID=Europe/Berlin:20221019T220000
DTSTAMP:20260421T133055
CREATED:20220721T133550Z
LAST-MODIFIED:20221027T102700Z
UID:10001561-1666209600-1666216800@glocke.whitebox-dev.de
SUMMARY:»Tango en concierto«
DESCRIPTION:
URL:https://glocke.whitebox-dev.de/event/tango-en-concierto/
LOCATION:Kleiner Saal\, Germany
CATEGORIES:Allgemeine
ATTACH;FMTTYPE=image/jpeg:https://glocke.whitebox-dev.de/wp-content/uploads/2022/07/Quinteto_Tangopianissimo_1400.jpg
ORGANIZER;CN="Tangopianissimo GbR":MAILTO:fernandobruguera@yahoo.com.ar
END:VEVENT
BEGIN:VEVENT
DTSTART;TZID=Europe/Berlin:20221020T200000
DTEND;TZID=Europe/Berlin:20221020T223000
DTSTAMP:20260421T133055
CREATED:20211214T181649Z
LAST-MODIFIED:20221027T102659Z
UID:10001083-1666296000-1666305000@glocke.whitebox-dev.de
SUMMARY:Konstantin Wecker Jubiläumstour »Ich singe\, weil ich ein Lied hab'«
DESCRIPTION:
URL:https://glocke.whitebox-dev.de/event/konstantin-wecker-jubilaeumstour-ich-singe-weil-ich-ein-lied-hab/
LOCATION:Großer Saal\, Germany
CATEGORIES:Allgemeine
ATTACH;FMTTYPE=image/jpeg:https://glocke.whitebox-dev.de/wp-content/uploads/2021/12/rb_20190303_konstantin_wecker-5.jpg
ORGANIZER;CN="MSK Events GmbH":MAILTO:info@msk-live.de
END:VEVENT
BEGIN:VEVENT
DTSTART;TZID=Europe/Berlin:20221021T200000
DTEND;TZID=Europe/Berlin:20221021T223000
DTSTAMP:20260421T133055
CREATED:20211214T182827Z
LAST-MODIFIED:20221027T101640Z
UID:10001085-1666382400-1666391400@glocke.whitebox-dev.de
SUMMARY:Das RILKE Projekt: Jubiläumstour »das ist die SEHNSUCHT«
DESCRIPTION:
URL:https://glocke.whitebox-dev.de/event/das-rilke-projekt-jubilaeumstour-das-ist-die-sehnsucht/
LOCATION:Großer Saal\, Germany
CATEGORIES:Allgemeine
ATTACH;FMTTYPE=image/jpeg:https://glocke.whitebox-dev.de/wp-content/uploads/2021/12/Rilke-Projekt.jpg
ORGANIZER;CN="MEWES Entertainment Group GmbH":MAILTO:info@kuenstlershow.de
END:VEVENT
BEGIN:VEVENT
DTSTART;TZID=Europe/Berlin:20221023T190000
DTEND;TZID=Europe/Berlin:20221023T210000
DTSTAMP:20260421T133055
CREATED:20220721T133209Z
LAST-MODIFIED:20221027T101640Z
UID:10001560-1666551600-1666558800@glocke.whitebox-dev.de
SUMMARY:International Youth Symphony Orchestra Bremen (IYSO Bremen)
DESCRIPTION:
URL:https://glocke.whitebox-dev.de/event/international-youth-symphony-orchestra-bremen-iyso-bremen/
LOCATION:Großer Saal\, Germany
CATEGORIES:GLOCKE Sonderkonzert
ATTACH;FMTTYPE=image/jpeg:https://glocke.whitebox-dev.de/wp-content/uploads/2022/07/20171008_IYSO_Glocke011-1000.jpg
ORGANIZER;CN="Glocke Veranstaltungs-GmbH":MAILTO:info@glocke.de
END:VEVENT
BEGIN:VEVENT
DTSTART;TZID=Europe/Berlin:20221025T100000
DTEND;TZID=Europe/Berlin:20221025T130000
DTSTAMP:20260421T133055
CREATED:20220721T132502Z
LAST-MODIFIED:20230527T101846Z
UID:10001559-1666692000-1666702800@glocke.whitebox-dev.de
SUMMARY:»Klassik – hinter den Kulissen!«
DESCRIPTION:
URL:https://glocke.whitebox-dev.de/event/klassik-hinter-den-kulissen-2/
LOCATION:Foyer
CATEGORIES:GLOCKE Ferienprogramm
ATTACH;FMTTYPE=image/jpeg:https://glocke.whitebox-dev.de/wp-content/uploads/2022/01/FP-Herbst_c-mark-bollhorst.jpg
ORGANIZER;CN="Glocke Veranstaltungs-GmbH":MAILTO:info@glocke.de
END:VEVENT
BEGIN:VEVENT
DTSTART;TZID=Europe/Berlin:20221026T100000
DTEND;TZID=Europe/Berlin:20221026T130000
DTSTAMP:20260421T133055
CREATED:20220721T132309Z
LAST-MODIFIED:20230527T101858Z
UID:10001558-1666778400-1666789200@glocke.whitebox-dev.de
SUMMARY:»Klassik – hinter den Kulissen!«
DESCRIPTION:
URL:https://glocke.whitebox-dev.de/event/klassik-hinter-den-kulissen/
LOCATION:Foyer
CATEGORIES:GLOCKE Ferienprogramm
ATTACH;FMTTYPE=image/jpeg:https://glocke.whitebox-dev.de/wp-content/uploads/2022/01/FP-Herbst_c-mark-bollhorst.jpg
ORGANIZER;CN="Glocke Veranstaltungs-GmbH":MAILTO:info@glocke.de
END:VEVENT
BEGIN:VEVENT
DTSTART;TZID=Europe/Berlin:20221027T200000
DTEND;TZID=Europe/Berlin:20221027T223000
DTSTAMP:20260421T133055
CREATED:20211214T184552Z
LAST-MODIFIED:20221019T153802Z
UID:10001090-1666900800-1666909800@glocke.whitebox-dev.de
SUMMARY:Michelle »30 Jahre\, das war’s … noch nicht!«
DESCRIPTION:
URL:https://glocke.whitebox-dev.de/event/michelle-30-jahre-das-wars-noch-nicht/
LOCATION:Großer Saal\, Germany
CATEGORIES:Allgemeine
ATTACH;FMTTYPE=image/jpeg:https://glocke.whitebox-dev.de/wp-content/uploads/2021/12/Michelle-e1639507517708.jpg
ORGANIZER;CN="MAWI Concert Konzertagentur GmbH":MAILTO:info@mawi-concert.de
END:VEVENT
BEGIN:VEVENT
DTSTART;TZID=Europe/Berlin:20221028T193000
DTEND;TZID=Europe/Berlin:20221028T213000
DTSTAMP:20260421T133055
CREATED:20220721T131938Z
LAST-MODIFIED:20221012T142838Z
UID:10001557-1666985400-1666992600@glocke.whitebox-dev.de
SUMMARY:»75 Jahre Land Bremen – ein Festkonzert für alle!«
DESCRIPTION:
URL:https://glocke.whitebox-dev.de/event/75-jahre-land-bremen-ein-festkonzert-fuer-alle/
LOCATION:Großer Saal\, Germany
CATEGORIES:Allgemeine
ORGANIZER;CN="Freie Hansestadt Bremen%2C Senatskanzlei":MAILTO:protokollabteilung@sk.bremen.de
END:VEVENT
BEGIN:VEVENT
DTSTART;TZID=Europe/Berlin:20221029T184500
DTEND;TZID=Europe/Berlin:20221029T220000
DTSTAMP:20260421T133055
CREATED:20220628T194456Z
LAST-MODIFIED:20221121T163524Z
UID:10001456-1667069100-1667080800@glocke.whitebox-dev.de
SUMMARY:Kammerensemble Konsonanz 16 Jahreszeiten - Klänge von gestern\, heute und morgen (Teil I bis IV)
DESCRIPTION:
URL:https://glocke.whitebox-dev.de/event/kammerensemble-konsonanz-16-jahreszeiten-klaenge-von-gestern-heute-und-morgen-teil-i-bis-iv-3/
LOCATION:Kleiner Saal\, Germany
CATEGORIES:Allgemeine
ATTACH;FMTTYPE=image/jpeg:https://glocke.whitebox-dev.de/wp-content/uploads/2022/06/Uncertain-Four-Seasons_Konsonanz_c_Claudia-Beisswanger-102.jpg
ORGANIZER;CN="Kammerensemble Konsonanz":MAILTO:info@konsonanz.com
END:VEVENT
BEGIN:VEVENT
DTSTART;TZID=Europe/Berlin:20221030T150000
DTEND;TZID=Europe/Berlin:20221030T170000
DTSTAMP:20260421T133055
CREATED:20220721T131451Z
LAST-MODIFIED:20220914T132403Z
UID:10001555-1667142000-1667149200@glocke.whitebox-dev.de
SUMMARY:musica viva »Orchesterkonzert«
DESCRIPTION:
URL:https://glocke.whitebox-dev.de/event/musica-viva-orchesterkonzert-2/
LOCATION:Großer Saal\, Germany
CATEGORIES:Allgemeine
ORGANIZER;CN="Nicolas Hrudnik Konzertveranstaltungen":MAILTO:info@musicaviva.de
END:VEVENT
BEGIN:VEVENT
DTSTART;TZID=Europe/Berlin:20221030T190000
DTEND;TZID=Europe/Berlin:20221030T210000
DTSTAMP:20260421T133055
CREATED:20220721T131555Z
LAST-MODIFIED:20220914T132630Z
UID:10001556-1667156400-1667163600@glocke.whitebox-dev.de
SUMMARY:musica viva »Orchesterkonzert«
DESCRIPTION:
URL:https://glocke.whitebox-dev.de/event/musica-viva-orchesterkonzert-3/
LOCATION:Großer Saal\, Germany
CATEGORIES:Allgemeine
ORGANIZER;CN="Nicolas Hrudnik Konzertveranstaltungen":MAILTO:info@musicaviva.de
END:VEVENT
BEGIN:VEVENT
DTSTART;TZID=Europe/Berlin:20221031T163000
DTEND;TZID=Europe/Berlin:20221031T183000
DTSTAMP:20260421T133055
CREATED:20220721T130854Z
LAST-MODIFIED:20220729T153923Z
UID:10001554-1667233800-1667241000@glocke.whitebox-dev.de
SUMMARY:Feuerwehrmann Sam LIVE! »Der verlorene Piratenschatz«
DESCRIPTION:
URL:https://glocke.whitebox-dev.de/event/feuerwehrmann-sam-live-der-verlorene-piratenschatz/
LOCATION:Großer Saal\, Germany
CATEGORIES:Allgemeine
ATTACH;FMTTYPE=image/jpeg:https://glocke.whitebox-dev.de/wp-content/uploads/2022/07/Sam_Live2022_c_Wim_Lanser.jpg
ORGANIZER;CN="Go 2 - Convent GmbH":MAILTO:info@go-2.eu
END:VEVENT
END:VCALENDAR