BEGIN:VCALENDAR
VERSION:2.0
PRODID:-//DIE GLOCKE | Das Bremer Konzerthaus - ECPv6.6.3//NONSGML v1.0//EN
CALSCALE:GREGORIAN
METHOD:PUBLISH
X-WR-CALNAME:DIE GLOCKE | Das Bremer Konzerthaus
X-ORIGINAL-URL:https://glocke.whitebox-dev.de
X-WR-CALDESC:Veranstaltungen für DIE GLOCKE | Das Bremer Konzerthaus
REFRESH-INTERVAL;VALUE=DURATION:PT1H
X-Robots-Tag:noindex
X-PUBLISHED-TTL:PT1H
BEGIN:VTIMEZONE
TZID:Europe/Berlin
BEGIN:DAYLIGHT
TZOFFSETFROM:+0100
TZOFFSETTO:+0200
TZNAME:CEST
DTSTART:20220327T010000
END:DAYLIGHT
BEGIN:STANDARD
TZOFFSETFROM:+0200
TZOFFSETTO:+0100
TZNAME:CET
DTSTART:20221030T010000
END:STANDARD
END:VTIMEZONE
BEGIN:VEVENT
DTSTART;TZID=Europe/Berlin:20221101T200000
DTEND;TZID=Europe/Berlin:20221101T223000
DTSTAMP:20260421T123108
CREATED:20220322T164248Z
LAST-MODIFIED:20221109T103019Z
UID:10001168-1667332800-1667341800@glocke.whitebox-dev.de
SUMMARY:»Beethoven meets Jazz«
DESCRIPTION:
URL:https://glocke.whitebox-dev.de/event/beethoven-meets-jazz/
LOCATION:Großer Saal\, Germany
CATEGORIES:Allgemeine
ORGANIZER;CN="Hochschule f%C3%BCr K%C3%BCnste Bremen%2C Fachbereichsverwaltung Musik":MAILTO:kbb-musik@hfk-bremen.de
END:VEVENT
BEGIN:VEVENT
DTSTART;TZID=Europe/Berlin:20221102T093000
DTEND;TZID=Europe/Berlin:20221102T100000
DTSTAMP:20260421T123108
CREATED:20220721T130215Z
LAST-MODIFIED:20221109T103342Z
UID:10001553-1667381400-1667383200@glocke.whitebox-dev.de
SUMMARY:Ensemble Planetaris
DESCRIPTION:
URL:https://glocke.whitebox-dev.de/event/ensemble-planetaris-2/
LOCATION:Kleiner Saal\, Germany
CATEGORIES:GLOCKE Sitzkissenkonzert
ATTACH;FMTTYPE=image/jpeg:https://glocke.whitebox-dev.de/wp-content/uploads/2022/07/Ensemble-Planetaris-©-Ensemble-Planetaris.jpg
ORGANIZER;CN="Glocke Veranstaltungs-GmbH":MAILTO:info@glocke.de
END:VEVENT
BEGIN:VEVENT
DTSTART;TZID=Europe/Berlin:20221102T113000
DTEND;TZID=Europe/Berlin:20221102T123000
DTSTAMP:20260421T123109
CREATED:20220721T125739Z
LAST-MODIFIED:20220915T145919Z
UID:10001552-1667388600-1667392200@glocke.whitebox-dev.de
SUMMARY:Ensemble Planetaris
DESCRIPTION:
URL:https://glocke.whitebox-dev.de/event/ensemble-planetaris/
LOCATION:Kleiner Saal\, Germany
CATEGORIES:GLOCKE Sitzkissenkonzert
ATTACH;FMTTYPE=image/jpeg:https://glocke.whitebox-dev.de/wp-content/uploads/2022/07/Ensemble-Planetaris-©-Ensemble-Planetaris.jpg
ORGANIZER;CN="Glocke Veranstaltungs-GmbH":MAILTO:info@glocke.de
END:VEVENT
BEGIN:VEVENT
DTSTART;TZID=Europe/Berlin:20221103T193000
DTEND;TZID=Europe/Berlin:20221103T213000
DTSTAMP:20260421T123109
CREATED:20220721T125308Z
LAST-MODIFIED:20221109T103825Z
UID:10001551-1667503800-1667511000@glocke.whitebox-dev.de
SUMMARY:Philharmonische Gesellschaft 3. Philharmonisches Kammerkonzert
DESCRIPTION:
URL:https://glocke.whitebox-dev.de/event/philharmonische-gesellschaft-3-philharmonisches-kammerkonzert/
LOCATION:Kleiner Saal\, Germany
CATEGORIES:Allgemeine
ATTACH;FMTTYPE=image/jpeg:https://glocke.whitebox-dev.de/wp-content/uploads/2022/07/3-Kammerkonzert.jpg
ORGANIZER;CN="Philharmonische Gesellschaft Bremen":MAILTO:info@phg-bremen.de
END:VEVENT
BEGIN:VEVENT
DTSTART;TZID=Europe/Berlin:20221104T200000
DTEND;TZID=Europe/Berlin:20221104T223000
DTSTAMP:20260421T123109
CREATED:20220614T160157Z
LAST-MODIFIED:20221109T104047Z
UID:10001432-1667592000-1667601000@glocke.whitebox-dev.de
SUMMARY:Ray Chen & Eric Jacobsen »The Kreutzer Project« 2. Meisterkonzert
DESCRIPTION:
URL:https://glocke.whitebox-dev.de/event/ray-chen-eric-jacobsen-the-kreutzer-project-2-meisterkonzert/
LOCATION:Großer Saal\, Germany
CATEGORIES:Allgemeine
ATTACH;FMTTYPE=image/jpeg:https://glocke.whitebox-dev.de/wp-content/uploads/2022/06/Ray-Chen_c_Sebastian-Madej.jpg
ORGANIZER;CN="Konzertdirektion Dr. Rudolf Goette GmbH":MAILTO:info@goette.de
END:VEVENT
BEGIN:VEVENT
DTSTART;TZID=Europe/Berlin:20221105T140000
DTEND;TZID=Europe/Berlin:20221105T153000
DTSTAMP:20260421T123109
CREATED:20220920T133102Z
LAST-MODIFIED:20221015T133015Z
UID:10001579-1667656800-1667662200@glocke.whitebox-dev.de
SUMMARY:Besucherführung
DESCRIPTION:
URL:https://glocke.whitebox-dev.de/event/besucherfuehrung-3/
LOCATION:Foyer
CATEGORIES:GLOCKE Backstage
ORGANIZER;CN="Glocke Veranstaltungs-GmbH":MAILTO:info@glocke.de
END:VEVENT
BEGIN:VEVENT
DTSTART;TZID=Europe/Berlin:20221105T190000
DTEND;TZID=Europe/Berlin:20221105T213000
DTSTAMP:20260421T123109
CREATED:20211215T160518Z
LAST-MODIFIED:20221109T104224Z
UID:10001091-1667674800-1667683800@glocke.whitebox-dev.de
SUMMARY:Vladimir Mogilevsky Klavierabend: »Best of Chopin«
DESCRIPTION:
URL:https://glocke.whitebox-dev.de/event/vladimir-mogilevsky-klavierabend-best-of-chopin/
LOCATION:Kleiner Saal\, Germany
CATEGORIES:Allgemeine
ATTACH;FMTTYPE=image/jpeg:https://glocke.whitebox-dev.de/wp-content/uploads/2021/12/mogilevsky-foto9-2-2336x3504-11-scaled-e1639584165282.jpg
ORGANIZER;CN="WORLDofDINNER":MAILTO:info@worldofdinner.de
END:VEVENT
BEGIN:VEVENT
DTSTART;TZID=Europe/Berlin:20221106T110000
DTEND;TZID=Europe/Berlin:20221106T130000
DTSTAMP:20260421T123109
CREATED:20220721T124901Z
LAST-MODIFIED:20221109T104432Z
UID:10001269-1667732400-1667739600@glocke.whitebox-dev.de
SUMMARY:Bremer Philharmoniker »Spurensuche« 2. Philharmonisches Konzert
DESCRIPTION:
URL:https://glocke.whitebox-dev.de/event/bremer-philharmoniker-spurensuche-2-philharmonisches-konzert-2/
LOCATION:Großer Saal\, Germany
CATEGORIES:Allgemeine
ATTACH;FMTTYPE=image/jpeg:https://glocke.whitebox-dev.de/wp-content/uploads/2022/07/Markus-Poschner_5_Kaupo-Kikkas_sw-v2-scaled.jpg
ORGANIZER;CN="Bremer Philharmoniker GmbH":MAILTO:info@bremerphilharmoniker.de
END:VEVENT
BEGIN:VEVENT
DTSTART;TZID=Europe/Berlin:20221106T170000
DTEND;TZID=Europe/Berlin:20221106T203000
DTSTAMP:20260421T123109
CREATED:20220630T141846Z
LAST-MODIFIED:20221109T104546Z
UID:10001463-1667754000-1667766600@glocke.whitebox-dev.de
SUMMARY:»Chopin Piano« Sachiko Furuhata – Klavierabend
DESCRIPTION:
URL:https://glocke.whitebox-dev.de/event/chopin-piano-sachiko-furuhata-klavierabend/
LOCATION:Kleiner Saal\, Germany
CATEGORIES:Allgemeine
ATTACH;FMTTYPE=image/jpeg:https://glocke.whitebox-dev.de/wp-content/uploads/2022/02/EL9A1729_Quadrat-scaled-e1646661227687.jpg
ORGANIZER;CN="SF Music Promotion":MAILTO:sachiko.furuhata@googlemail.com
END:VEVENT
BEGIN:VEVENT
DTSTART;TZID=Europe/Berlin:20221107T193000
DTEND;TZID=Europe/Berlin:20221107T213000
DTSTAMP:20260421T123109
CREATED:20220721T124811Z
LAST-MODIFIED:20221109T104632Z
UID:10001267-1667849400-1667856600@glocke.whitebox-dev.de
SUMMARY:Bremer Philharmoniker »Spurensuche« 2. Philharmonisches Konzert
DESCRIPTION:
URL:https://glocke.whitebox-dev.de/event/bremer-philharmoniker-spurensuche-2-philharmonisches-konzert/
LOCATION:Großer Saal\, Germany
CATEGORIES:Allgemeine
ATTACH;FMTTYPE=image/jpeg:https://glocke.whitebox-dev.de/wp-content/uploads/2022/07/Markus-Poschner_5_Kaupo-Kikkas_sw-v2-scaled.jpg
ORGANIZER;CN="Bremer Philharmoniker GmbH":MAILTO:info@bremerphilharmoniker.de
END:VEVENT
BEGIN:VEVENT
DTSTART;TZID=Europe/Berlin:20221108T193000
DTEND;TZID=Europe/Berlin:20221108T223000
DTSTAMP:20260421T123109
CREATED:20221021T164509Z
LAST-MODIFIED:20221103T175621Z
UID:10001607-1667935800-1667946600@glocke.whitebox-dev.de
SUMMARY:»Schlachtfest« – 3000 Jahre Theater in einer Show von und mit Robert Griess
DESCRIPTION:
URL:https://glocke.whitebox-dev.de/event/schlachtfest-3000-jahre-theater-in-einer-show-von-und-mit-robert-griess/
LOCATION:Kleiner Saal\, Germany
CATEGORIES:Allgemeine
ATTACH;FMTTYPE=image/jpeg:https://glocke.whitebox-dev.de/wp-content/uploads/2022/10/Insta-Quer-1.jpg
ORGANIZER;CN="Arbeitnehmerkammer Bremen":MAILTO:hein@arbeitnehmerkammer.de
END:VEVENT
BEGIN:VEVENT
DTSTART;TZID=Europe/Berlin:20221109T180500
DTEND;TZID=Europe/Berlin:20221109T200000
DTSTAMP:20260421T123109
CREATED:20220721T124605Z
LAST-MODIFIED:20221109T104954Z
UID:10001266-1668017100-1668024000@glocke.whitebox-dev.de
SUMMARY:Bremer Philharmoniker »Ein Hauch von Jazz« 5nachsechs Afterwork Konzert
DESCRIPTION:
URL:https://glocke.whitebox-dev.de/event/bremer-philharmoniker-ein-hauch-von-jazz-5nachsechs-afterwork-konzert/
LOCATION:Großer Saal\, Germany
CATEGORIES:Allgemeine
ATTACH;FMTTYPE=image/jpeg:https://glocke.whitebox-dev.de/wp-content/uploads/2022/07/Markus-Poschner_5_Kaupo-Kikkas_sw-v2-scaled.jpg
ORGANIZER;CN="Bremer Philharmoniker GmbH":MAILTO:info@bremerphilharmoniker.de
END:VEVENT
BEGIN:VEVENT
DTSTART;TZID=Europe/Berlin:20221110T200000
DTEND;TZID=Europe/Berlin:20221110T223000
DTSTAMP:20260421T123109
CREATED:20220905T114911Z
LAST-MODIFIED:20221109T105318Z
UID:10001573-1668110400-1668119400@glocke.whitebox-dev.de
SUMMARY:Die Deutsche Kammerphilharmonie Bremen »Einfach himmlisch«
DESCRIPTION:
URL:https://glocke.whitebox-dev.de/event/die-deutsche-kammerphilharmonie-bremen-einfach-himmlisch/
LOCATION:Großer Saal\, Germany
CATEGORIES:Allgemeine
ATTACH;FMTTYPE=image/jpeg:https://glocke.whitebox-dev.de/wp-content/uploads/2022/09/goerne-c-mariestaggat-dg-2000x1333-1-e1664988958841.jpg
ORGANIZER;CN="Die Deutsche Kammerphilharmonie Bremen":MAILTO:info@kammerphilharmonie.com
END:VEVENT
BEGIN:VEVENT
DTSTART;TZID=Europe/Berlin:20221111T200000
DTEND;TZID=Europe/Berlin:20221111T223000
DTSTAMP:20260421T123109
CREATED:20211215T161413Z
LAST-MODIFIED:20221109T105543Z
UID:10001093-1668196800-1668205800@glocke.whitebox-dev.de
SUMMARY:Götz Alsmann:  »L.I.E.B.E.«
DESCRIPTION:
URL:https://glocke.whitebox-dev.de/event/goetz-alsmann-l-i-e-b-e/
LOCATION:Großer Saal\, Germany
CATEGORIES:Allgemeine
ATTACH;FMTTYPE=image/jpeg:https://glocke.whitebox-dev.de/wp-content/uploads/2021/12/Goetz-Alsmann_Liebe_c-Jens-Koch.jpg
ORGANIZER;CN="Koopmann Concerts & Promotion GmbH & Co. KG":MAILTO:info@koopmann-concerts.de
END:VEVENT
BEGIN:VEVENT
DTSTART;TZID=Europe/Berlin:20221112T200000
DTEND;TZID=Europe/Berlin:20221112T220000
DTSTAMP:20260421T123109
CREATED:20220623T084602Z
LAST-MODIFIED:20220915T162221Z
UID:10001191-1668283200-1668290400@glocke.whitebox-dev.de
SUMMARY:Michael Wollny Trio
DESCRIPTION:
URL:https://glocke.whitebox-dev.de/event/michael-wollny-trio/
LOCATION:Großer Saal\, Germany
CATEGORIES:GLOCKE JAZZnights
ATTACH;FMTTYPE=image/jpeg:https://glocke.whitebox-dev.de/wp-content/uploads/2022/06/Michael-Wollny-Trio_1_c-Gregor-Hohenberg.jpg
ORGANIZER;CN="Glocke Veranstaltungs-GmbH":MAILTO:info@glocke.de
END:VEVENT
BEGIN:VEVENT
DTSTART;TZID=Europe/Berlin:20221113T190000
DTEND;TZID=Europe/Berlin:20221113T213000
DTSTAMP:20260421T123109
CREATED:20211215T180444Z
LAST-MODIFIED:20221109T110012Z
UID:10001261-1668366000-1668375000@glocke.whitebox-dev.de
SUMMARY:Orchester der Musikfreunde Bremen
DESCRIPTION:
URL:https://glocke.whitebox-dev.de/event/orchester-der-musikfreunde-bremen-3/
LOCATION:Großer Saal\, Germany
CATEGORIES:Allgemeine
ORGANIZER;CN="Orchester der Musikfreunde Bremen e.V.":MAILTO:vorstand@musikfreunde-bremen.de
END:VEVENT
BEGIN:VEVENT
DTSTART;TZID=Europe/Berlin:20221116T190000
DTEND;TZID=Europe/Berlin:20221116T220000
DTSTAMP:20260421T123109
CREATED:20211215T170010Z
LAST-MODIFIED:20221109T110257Z
UID:10001095-1668625200-1668636000@glocke.whitebox-dev.de
SUMMARY:Lex van Someren Tournee »Seelenzeit« 2022
DESCRIPTION:
URL:https://glocke.whitebox-dev.de/event/lex-van-someren-tournee-seelenzeit-2022/
LOCATION:Kleiner Saal\, Germany
CATEGORIES:Allgemeine
ATTACH;FMTTYPE=image/jpeg:https://glocke.whitebox-dev.de/wp-content/uploads/2021/12/Bild-Lex-WiH-in-1-MB-c30289ce-e1639587573939.jpg
ORGANIZER;CN="AYAM Visionary Art Productions":MAILTO:music@someren.de
END:VEVENT
BEGIN:VEVENT
DTSTART;TZID=Europe/Berlin:20221118T200000
DTEND;TZID=Europe/Berlin:20221118T223000
DTSTAMP:20260421T123109
CREATED:20211215T171407Z
LAST-MODIFIED:20221109T110422Z
UID:10001097-1668801600-1668810600@glocke.whitebox-dev.de
SUMMARY:Jan Garbarek Group feat. Trilok Gurtu »Live 2022«-Tour
DESCRIPTION:
URL:https://glocke.whitebox-dev.de/event/jan-garbarek-group-feat-trilok-gurtu-live-2022-tour/
LOCATION:Großer Saal\, Germany
CATEGORIES:Allgemeine
ATTACH;FMTTYPE=image/jpeg:https://glocke.whitebox-dev.de/wp-content/uploads/2021/12/001207157_p-e1639588210564.jpg
ORGANIZER;CN="Kulturetage gGmbH":MAILTO:info@kulturetage.de
END:VEVENT
BEGIN:VEVENT
DTSTART;TZID=Europe/Berlin:20221119T200000
DTEND;TZID=Europe/Berlin:20221119T220000
DTSTAMP:20260421T123109
CREATED:20220721T122814Z
LAST-MODIFIED:20221109T110536Z
UID:10001264-1668888000-1668895200@glocke.whitebox-dev.de
SUMMARY:Ana Moura
DESCRIPTION:
URL:https://glocke.whitebox-dev.de/event/ana-moura-2/
LOCATION:Großer Saal\, Germany
CATEGORIES:GLOCKE Spezial
ATTACH;FMTTYPE=image/jpeg:https://glocke.whitebox-dev.de/wp-content/uploads/2022/07/Ana_Moura-e1665152858336.jpg
ORGANIZER;CN="Glocke Veranstaltungs-GmbH":MAILTO:info@glocke.de
END:VEVENT
BEGIN:VEVENT
DTSTART;TZID=Europe/Berlin:20221123T200000
DTEND;TZID=Europe/Berlin:20221123T220000
DTSTAMP:20260421T123109
CREATED:20211214T154434Z
LAST-MODIFIED:20221109T110722Z
UID:10001228-1669233600-1669240800@glocke.whitebox-dev.de
SUMMARY:Klassik Radio Live in Concert 2022 »Die Nacht der Filmmusik«
DESCRIPTION:
URL:https://glocke.whitebox-dev.de/event/klassik-radio-live-in-concert-2022-die-nacht-der-filmmusik/
LOCATION:Großer Saal\, Germany
CATEGORIES:Allgemeine
ATTACH;FMTTYPE=image/jpeg:https://glocke.whitebox-dev.de/wp-content/uploads/2021/12/Klassik-Radio-Live-in-Concert_Buehnenbild_Carolin-Thiersch.jpg
ORGANIZER;CN="Euro Klassik GmbH":MAILTO:katja.marginter@klassikradio.de
END:VEVENT
BEGIN:VEVENT
DTSTART;TZID=Europe/Berlin:20221123T200000
DTEND;TZID=Europe/Berlin:20221123T223000
DTSTAMP:20260421T123109
CREATED:20220222T125148Z
LAST-MODIFIED:20221109T111343Z
UID:10001377-1669233600-1669242600@glocke.whitebox-dev.de
SUMMARY:Biyon Kattilathu »Weil jeder Tag besonders ist«
DESCRIPTION:
URL:https://glocke.whitebox-dev.de/event/biyon-kattilathu-weil-jeder-tag-besonders-ist-2/
LOCATION:Kleiner Saal\, Germany
CATEGORIES:Allgemeine
ATTACH;FMTTYPE=image/jpeg:https://glocke.whitebox-dev.de/wp-content/uploads/2021/12/Pressebild_Biyon-c-Kattilathu-1-scaled-1.jpg
ORGANIZER;CN="Konzertb%C3%BCro Augsburg GmbH":MAILTO:info@konzertbuero-augsburg.de
END:VEVENT
BEGIN:VEVENT
DTSTART;TZID=Europe/Berlin:20221125T200000
DTEND;TZID=Europe/Berlin:20221125T223000
DTSTAMP:20260421T123109
CREATED:20220905T115420Z
LAST-MODIFIED:20221005T165756Z
UID:10001574-1669406400-1669415400@glocke.whitebox-dev.de
SUMMARY:Die Deutsche Kammerphilharmonie Bremen »Mit Pauken und Trompeten«
DESCRIPTION:
URL:https://glocke.whitebox-dev.de/event/die-deutsche-kammerphilharmonie-bremen-mit-pauken-und-trompeten/
LOCATION:Großer Saal\, Germany
CATEGORIES:Allgemeine
ATTACH;FMTTYPE=image/jpeg:https://glocke.whitebox-dev.de/wp-content/uploads/2021/11/Paavo-Jaervi_c-Julia-Baier-e1636460869657.jpg
ORGANIZER;CN="Die Deutsche Kammerphilharmonie Bremen":MAILTO:info@kammerphilharmonie.com
END:VEVENT
BEGIN:VEVENT
DTSTART;TZID=Europe/Berlin:20221126T110000
DTEND;TZID=Europe/Berlin:20221126T170000
DTSTAMP:20260421T123109
CREATED:20221107T142440Z
LAST-MODIFIED:20221107T163218Z
UID:10001320-1669460400-1669482000@glocke.whitebox-dev.de
SUMMARY:Lions Adventsmarkt »Bremer Lions helfen Bremer Kindern«
DESCRIPTION:
URL:https://glocke.whitebox-dev.de/event/lions-adventsmarkt-bremer-lions-helfen-bremer-kindern/
LOCATION:Foyer
CATEGORIES:Allgemeine
ORGANIZER;CN="Lions F%C3%B6rderverein Bremen Auguste Kirchhoff e.V.":MAILTO:tatjana.vollers@yahoo.de
END:VEVENT
BEGIN:VEVENT
DTSTART;TZID=Europe/Berlin:20221128T193000
DTEND;TZID=Europe/Berlin:20221128T213000
DTSTAMP:20260421T123109
CREATED:20220721T121636Z
LAST-MODIFIED:20220916T155211Z
UID:10001262-1669663800-1669671000@glocke.whitebox-dev.de
SUMMARY:Bremer Philharmoniker »Fantastische Metamorphosen« 3. Philharmonisches Konzert
DESCRIPTION:
URL:https://glocke.whitebox-dev.de/event/bremer-philharmoniker-fantastische-metamorphosen-3-philharmonisches-konzert-2/
LOCATION:Großer Saal\, Germany
CATEGORIES:Allgemeine
ATTACH;FMTTYPE=image/jpeg:https://glocke.whitebox-dev.de/wp-content/uploads/2022/07/Clara-Jumi-Kang17-c-Marco-Borggreve_1000.jpg
ORGANIZER;CN="Bremer Philharmoniker GmbH":MAILTO:info@bremerphilharmoniker.de
END:VEVENT
BEGIN:VEVENT
DTSTART;TZID=Europe/Berlin:20221129T193000
DTEND;TZID=Europe/Berlin:20221129T213000
DTSTAMP:20260421T123109
CREATED:20220721T121535Z
LAST-MODIFIED:20220916T155144Z
UID:10001260-1669750200-1669757400@glocke.whitebox-dev.de
SUMMARY:Bremer Philharmoniker »Fantastische Metamorphosen« 3. Philharmonisches Konzert
DESCRIPTION:
URL:https://glocke.whitebox-dev.de/event/bremer-philharmoniker-fantastische-metamorphosen-3-philharmonisches-konzert/
LOCATION:Großer Saal\, Germany
CATEGORIES:Allgemeine
ATTACH;FMTTYPE=image/jpeg:https://glocke.whitebox-dev.de/wp-content/uploads/2022/07/Clara-Jumi-Kang17-c-Marco-Borggreve_1000.jpg
ORGANIZER;CN="Bremer Philharmoniker GmbH":MAILTO:info@bremerphilharmoniker.de
END:VEVENT
BEGIN:VEVENT
DTSTART;TZID=Europe/Berlin:20221130T180500
DTEND;TZID=Europe/Berlin:20221130T190000
DTSTAMP:20260421T123109
CREATED:20220721T120846Z
LAST-MODIFIED:20221109T111707Z
UID:10001259-1669831500-1669834800@glocke.whitebox-dev.de
SUMMARY:Bremer Philharmoniker »Weihnachtsleuchten« 5nachsechs Afterwork Konzert
DESCRIPTION:
URL:https://glocke.whitebox-dev.de/event/bremer-philharmoniker-weihnachtsleuchten-5nachsechs-afterwork-konzert/
LOCATION:Großer Saal\, Germany
CATEGORIES:Allgemeine
ATTACH;FMTTYPE=image/jpeg:https://glocke.whitebox-dev.de/wp-content/uploads/2022/07/Zoe-ZeniodiStavrosHabakis-3a_sw-v2-scaled.jpg
ORGANIZER;CN="Bremer Philharmoniker GmbH":MAILTO:info@bremerphilharmoniker.de
END:VEVENT
END:VCALENDAR